BEGIN:VCALENDAR
VERSION:2.0
PRODID:-//A Caring Center For Women - ECPv6.15.20//NONSGML v1.0//EN
CALSCALE:GREGORIAN
METHOD:PUBLISH
X-WR-CALNAME:A Caring Center For Women
X-ORIGINAL-URL:https://772foryou.org
X-WR-CALDESC:Events for A Caring Center For Women
REFRESH-INTERVAL;VALUE=DURATION:PT1H
X-Robots-Tag:noindex
X-PUBLISHED-TTL:PT1H
BEGIN:VTIMEZONE
TZID:America/New_York
BEGIN:DAYLIGHT
TZOFFSETFROM:-0500
TZOFFSETTO:-0400
TZNAME:EDT
DTSTART:20230312T070000
END:DAYLIGHT
BEGIN:STANDARD
TZOFFSETFROM:-0400
TZOFFSETTO:-0500
TZNAME:EST
DTSTART:20231105T060000
END:STANDARD
BEGIN:DAYLIGHT
TZOFFSETFROM:-0500
TZOFFSETTO:-0400
TZNAME:EDT
DTSTART:20240310T070000
END:DAYLIGHT
BEGIN:STANDARD
TZOFFSETFROM:-0400
TZOFFSETTO:-0500
TZNAME:EST
DTSTART:20241103T060000
END:STANDARD
BEGIN:DAYLIGHT
TZOFFSETFROM:-0500
TZOFFSETTO:-0400
TZNAME:EDT
DTSTART:20250309T070000
END:DAYLIGHT
BEGIN:STANDARD
TZOFFSETFROM:-0400
TZOFFSETTO:-0500
TZNAME:EST
DTSTART:20251102T060000
END:STANDARD
END:VTIMEZONE
BEGIN:VEVENT
DTSTART;TZID=America/New_York:20240423T170000
DTEND;TZID=America/New_York:20240423T183000
DTSTAMP:20260419T160412
CREATED:20240325T160931Z
LAST-MODIFIED:20240422T174114Z
UID:10005888-1713891600-1713897000@772foryou.org
SUMMARY:DadUp
DESCRIPTION:DadUp is a fatherhood initiative that empowers fathers/father figures to establish\, re-establish or strengthen the relationship between their children and themselves. In addition to weekly group and one on one sessions\, DadUp offers free information\, resources and other support  services to expectant and new dads. \nWeekly session group starts 5:00pm-5:30pm refreshments served; 5:30pm-6:30pm group session. \nRSVP REQUIRED – To speak with the fatherhood program director\, Shamus Gordon\, text or call at 772-282-8407.
URL:https://772foryou.org/classes/dadup-7/
ATTACH;FMTTYPE=image/jpeg:https://772foryou.org/wp-content/uploads/2022/12/child-development-15-18-months.jpg
END:VEVENT
END:VCALENDAR