BEGIN:VCALENDAR
VERSION:2.0
PRODID:-//A Caring Center For Women - ECPv6.15.20//NONSGML v1.0//EN
CALSCALE:GREGORIAN
METHOD:PUBLISH
X-ORIGINAL-URL:https://772foryou.org
X-WR-CALDESC:Events for A Caring Center For Women
REFRESH-INTERVAL;VALUE=DURATION:PT1H
X-Robots-Tag:noindex
X-PUBLISHED-TTL:PT1H
BEGIN:VTIMEZONE
TZID:America/New_York
BEGIN:DAYLIGHT
TZOFFSETFROM:-0500
TZOFFSETTO:-0400
TZNAME:EDT
DTSTART:20230312T070000
END:DAYLIGHT
BEGIN:STANDARD
TZOFFSETFROM:-0400
TZOFFSETTO:-0500
TZNAME:EST
DTSTART:20231105T060000
END:STANDARD
BEGIN:DAYLIGHT
TZOFFSETFROM:-0500
TZOFFSETTO:-0400
TZNAME:EDT
DTSTART:20240310T070000
END:DAYLIGHT
BEGIN:STANDARD
TZOFFSETFROM:-0400
TZOFFSETTO:-0500
TZNAME:EST
DTSTART:20241103T060000
END:STANDARD
BEGIN:DAYLIGHT
TZOFFSETFROM:-0500
TZOFFSETTO:-0400
TZNAME:EDT
DTSTART:20250309T070000
END:DAYLIGHT
BEGIN:STANDARD
TZOFFSETFROM:-0400
TZOFFSETTO:-0500
TZNAME:EST
DTSTART:20251102T060000
END:STANDARD
END:VTIMEZONE
BEGIN:VEVENT
DTSTART;TZID=America/New_York:20240104T170000
DTEND;TZID=America/New_York:20240104T190000
DTSTAMP:20260419T210142
CREATED:20231205T213103Z
LAST-MODIFIED:20240417T181902Z
UID:10005746-1704387600-1704394800@772foryou.org
SUMMARY:DadUp
DESCRIPTION:DadUp is a fatherhood initiative that empowers fathers/ father figures to establish\, re-establish or strengthen the relationship between their children & themselves. In addition to weekly group & 1 on 1 sessions\, DadUp offers the information\, resources & other support services to expectant & new dads. \nWeekly session group starts at 5:00pm-5:30pm refreshment served; 5:30pm-7:00pm group session. \nCall to reserve your spot for the Thursday group or to speak with the Fatherhood Program Director\, Shamus Gordon\, text or call at 772-282-8407.
URL:https://772foryou.org/classes/dadup-5/
END:VEVENT
END:VCALENDAR