BEGIN:VCALENDAR
VERSION:2.0
PRODID:-//A Caring Center For Women - ECPv6.15.20//NONSGML v1.0//EN
CALSCALE:GREGORIAN
METHOD:PUBLISH
X-ORIGINAL-URL:https://772foryou.org
X-WR-CALDESC:Events for A Caring Center For Women
REFRESH-INTERVAL;VALUE=DURATION:PT1H
X-Robots-Tag:noindex
X-PUBLISHED-TTL:PT1H
BEGIN:VTIMEZONE
TZID:America/New_York
BEGIN:DAYLIGHT
TZOFFSETFROM:-0500
TZOFFSETTO:-0400
TZNAME:EDT
DTSTART:20240310T070000
END:DAYLIGHT
BEGIN:STANDARD
TZOFFSETFROM:-0400
TZOFFSETTO:-0500
TZNAME:EST
DTSTART:20241103T060000
END:STANDARD
BEGIN:DAYLIGHT
TZOFFSETFROM:-0500
TZOFFSETTO:-0400
TZNAME:EDT
DTSTART:20250309T070000
END:DAYLIGHT
BEGIN:STANDARD
TZOFFSETFROM:-0400
TZOFFSETTO:-0500
TZNAME:EST
DTSTART:20251102T060000
END:STANDARD
BEGIN:DAYLIGHT
TZOFFSETFROM:-0500
TZOFFSETTO:-0400
TZNAME:EDT
DTSTART:20260308T070000
END:DAYLIGHT
BEGIN:STANDARD
TZOFFSETFROM:-0400
TZOFFSETTO:-0500
TZNAME:EST
DTSTART:20261101T060000
END:STANDARD
END:VTIMEZONE
BEGIN:VEVENT
DTSTART;TZID=America/New_York:20251001T140000
DTEND;TZID=America/New_York:20251001T150000
DTSTAMP:20260420T081914
CREATED:20250923T220013Z
LAST-MODIFIED:20250923T220013Z
UID:10006859-1759327200-1759330800@772foryou.org
SUMMARY:Prenatal Care
DESCRIPTION:You’re pregnant\, and you have a lot to consider\, including car seats\, the nursery\, baby clothes\, and what brand of diapers you want to use. But the most important consideration right now is how you can take the best care of yourself and your developing baby. Your first step is setting up your prenatal care. In this video\, we will discuss prenatal care\, what you should expect at your prenatal checkups\, and why they are so important to keeping you and your baby healthy. Topics include: health conditions • gestational diabetes • blood pressure • OB-GYN • midwife and folic acid.
URL:https://772foryou.org/classes/prenatal-care-4/
ATTACH;FMTTYPE=image/jpeg:https://772foryou.org/wp-content/uploads/2022/09/1st-Trimester-1.jpg
END:VEVENT
BEGIN:VEVENT
DTSTART;TZID=America/New_York:20251006T150000
DTEND;TZID=America/New_York:20251006T160000
DTSTAMP:20260420T081914
CREATED:20250924T191114Z
LAST-MODIFIED:20250924T191114Z
UID:10006869-1759762800-1759766400@772foryou.org
SUMMARY:Getting Ready: Nesting
DESCRIPTION:In this video\, we will look at what nesting is and why it happens. Does it lead to labor\, or is it just an old wives’ tale? Before you get out your broom and mop\, let’s examine some safe ways to get your nesting mojo on—and when that mojo goes too far. Topics include: third trimester • nesting • energy levels • cleaning • organizing • cautions • baby’s room • baby equipment • making meals ahead • contact list • packing a hospital bag • overnight bag • longer-term bag • car seat.
URL:https://772foryou.org/classes/getting-ready-nesting-3/
ATTACH;FMTTYPE=image/jpeg:https://772foryou.org/wp-content/uploads/2022/10/pregnancy-nesting-.jpg
END:VEVENT
BEGIN:VEVENT
DTSTART;TZID=America/New_York:20251013T110000
DTEND;TZID=America/New_York:20251013T120000
DTSTAMP:20260420T081914
CREATED:20250925T203942Z
LAST-MODIFIED:20250925T203942Z
UID:10006888-1760353200-1760356800@772foryou.org
SUMMARY:Su Primer Trimestre
DESCRIPTION:Ya estás embarazada y te preguntas\, ¿y ahora qué? Hay mucho por saber acerca del embarazo\, los cambios que se producen en el cuerpo y el bebé en crecimiento. ¡Pasan muchas cosas durante el primer trimestre! Sentirás cambios en el cuerpo\, en tus emociones y estilo de vida. ¡Tu bebé también empieza a crecer y se convertirá en el pequeño que tendrás en menos de nueve meses! Este video desarrolla el primer trimestre del embarazo y también habla sobre los cambios del bebé durante su desarrollo. 
URL:https://772foryou.org/classes/su-primer-trimestre-28/
ATTACH;FMTTYPE=image/jpeg:https://772foryou.org/wp-content/uploads/2022/09/1st-Trimester-1.jpg
END:VEVENT
BEGIN:VEVENT
DTSTART;TZID=America/New_York:20251013T150000
DTEND;TZID=America/New_York:20251013T160000
DTSTAMP:20260420T081914
CREATED:20250925T204523Z
LAST-MODIFIED:20250925T204523Z
UID:10006890-1760367600-1760371200@772foryou.org
SUMMARY:Your First Trimester
DESCRIPTION:You’re pregnant\, and you’re wondering\, now what? There is a lot to know about pregnancy\, your changing body\, and your developing baby. So much happens in that first trimester! You will experience changes in your body\, your emotions\, and your lifestyle. Your baby also goes through a lot of growth\, developing into the little person you soon will see in less than nine months! This video takes a look at pregnancy in the first trimester and also talks about your baby’s journey in development.
URL:https://772foryou.org/classes/your-first-trimester-28/
ATTACH;FMTTYPE=image/jpeg:https://772foryou.org/wp-content/uploads/2022/09/1st-Trimester-1.jpg
END:VEVENT
BEGIN:VEVENT
DTSTART;TZID=America/New_York:20251015T103000
DTEND;TZID=America/New_York:20251015T113000
DTSTAMP:20260420T081914
CREATED:20250925T210247Z
LAST-MODIFIED:20250925T210247Z
UID:10006894-1760524200-1760527800@772foryou.org
SUMMARY:Entendiendo Procedimientos Clínicos
DESCRIPTION:
URL:https://772foryou.org/classes/entendiendo-procedimientos-clinicos/
ATTACH;FMTTYPE=image/jpeg:https://772foryou.org/wp-content/uploads/2022/11/Cesarean.jpg
END:VEVENT
BEGIN:VEVENT
DTSTART;TZID=America/New_York:20251020T133000
DTEND;TZID=America/New_York:20251020T143000
DTSTAMP:20260420T081914
CREATED:20250925T214208Z
LAST-MODIFIED:20250925T214208Z
UID:10006902-1760967000-1760970600@772foryou.org
SUMMARY:Su Segundo Trimestre
DESCRIPTION:El primer trimestre quedó atrás y ahora seguramente ya te sientes mejor. Puede que las náuseas matutinas hayan disminuido y que ahora pienses que ya tienes todo bajo control. El bebé está creciendo rápidamente y es probable que ya tengas una incipiente pancita de embarazada. ¡El segundo trimestre suele ser el periodo más cómodo del embarazo! A pesar de que todavía no sientes ni ves mucho de lo que sucede en tu vientre\, hay bastantes procesos que se están llevando a cabo. En este video\, hablaremos sobre los cambios en tu cuerpo\, el camino del desarrollo del bebé y lo que sucederá en el segundo trimestre.
URL:https://772foryou.org/classes/su-segundo-trimestre-27/
ATTACH;FMTTYPE=image/jpeg:https://772foryou.org/wp-content/uploads/2022/11/second-trimester.jpg
END:VEVENT
BEGIN:VEVENT
DTSTART;TZID=America/New_York:20251020T150000
DTEND;TZID=America/New_York:20251020T160000
DTSTAMP:20260420T081914
CREATED:20250925T214404Z
LAST-MODIFIED:20250925T214404Z
UID:10006903-1760972400-1760976000@772foryou.org
SUMMARY:Your Second Trimester
DESCRIPTION:Your first trimester is now behind you and you are likely feeling better. Morning sickness may have eased up and you may be thinking\, “I’ve got this!” Your baby is growing rapidly\, and you might even be starting to sport a cute little baby bump. The second trimester is often the most comfortable time for a pregnant mom! While you still may not be feeling or seeing much yet\, there is a lot going on in your womb. In this video we’ll talk about how your body is changing\, your baby’s journey in development\, and what you can expect in your second trimester.
URL:https://772foryou.org/classes/your-second-trimester-28/
ATTACH;FMTTYPE=image/jpeg:https://772foryou.org/wp-content/uploads/2022/11/second-trimester.jpg
END:VEVENT
BEGIN:VEVENT
DTSTART;TZID=America/New_York:20251027T110000
DTEND;TZID=America/New_York:20251027T120000
DTSTAMP:20260420T081914
CREATED:20250925T220927Z
LAST-MODIFIED:20250925T220927Z
UID:10006912-1761562800-1761566400@772foryou.org
SUMMARY:Su Tercer Trimestre
DESCRIPTION:Te estás aproximando al tercer trimestre y te sientes MUY embarazada. El bebé se agranda y puedes sentir cómo se mueve y patea. ¿Qué sucede ahí adentro? A medida que tu cuerpo cambia para acomodarse al bebé en crecimiento\, tienes más probabilidades de sentirte más cansada\, pero a la vez\, sorpresivamente\, más enérgica.­ ¡¡Tu bebé nacerá pronto!! En este video\, hablaremos sobre los cambios en tu cuerpo\, lo que puede que estés sintiendo\, el camino del desarrollo del bebé y lo que sucederá en el tercer trimestre.
URL:https://772foryou.org/classes/su-tercer-trimestre-28/
ATTACH;FMTTYPE=image/jpeg:https://772foryou.org/wp-content/uploads/2022/08/3rd-Trimester.jpeg
END:VEVENT
BEGIN:VEVENT
DTSTART;TZID=America/New_York:20251027T133000
DTEND;TZID=America/New_York:20251027T143000
DTSTAMP:20260420T081914
CREATED:20250925T221132Z
LAST-MODIFIED:20250925T221132Z
UID:10006913-1761571800-1761575400@772foryou.org
SUMMARY:Your Third Trimester
DESCRIPTION:In this video\, we’ll talk about your changing body\, what you might be feeling\, your baby’s journey in development\, and what you can expect in your third trimester. Topics include: shortness of breath • heartburn • swelling • hemorrhoids • constipation • leg cramps • stretch marks • tender breasts • belly button • insomnia • baby dropping • Braxton-Hicks • emotions • exercise • fever and chills • bleeding • labor • mucus plug • ruptured amniotic sac • signs of labor • fetal movement.
URL:https://772foryou.org/classes/your-third-trimester-24/
ATTACH;FMTTYPE=image/jpeg:https://772foryou.org/wp-content/uploads/2022/08/3rd-Trimester.jpeg
END:VEVENT
BEGIN:VEVENT
DTSTART;TZID=America/New_York:20251029T140000
DTEND;TZID=America/New_York:20251029T150000
DTSTAMP:20260420T081914
CREATED:20250925T223330Z
LAST-MODIFIED:20250925T223330Z
UID:10006920-1761746400-1761750000@772foryou.org
SUMMARY:Emotions Of Pregnancy
DESCRIPTION:This video covers the physiological factors behind pregnancy mood swings and emotions\, all the other factors that may affect a woman’s thoughts and feelings while she is pregnant\, including depression\, and survival tips to get a woman through the rough patches. Topics include: hormones • exercise • fluctuations • hCG • progesterone • dizziness • nausea • stress • negative feelings • temperament • depression • sleep • talk • eating.
URL:https://772foryou.org/classes/emotions-of-pregnancy-8/
ATTACH;FMTTYPE=image/jpeg:https://772foryou.org/wp-content/uploads/2024/03/Emotions-Of-Pregnancy.jpg
END:VEVENT
BEGIN:VEVENT
DTSTART;TZID=America/New_York:20251030T143000
DTEND;TZID=America/New_York:20251030T153000
DTSTAMP:20260420T081914
CREATED:20250925T223842Z
LAST-MODIFIED:20250925T223842Z
UID:10006922-1761834600-1761838200@772foryou.org
SUMMARY:Prenatal Care
DESCRIPTION:You’re pregnant\, and you have a lot to consider\, including car seats\, the nursery\, baby clothes\, and what brand of diapers you want to use. But the most important consideration right now is how you can take the best care of yourself and your developing baby. Your first step is setting up your prenatal care. In this video\, we will discuss prenatal care\, what you should expect at your prenatal checkups\, and why they are so important to keeping you and your baby healthy. Topics include: health conditions • gestational diabetes • blood pressure • OB-GYN • midwife and folic acid.
URL:https://772foryou.org/classes/prenatal-care-5/
ATTACH;FMTTYPE=image/jpeg:https://772foryou.org/wp-content/uploads/2022/09/1st-Trimester-1.jpg
END:VEVENT
END:VCALENDAR