BEGIN:VCALENDAR
VERSION:2.0
PRODID:-//A Caring Center For Women - ECPv6.15.20//NONSGML v1.0//EN
CALSCALE:GREGORIAN
METHOD:PUBLISH
X-WR-CALNAME:A Caring Center For Women
X-ORIGINAL-URL:https://772foryou.org
X-WR-CALDESC:Events for A Caring Center For Women
REFRESH-INTERVAL;VALUE=DURATION:PT1H
X-Robots-Tag:noindex
X-PUBLISHED-TTL:PT1H
BEGIN:VTIMEZONE
TZID:America/New_York
BEGIN:DAYLIGHT
TZOFFSETFROM:-0500
TZOFFSETTO:-0400
TZNAME:EDT
DTSTART:20240310T070000
END:DAYLIGHT
BEGIN:STANDARD
TZOFFSETFROM:-0400
TZOFFSETTO:-0500
TZNAME:EST
DTSTART:20241103T060000
END:STANDARD
BEGIN:DAYLIGHT
TZOFFSETFROM:-0500
TZOFFSETTO:-0400
TZNAME:EDT
DTSTART:20250309T070000
END:DAYLIGHT
BEGIN:STANDARD
TZOFFSETFROM:-0400
TZOFFSETTO:-0500
TZNAME:EST
DTSTART:20251102T060000
END:STANDARD
BEGIN:DAYLIGHT
TZOFFSETFROM:-0500
TZOFFSETTO:-0400
TZNAME:EDT
DTSTART:20260308T070000
END:DAYLIGHT
BEGIN:STANDARD
TZOFFSETFROM:-0400
TZOFFSETTO:-0500
TZNAME:EST
DTSTART:20261101T060000
END:STANDARD
END:VTIMEZONE
BEGIN:VEVENT
DTSTART;TZID=America/New_York:20250908T110000
DTEND;TZID=America/New_York:20250908T120000
DTSTAMP:20260420T095047
CREATED:20250902T181225Z
LAST-MODIFIED:20250902T181225Z
UID:10006806-1757329200-1757332800@772foryou.org
SUMMARY:Su Primer Trimestre
DESCRIPTION:Ya estás embarazada y te preguntas\, ¿y ahora qué? Hay mucho por saber acerca del embarazo\, los cambios que se producen en el cuerpo y el bebé en crecimiento. ¡Pasan muchas cosas durante el primer trimestre! Sentirás cambios en el cuerpo\, en tus emociones y estilo de vida. ¡Tu bebé también empieza a crecer y se convertirá en el pequeño que tendrás en menos de nueve meses! Este video desarrolla el primer trimestre del embarazo y también habla sobre los cambios del bebé durante su desarrollo. 
URL:https://772foryou.org/classes/su-primer-trimestre-27/
ATTACH;FMTTYPE=image/jpeg:https://772foryou.org/wp-content/uploads/2022/09/1st-Trimester-1.jpg
END:VEVENT
BEGIN:VEVENT
DTSTART;TZID=America/New_York:20250908T133000
DTEND;TZID=America/New_York:20250908T143000
DTSTAMP:20260420T095047
CREATED:20250902T181531Z
LAST-MODIFIED:20250902T181531Z
UID:10006807-1757338200-1757341800@772foryou.org
SUMMARY:Your First Trimester
DESCRIPTION:You’re pregnant\, and you’re wondering\, now what? There is a lot to know about pregnancy\, your changing body\, and your developing baby. So much happens in that first trimester! You will experience changes in your body\, your emotions\, and your lifestyle. Your baby also goes through a lot of growth\, developing into the little person you soon will see in less than nine months! This video takes a look at pregnancy in the first trimester and also talks about your baby’s journey in development.
URL:https://772foryou.org/classes/your-first-trimester-27/
ATTACH;FMTTYPE=image/jpeg:https://772foryou.org/wp-content/uploads/2022/09/1st-Trimester-1.jpg
END:VEVENT
BEGIN:VEVENT
DTSTART;TZID=America/New_York:20250915T110000
DTEND;TZID=America/New_York:20250915T120000
DTSTAMP:20260420T095047
CREATED:20250902T220454Z
LAST-MODIFIED:20250902T220454Z
UID:10006820-1757934000-1757937600@772foryou.org
SUMMARY:Su Segundo Trimestre
DESCRIPTION:El primer trimestre quedó atrás y ahora seguramente ya te sientes mejor. Puede que las náuseas matutinas hayan disminuido y que ahora pienses que ya tienes todo bajo control. El bebé está creciendo rápidamente y es probable que ya tengas una incipiente pancita de embarazada. ¡El segundo trimestre suele ser el periodo más cómodo del embarazo! A pesar de que todavía no sientes ni ves mucho de lo que sucede en tu vientre\, hay bastantes procesos que se están llevando a cabo. En este video\, hablaremos sobre los cambios en tu cuerpo\, el camino del desarrollo del bebé y lo que sucederá en el segundo trimestre.
URL:https://772foryou.org/classes/su-segundo-trimestre-26/
ATTACH;FMTTYPE=image/jpeg:https://772foryou.org/wp-content/uploads/2022/11/second-trimester.jpg
END:VEVENT
BEGIN:VEVENT
DTSTART;TZID=America/New_York:20250915T133000
DTEND;TZID=America/New_York:20250915T143000
DTSTAMP:20260420T095047
CREATED:20250902T221541Z
LAST-MODIFIED:20250902T221541Z
UID:10006821-1757943000-1757946600@772foryou.org
SUMMARY:Que Es Seguro Durante El Embarazo
DESCRIPTION:Hay mucho que debes considerar cuando estás embarazada. ¡Tu estilo de vida cambia totalmente! Ahora debes elegir con cuidado los productos para limpiar la casa\, los alimentos que consumes y considerar si es que deberías tomar café a la mañana. Incluso puede que debas cambiar o eliminar temporalmente algunos hábitos. En este video\, hablaremos sobre lo que es y no es seguro para tener un embarazo sano.
URL:https://772foryou.org/classes/que-es-seguro-durante-el-embarazo-4/
ATTACH;FMTTYPE=image/jpeg:https://772foryou.org/wp-content/uploads/2024/08/Whats-Safe-In-Pregnancy.jpg
END:VEVENT
BEGIN:VEVENT
DTSTART;TZID=America/New_York:20250915T150000
DTEND;TZID=America/New_York:20250915T160000
DTSTAMP:20260420T095047
CREATED:20250902T221841Z
LAST-MODIFIED:20250902T221841Z
UID:10006822-1757948400-1757952000@772foryou.org
SUMMARY:Your Second Trimester
DESCRIPTION:Your first trimester is now behind you and you are likely feeling better. Morning sickness may have eased up and you may be thinking\, “I’ve got this!” Your baby is growing rapidly\, and you might even be starting to sport a cute little baby bump. The second trimester is often the most comfortable time for a pregnant mom! While you still may not be feeling or seeing much yet\, there is a lot going on in your womb. In this video we’ll talk about how your body is changing\, your baby’s journey in development\, and what you can expect in your second trimester.
URL:https://772foryou.org/classes/your-second-trimester-27/
ATTACH;FMTTYPE=image/jpeg:https://772foryou.org/wp-content/uploads/2022/11/second-trimester.jpg
END:VEVENT
BEGIN:VEVENT
DTSTART;TZID=America/New_York:20250917T103000
DTEND;TZID=America/New_York:20250917T113000
DTSTAMP:20260420T095047
CREATED:20250902T222952Z
LAST-MODIFIED:20250904T215653Z
UID:10006826-1758105000-1758108600@772foryou.org
SUMMARY:Preparándose para el Parto
DESCRIPTION:Dar a luz ES difícil\, ¡pero tener un bebé es increíble! Pero es posible que se pregunte qué esperar. En este video\, hablaremos de tres cosas importantes que debe saber a medida que se acerca al nacimiento de su bebé: \n\nCómo funciona el parto\, incluido por qué tiene dolor durante el trabajo de parto.\nLas cinco pistas que le indican que el parto está aquí.\nLas cuatro etapas del trabajo de parto y qué esperar en cada una.\n\n¡Puedes hacer esto y te ayudaremos! Y cuando todo haya terminado\, estarás muy orgullosa de lo que has logrado al dar a luz. Los temas incluyen: • Dolor • Parto • Signos del trabajo de parto • Aligeramiento • Tapón mucoso suelto• Ruptura de agua • Dolor lumbar y abdominal • Contracciones del trabajo de parto • Tiempo de contracciones • Trabajo de parto prematuro • Etapas del parto • Fase temprana o latente • coronamiento• Activa Fase • Fase de transición • Empujar y dar a luz • Expulsar la placenta • Período posparto • Braxton Hicks
URL:https://772foryou.org/classes/preparandose-para-el-parto-5/
ATTACH;FMTTYPE=image/jpeg:https://772foryou.org/wp-content/uploads/2022/11/fases-del-parto.jpg
END:VEVENT
BEGIN:VEVENT
DTSTART;TZID=America/New_York:20250922T133000
DTEND;TZID=America/New_York:20250922T143000
DTSTAMP:20260420T095047
CREATED:20250904T162242Z
LAST-MODIFIED:20250904T162242Z
UID:10006837-1758547800-1758551400@772foryou.org
SUMMARY:El Último Tramo
DESCRIPTION:Ready\, set\, GO! The end of your pregnancy feels like a hundred days crammed into one long month that amazingly doesn’t seem that long to get everything ready to bring your baby home. There is so much to do and keep track of before birth! In this video we’ll talk about what to keep an eye on in your pregnancy\, things to prepare for\, and how to recognize important signs of labor. Phew! You can do it! You really are on the last leg!
URL:https://772foryou.org/classes/el-ultimo-tramo-7/
ATTACH;FMTTYPE=image/jpeg:https://772foryou.org/wp-content/uploads/2024/07/El-Ultimo-Tramo.jpg
END:VEVENT
BEGIN:VEVENT
DTSTART;TZID=America/New_York:20250922T150000
DTEND;TZID=America/New_York:20250922T160000
DTSTAMP:20260420T095047
CREATED:20250904T162543Z
LAST-MODIFIED:20250904T162543Z
UID:10006838-1758553200-1758556800@772foryou.org
SUMMARY:The Final Stretch
DESCRIPTION:On your mark\, get set\, GO! The end of your pregnancy feels like one hundred days packed into one long month that oddly doesn’t seem long enough to get everything done to bring your baby home. There is so much to do and keep track of before birth! In this video we talk about the things in your pregnancy that you need to keep a close eye on\, the things you need to prepare for\, and how to recognize the important signs of labor. Phew! Hang in there! You really are on the final stretch! Topics Include: 3rd-trimester •Monitoring fetal movement •kick count •Braxton Hicks •birth plan •home help •baby items •crib •bassinette •car seat •travel •diaper bag •mucus plug •effacement •dilation •rupturing membranes •leaking water •bleeding •decreased fetal movement •contractions •early labor •active labor •
URL:https://772foryou.org/classes/the-final-stretch-9/
ATTACH;FMTTYPE=image/jpeg:https://772foryou.org/wp-content/uploads/2024/07/The-Final-Stretch.jpg
END:VEVENT
BEGIN:VEVENT
DTSTART;TZID=America/New_York:20250924T140000
DTEND;TZID=America/New_York:20250924T150000
DTSTAMP:20260420T095047
CREATED:20250904T164953Z
LAST-MODIFIED:20250904T164953Z
UID:10006844-1758722400-1758726000@772foryou.org
SUMMARY:Bonding With Your  Unborn Baby
DESCRIPTION:From conception to birth\, your baby embarks on an incredible nine-month journey. She is developing and growing from her own genetic blueprints. Even though you haven’t met her yet\, you can start bonding with her while she is still growing in your womb. Learn about her incredible journey and how you and she are connected and explore the incredible masterpiece that is your son or daughter. Topics include: • pregnancy • conception • first trimester • fetal development • second trimester • third trimester • connection • bonding • ultrasound • unborn baby.
URL:https://772foryou.org/classes/bonding-with-your-unborn-baby-5/
ATTACH;FMTTYPE=image/png:https://772foryou.org/wp-content/uploads/2022/08/Ultrasound-Copy-6.png
END:VEVENT
BEGIN:VEVENT
DTSTART;TZID=America/New_York:20250929T110000
DTEND;TZID=America/New_York:20250929T120000
DTSTAMP:20260420T095047
CREATED:20250904T170257Z
LAST-MODIFIED:20250904T170257Z
UID:10006850-1759143600-1759147200@772foryou.org
SUMMARY:Su Tercer Trimestre
DESCRIPTION:Te estás aproximando al tercer trimestre y te sientes MUY embarazada. El bebé se agranda y puedes sentir cómo se mueve y patea. ¿Qué sucede ahí adentro? A medida que tu cuerpo cambia para acomodarse al bebé en crecimiento\, tienes más probabilidades de sentirte más cansada\, pero a la vez\, sorpresivamente\, más enérgica.­ ¡¡Tu bebé nacerá pronto!! En este video\, hablaremos sobre los cambios en tu cuerpo\, lo que puede que estés sintiendo\, el camino del desarrollo del bebé y lo que sucederá en el tercer trimestre.
URL:https://772foryou.org/classes/su-tercer-trimestre-27/
ATTACH;FMTTYPE=image/jpeg:https://772foryou.org/wp-content/uploads/2022/08/3rd-Trimester.jpeg
END:VEVENT
BEGIN:VEVENT
DTSTART;TZID=America/New_York:20250929T133000
DTEND;TZID=America/New_York:20250929T143000
DTSTAMP:20260420T095047
CREATED:20250904T170454Z
LAST-MODIFIED:20250904T170732Z
UID:10006851-1759152600-1759156200@772foryou.org
SUMMARY:Your Third Trimester
DESCRIPTION:In this video\, we’ll talk about your changing body\, what you might be feeling\, your baby’s journey in development\, and what you can expect in your third trimester. Topics include: shortness of breath • heartburn • swelling • hemorrhoids • constipation • leg cramps • stretch marks • tender breasts • belly button • insomnia • baby dropping • Braxton-Hicks • emotions • exercise • fever and chills • bleeding • labor • mucus plug • ruptured amniotic sac • signs of labor • fetal movement.
URL:https://772foryou.org/classes/your-third-trimester-23/
ATTACH;FMTTYPE=image/jpeg:https://772foryou.org/wp-content/uploads/2022/08/3rd-Trimester.jpeg
END:VEVENT
BEGIN:VEVENT
DTSTART;TZID=America/New_York:20250930T170000
DTEND;TZID=America/New_York:20250930T180000
DTSTAMP:20260420T095047
CREATED:20250904T171721Z
LAST-MODIFIED:20250904T171721Z
UID:10006855-1759251600-1759255200@772foryou.org
SUMMARY:Your Ultrasound  Appointment
DESCRIPTION:Getting to see your unborn baby on an ultrasound is an exciting and special event for any parent. It’s like unwrapping a wonderful gift as the scanner zooms in on your baby moving and bouncing around in your womb. But\, as exciting as it is to see the baby\, there is more to an obstetric ultrasound than just a thrill for the parents. Medical providers are also able to track the development\, growth\, due date\, and overall health of an unborn baby. This video will discuss what to expect at an ultrasound appointment and give an incredible glimpse of your unborn baby’s world. Topics include: sound waves • transvaginal • transabdominal • 2D • 3D • gestational sac • ectopic • genetic disorder • nuchal translucency
URL:https://772foryou.org/classes/your-ultrasound-appointment-4/
END:VEVENT
END:VCALENDAR