BEGIN:VCALENDAR
VERSION:2.0
PRODID:-//A Caring Center For Women - ECPv6.15.20//NONSGML v1.0//EN
CALSCALE:GREGORIAN
METHOD:PUBLISH
X-ORIGINAL-URL:https://772foryou.org
X-WR-CALDESC:Events for A Caring Center For Women
REFRESH-INTERVAL;VALUE=DURATION:PT1H
X-Robots-Tag:noindex
X-PUBLISHED-TTL:PT1H
BEGIN:VTIMEZONE
TZID:America/New_York
BEGIN:DAYLIGHT
TZOFFSETFROM:-0500
TZOFFSETTO:-0400
TZNAME:EDT
DTSTART:20240310T070000
END:DAYLIGHT
BEGIN:STANDARD
TZOFFSETFROM:-0400
TZOFFSETTO:-0500
TZNAME:EST
DTSTART:20241103T060000
END:STANDARD
BEGIN:DAYLIGHT
TZOFFSETFROM:-0500
TZOFFSETTO:-0400
TZNAME:EDT
DTSTART:20250309T070000
END:DAYLIGHT
BEGIN:STANDARD
TZOFFSETFROM:-0400
TZOFFSETTO:-0500
TZNAME:EST
DTSTART:20251102T060000
END:STANDARD
BEGIN:DAYLIGHT
TZOFFSETFROM:-0500
TZOFFSETTO:-0400
TZNAME:EDT
DTSTART:20260308T070000
END:DAYLIGHT
BEGIN:STANDARD
TZOFFSETFROM:-0400
TZOFFSETTO:-0500
TZNAME:EST
DTSTART:20261101T060000
END:STANDARD
END:VTIMEZONE
BEGIN:VEVENT
DTSTART;TZID=America/New_York:20250707T110000
DTEND;TZID=America/New_York:20250707T120000
DTSTAMP:20260424T072912
CREATED:20250624T183529Z
LAST-MODIFIED:20250624T183529Z
UID:10006671-1751886000-1751889600@772foryou.org
SUMMARY:Entendiendo Procedimientos Clínicos/ Parto Por Cesárea
DESCRIPTION:
URL:https://772foryou.org/classes/entendiendo-procedimientos-clinicos-parto-por-cesarea-2/
ATTACH;FMTTYPE=image/jpeg:https://772foryou.org/wp-content/uploads/2022/11/Cesarean.jpg
END:VEVENT
BEGIN:VEVENT
DTSTART;TZID=America/New_York:20250709T140000
DTEND;TZID=America/New_York:20250709T150000
DTSTAMP:20260424T072912
CREATED:20250624T214925Z
LAST-MODIFIED:20250624T214925Z
UID:10006679-1752069600-1752073200@772foryou.org
SUMMARY:Prenatal Care
DESCRIPTION:You’re pregnant\, and you have a lot to consider\, including car seats\, the nursery\, baby clothes\, and what brand of diapers you want to use. But the most important consideration right now is how you can take the best care of yourself and your developing baby. Your first step is setting up your prenatal care. In this video\, we will discuss prenatal care\, what you should expect at your prenatal checkups\, and why they are so important to keeping you and your baby healthy. Topics include: health conditions • gestational diabetes • blood pressure • OB-GYN • midwife and folic acid.
URL:https://772foryou.org/classes/prenatal-care-2/
ATTACH;FMTTYPE=image/jpeg:https://772foryou.org/wp-content/uploads/2022/09/1st-Trimester-1.jpg
END:VEVENT
BEGIN:VEVENT
DTSTART;TZID=America/New_York:20250714T110000
DTEND;TZID=America/New_York:20250714T120000
DTSTAMP:20260424T072912
CREATED:20250624T220926Z
LAST-MODIFIED:20250624T220926Z
UID:10006686-1752490800-1752494400@772foryou.org
SUMMARY:Su Primer Trimestre
DESCRIPTION:Ya estás embarazada y te preguntas\, ¿y ahora qué? Hay mucho por saber acerca del embarazo\, los cambios que se producen en el cuerpo y el bebé en crecimiento. ¡Pasan muchas cosas durante el primer trimestre! Sentirás cambios en el cuerpo\, en tus emociones y estilo de vida. ¡Tu bebé también empieza a crecer y se convertirá en el pequeño que tendrás en menos de nueve meses! Este video desarrolla el primer trimestre del embarazo y también habla sobre los cambios del bebé durante su desarrollo. 
URL:https://772foryou.org/classes/su-primer-trimestre-25/
ATTACH;FMTTYPE=image/jpeg:https://772foryou.org/wp-content/uploads/2022/09/1st-Trimester-1.jpg
END:VEVENT
BEGIN:VEVENT
DTSTART;TZID=America/New_York:20250714T150000
DTEND;TZID=America/New_York:20250714T160000
DTSTAMP:20260424T072912
CREATED:20250624T221655Z
LAST-MODIFIED:20250624T221655Z
UID:10006689-1752505200-1752508800@772foryou.org
SUMMARY:Your First Trimester
DESCRIPTION:You’re pregnant\, and you’re wondering\, now what? There is a lot to know about pregnancy\, your changing body\, and your developing baby. So much happens in that first trimester! You will experience changes in your body\, your emotions\, and your lifestyle. Your baby also goes through a lot of growth\, developing into the little person you soon will see in less than nine months! This video takes a look at pregnancy in the first trimester and also talks about your baby’s journey in development.
URL:https://772foryou.org/classes/your-first-trimester-25/
ATTACH;FMTTYPE=image/jpeg:https://772foryou.org/wp-content/uploads/2022/09/1st-Trimester-1.jpg
END:VEVENT
BEGIN:VEVENT
DTSTART;TZID=America/New_York:20250721T133000
DTEND;TZID=America/New_York:20250721T143000
DTSTAMP:20260424T072912
CREATED:20250626T205115Z
LAST-MODIFIED:20250626T205115Z
UID:10006705-1753104600-1753108200@772foryou.org
SUMMARY:Su Segundo Trimestre
DESCRIPTION:El primer trimestre quedó atrás y ahora seguramente ya te sientes mejor. Puede que las náuseas matutinas hayan disminuido y que ahora pienses que ya tienes todo bajo control. El bebé está creciendo rápidamente y es probable que ya tengas una incipiente pancita de embarazada. ¡El segundo trimestre suele ser el periodo más cómodo del embarazo! A pesar de que todavía no sientes ni ves mucho de lo que sucede en tu vientre\, hay bastantes procesos que se están llevando a cabo. En este video\, hablaremos sobre los cambios en tu cuerpo\, el camino del desarrollo del bebé y lo que sucederá en el segundo trimestre.
URL:https://772foryou.org/classes/su-segundo-trimestre-24/
ATTACH;FMTTYPE=image/jpeg:https://772foryou.org/wp-content/uploads/2022/11/second-trimester.jpg
END:VEVENT
BEGIN:VEVENT
DTSTART;TZID=America/New_York:20250721T150000
DTEND;TZID=America/New_York:20250721T160000
DTSTAMP:20260424T072912
CREATED:20250626T205306Z
LAST-MODIFIED:20250626T205306Z
UID:10006706-1753110000-1753113600@772foryou.org
SUMMARY:Your Second Trimester
DESCRIPTION:Your first trimester is now behind you and you are likely feeling better. Morning sickness may have eased up and you may be thinking\, “I’ve got this!” Your baby is growing rapidly\, and you might even be starting to sport a cute little baby bump. The second trimester is often the most comfortable time for a pregnant mom! While you still may not be feeling or seeing much yet\, there is a lot going on in your womb. In this video we’ll talk about how your body is changing\, your baby’s journey in development\, and what you can expect in your second trimester.
URL:https://772foryou.org/classes/your-second-trimester-25/
ATTACH;FMTTYPE=image/jpeg:https://772foryou.org/wp-content/uploads/2022/11/second-trimester.jpg
END:VEVENT
BEGIN:VEVENT
DTSTART;TZID=America/New_York:20250728T110000
DTEND;TZID=America/New_York:20250728T120000
DTSTAMP:20260424T072912
CREATED:20250701T214602Z
LAST-MODIFIED:20250701T214602Z
UID:10006717-1753700400-1753704000@772foryou.org
SUMMARY:Su Tercer Trimestre
DESCRIPTION:Te estás aproximando al tercer trimestre y te sientes MUY embarazada. El bebé se agranda y puedes sentir cómo se mueve y patea. ¿Qué sucede ahí adentro? A medida que tu cuerpo cambia para acomodarse al bebé en crecimiento\, tienes más probabilidades de sentirte más cansada\, pero a la vez\, sorpresivamente\, más enérgica.­ ¡¡Tu bebé nacerá pronto!! En este video\, hablaremos sobre los cambios en tu cuerpo\, lo que puede que estés sintiendo\, el camino del desarrollo del bebé y lo que sucederá en el tercer trimestre.
URL:https://772foryou.org/classes/su-tercer-trimestre-25/
ATTACH;FMTTYPE=image/jpeg:https://772foryou.org/wp-content/uploads/2022/08/3rd-Trimester.jpeg
END:VEVENT
BEGIN:VEVENT
DTSTART;TZID=America/New_York:20250728T133000
DTEND;TZID=America/New_York:20250728T143000
DTSTAMP:20260424T072912
CREATED:20250701T214752Z
LAST-MODIFIED:20250701T214752Z
UID:10006718-1753709400-1753713000@772foryou.org
SUMMARY:Your Third Trimester
DESCRIPTION:In this video\, we’ll talk about your changing body\, what you might be feeling\, your baby’s journey in development\, and what you can expect in your third trimester. Topics include: shortness of breath • heartburn • swelling • hemorrhoids • constipation • leg cramps • stretch marks • tender breasts • belly button • insomnia • baby dropping • Braxton-Hicks • emotions • exercise • fever and chills • bleeding • labor • mucus plug • ruptured amniotic sac • signs of labor • fetal movement.
URL:https://772foryou.org/classes/your-third-trimester-21/
ATTACH;FMTTYPE=image/jpeg:https://772foryou.org/wp-content/uploads/2022/08/3rd-Trimester.jpeg
END:VEVENT
BEGIN:VEVENT
DTSTART;TZID=America/New_York:20250728T150000
DTEND;TZID=America/New_York:20250728T160000
DTSTAMP:20260424T072912
CREATED:20250701T215001Z
LAST-MODIFIED:20250701T215001Z
UID:10006719-1753714800-1753718400@772foryou.org
SUMMARY:Your Ultrasound  Appointment
DESCRIPTION:Getting to see your unborn baby on an ultrasound is an exciting and special event for any parent. It’s like unwrapping a wonderful gift as the scanner zooms in on your baby moving and bouncing around in your womb. But\, as exciting as it is to see the baby\, there is more to an obstetric ultrasound than just a thrill for the parents. Medical providers are also able to track the development\, growth\, due date\, and overall health of an unborn baby. This video will discuss what to expect at an ultrasound appointment and give an incredible glimpse of your unborn baby’s world. Topics include: sound waves • transvaginal • transabdominal • 2D • 3D • gestational sac • ectopic • genetic disorder • nuchal translucency
URL:https://772foryou.org/classes/your-ultrasound-appointment-2/
END:VEVENT
END:VCALENDAR