BEGIN:VCALENDAR
VERSION:2.0
PRODID:-//A Caring Center For Women - ECPv6.15.20//NONSGML v1.0//EN
CALSCALE:GREGORIAN
METHOD:PUBLISH
X-ORIGINAL-URL:https://772foryou.org
X-WR-CALDESC:Events for A Caring Center For Women
REFRESH-INTERVAL;VALUE=DURATION:PT1H
X-Robots-Tag:noindex
X-PUBLISHED-TTL:PT1H
BEGIN:VTIMEZONE
TZID:America/New_York
BEGIN:DAYLIGHT
TZOFFSETFROM:-0500
TZOFFSETTO:-0400
TZNAME:EDT
DTSTART:20240310T070000
END:DAYLIGHT
BEGIN:STANDARD
TZOFFSETFROM:-0400
TZOFFSETTO:-0500
TZNAME:EST
DTSTART:20241103T060000
END:STANDARD
BEGIN:DAYLIGHT
TZOFFSETFROM:-0500
TZOFFSETTO:-0400
TZNAME:EDT
DTSTART:20250309T070000
END:DAYLIGHT
BEGIN:STANDARD
TZOFFSETFROM:-0400
TZOFFSETTO:-0500
TZNAME:EST
DTSTART:20251102T060000
END:STANDARD
BEGIN:DAYLIGHT
TZOFFSETFROM:-0500
TZOFFSETTO:-0400
TZNAME:EDT
DTSTART:20260308T070000
END:DAYLIGHT
BEGIN:STANDARD
TZOFFSETFROM:-0400
TZOFFSETTO:-0500
TZNAME:EST
DTSTART:20261101T060000
END:STANDARD
END:VTIMEZONE
BEGIN:VEVENT
DTSTART;TZID=America/New_York:20250508T110000
DTEND;TZID=America/New_York:20250508T120000
DTSTAMP:20260424T104617
CREATED:20250501T172136Z
LAST-MODIFIED:20250501T172136Z
UID:10006555-1746702000-1746705600@772foryou.org
SUMMARY:Emociones del Embarazo
DESCRIPTION:El embarazo puede ser un periodo confuso en lo que respecta a emociones. Un minutos estás feliz y encantada\, y al próximo puede que sientas tristeza o irritación. Y luego antes de que lo notes\, ¡tu humor ya está cambiando de nuevo! Antes de quedar embarazada\, tus emociones tendían a tener un nivel más estable. ¡Pero ahora\, ten cuidado! De vez en cuando\, puedes sentirte como un barco a la deriva en medio de una marea agitada. ¿Te estás volviendo loca? ¿Hay algo malo? No. Sólo estás embarazada. Este video abarca los factores psicológicos detrás de los cambios de humor y emociones en el embarazo\, y todos los demás factores que pueden incidir en los sentimientos y pensamientos de una mujer embarazada\, inclusive la depresión. Por último\, este video ofrece algunos consejos de supervivencia para que una mujer logre atravesar tales momentos difíciles.
URL:https://772foryou.org/classes/emociones-del-embarazo-4/
ATTACH;FMTTYPE=image/jpeg:https://772foryou.org/wp-content/uploads/2024/03/Emociones-del-Embarazo.jpg
END:VEVENT
BEGIN:VEVENT
DTSTART;TZID=America/New_York:20250508T173000
DTEND;TZID=America/New_York:20250508T183000
DTSTAMP:20260424T104617
CREATED:20250501T173150Z
LAST-MODIFIED:20250501T173150Z
UID:10006557-1746725400-1746729000@772foryou.org
SUMMARY:Emotions Of Pregnancy
DESCRIPTION:This video covers the physiological factors behind pregnancy mood swings and emotions\, all the other factors that may affect a woman’s thoughts and feelings while she is pregnant\, including depression\, and survival tips to get a woman through the rough patches. Topics include: hormones • exercise • fluctuations • hCG • progesterone • dizziness • nausea • stress • negative feelings • temperament • depression • sleep • talk • eating.
URL:https://772foryou.org/classes/emotions-of-pregnancy-7/
ATTACH;FMTTYPE=image/jpeg:https://772foryou.org/wp-content/uploads/2024/03/Emotions-Of-Pregnancy.jpg
END:VEVENT
BEGIN:VEVENT
DTSTART;TZID=America/New_York:20250512T110000
DTEND;TZID=America/New_York:20250512T120000
DTSTAMP:20260424T104617
CREATED:20250501T180644Z
LAST-MODIFIED:20250501T180644Z
UID:10006566-1747047600-1747051200@772foryou.org
SUMMARY:Su Primer Trimestre
DESCRIPTION:Ya estás embarazada y te preguntas\, ¿y ahora qué? Hay mucho por saber acerca del embarazo\, los cambios que se producen en el cuerpo y el bebé en crecimiento. ¡Pasan muchas cosas durante el primer trimestre! Sentirás cambios en el cuerpo\, en tus emociones y estilo de vida. ¡Tu bebé también empieza a crecer y se convertirá en el pequeño que tendrás en menos de nueve meses! Este video desarrolla el primer trimestre del embarazo y también habla sobre los cambios del bebé durante su desarrollo. 
URL:https://772foryou.org/classes/su-primer-trimestre-23/
ATTACH;FMTTYPE=image/jpeg:https://772foryou.org/wp-content/uploads/2022/09/1st-Trimester-1.jpg
END:VEVENT
BEGIN:VEVENT
DTSTART;TZID=America/New_York:20250512T133000
DTEND;TZID=America/New_York:20250512T143000
DTSTAMP:20260424T104617
CREATED:20250501T180839Z
LAST-MODIFIED:20250501T180839Z
UID:10006567-1747056600-1747060200@772foryou.org
SUMMARY:Your First Trimester
DESCRIPTION:You’re pregnant\, and you’re wondering\, now what? There is a lot to know about pregnancy\, your changing body\, and your developing baby. So much happens in that first trimester! You will experience changes in your body\, your emotions\, and your lifestyle. Your baby also goes through a lot of growth\, developing into the little person you soon will see in less than nine months! This video takes a look at pregnancy in the first trimester and also talks about your baby’s journey in development.
URL:https://772foryou.org/classes/your-first-trimester-23/
ATTACH;FMTTYPE=image/jpeg:https://772foryou.org/wp-content/uploads/2022/09/1st-Trimester-1.jpg
END:VEVENT
BEGIN:VEVENT
DTSTART;TZID=America/New_York:20250519T133000
DTEND;TZID=America/New_York:20250519T143000
DTSTAMP:20260424T104617
CREATED:20250501T203540Z
LAST-MODIFIED:20250501T203540Z
UID:10006583-1747661400-1747665000@772foryou.org
SUMMARY:Your Second Trimester
DESCRIPTION:Your first trimester is now behind you and you are likely feeling better. Morning sickness may have eased up and you may be thinking\, “I’ve got this!” Your baby is growing rapidly\, and you might even be starting to sport a cute little baby bump. The second trimester is often the most comfortable time for a pregnant mom! While you still may not be feeling or seeing much yet\, there is a lot going on in your womb. In this video we’ll talk about how your body is changing\, your baby’s journey in development\, and what you can expect in your second trimester.
URL:https://772foryou.org/classes/your-second-trimester-23/
ATTACH;FMTTYPE=image/jpeg:https://772foryou.org/wp-content/uploads/2022/11/second-trimester.jpg
END:VEVENT
BEGIN:VEVENT
DTSTART;TZID=America/New_York:20250519T150000
DTEND;TZID=America/New_York:20250519T160000
DTSTAMP:20260424T104617
CREATED:20250501T203739Z
LAST-MODIFIED:20250501T203739Z
UID:10006584-1747666800-1747670400@772foryou.org
SUMMARY:Your Unborn Baby's Secret World
DESCRIPTION:Your Unborn Baby’s Secret World \nAs recently as twenty-five years ago\, we thought unborn babies were unaware of anything outside the womb. Since then\, though\, science has gained a better understanding of your unborn baby’s secret world. That secret place inside\, where your unborn baby resides\, is not a deep\, dark cave where they are hidden away awaiting birth. Far from it. Your womb is their classroom\, where there begins a lifetime of learning\, sampling\, accepting\, and rejecting—in short\, the process of growing that will continue throughout life\, from conception on. Topics include : growth in womb\, interaction\, sensory development\, first trimester\, second trimester\, third trimester\, baby’s development\, movement\, learning in womb\, stress\, eating healthy\, rest\, and exercise
URL:https://772foryou.org/classes/your-unborn-babys-secret-world-4/
ATTACH;FMTTYPE=image/png:https://772foryou.org/wp-content/uploads/2024/11/Your-Unborn-Babys-Secret-World.png
END:VEVENT
BEGIN:VEVENT
DTSTART;TZID=America/New_York:20250522T110000
DTEND;TZID=America/New_York:20250522T120000
DTSTAMP:20260424T104617
CREATED:20250501T212745Z
LAST-MODIFIED:20250501T212745Z
UID:10006592-1747911600-1747915200@772foryou.org
SUMMARY:El Último Tramo
DESCRIPTION:Ready\, set\, GO! The end of your pregnancy feels like a hundred days crammed into one long month that amazingly doesn’t seem that long to get everything ready to bring your baby home. There is so much to do and keep track of before birth! In this video we’ll talk about what to keep an eye on in your pregnancy\, things to prepare for\, and how to recognize important signs of labor. Phew! You can do it! You really are on the last leg!
URL:https://772foryou.org/classes/el-ultimo-tramo-4/
ATTACH;FMTTYPE=image/jpeg:https://772foryou.org/wp-content/uploads/2024/07/El-Ultimo-Tramo.jpg
END:VEVENT
END:VCALENDAR