BEGIN:VCALENDAR
VERSION:2.0
PRODID:-//A Caring Center For Women - ECPv6.15.20//NONSGML v1.0//EN
CALSCALE:GREGORIAN
METHOD:PUBLISH
X-ORIGINAL-URL:https://772foryou.org
X-WR-CALDESC:Events for A Caring Center For Women
REFRESH-INTERVAL;VALUE=DURATION:PT1H
X-Robots-Tag:noindex
X-PUBLISHED-TTL:PT1H
BEGIN:VTIMEZONE
TZID:America/New_York
BEGIN:DAYLIGHT
TZOFFSETFROM:-0500
TZOFFSETTO:-0400
TZNAME:EDT
DTSTART:20240310T070000
END:DAYLIGHT
BEGIN:STANDARD
TZOFFSETFROM:-0400
TZOFFSETTO:-0500
TZNAME:EST
DTSTART:20241103T060000
END:STANDARD
BEGIN:DAYLIGHT
TZOFFSETFROM:-0500
TZOFFSETTO:-0400
TZNAME:EDT
DTSTART:20250309T070000
END:DAYLIGHT
BEGIN:STANDARD
TZOFFSETFROM:-0400
TZOFFSETTO:-0500
TZNAME:EST
DTSTART:20251102T060000
END:STANDARD
BEGIN:DAYLIGHT
TZOFFSETFROM:-0500
TZOFFSETTO:-0400
TZNAME:EDT
DTSTART:20260308T070000
END:DAYLIGHT
BEGIN:STANDARD
TZOFFSETFROM:-0400
TZOFFSETTO:-0500
TZNAME:EST
DTSTART:20261101T060000
END:STANDARD
END:VTIMEZONE
BEGIN:VEVENT
DTSTART;TZID=America/New_York:20250401T143000
DTEND;TZID=America/New_York:20250401T153000
DTSTAMP:20260421T070853
CREATED:20250325T213406Z
LAST-MODIFIED:20250325T214400Z
UID:10006470-1743517800-1743521400@772foryou.org
SUMMARY:L & D: Getting Ready
DESCRIPTION:In this video\, we’ll talk about three important things you need to know as you approach your baby’s birth: 1. How childbirth works\, including why you have pain in labor; 2. The five clues that tell you labor is here; 3. The four stages of labor and what to expect in each. You can do this\, and we’re going to help you! And when it’s all over\, you’ll be so proud of what you’ve accomplished in giving birth. Topics include: • pain • childbirth • signs of labor • lightening • lose mucus plug • water breaking • lower back and belly pain • labor contractions • timing contractions • preterm labor • stages of labor • early or latent phase • crowning • active phase • transition phase • pushing and delivery • expelling the placenta • postpartum period • Braxton-Hicks.
URL:https://772foryou.org/classes/l-d-getting-ready-5/
ATTACH;FMTTYPE=image/jpeg:https://772foryou.org/wp-content/uploads/2024/07/L-D-Getting-Ready.jpg
END:VEVENT
BEGIN:VEVENT
DTSTART;TZID=America/New_York:20250407T133000
DTEND;TZID=America/New_York:20250407T143000
DTSTAMP:20260421T070853
CREATED:20250325T223151Z
LAST-MODIFIED:20250325T223151Z
UID:10006483-1744032600-1744036200@772foryou.org
SUMMARY:L & D: Natural Comfort  Measures
DESCRIPTION:Pain in childbirth can feel pretty scary. You might wonder\, “can I handle it?! What if I can’t?” In this video we talk all about managing pain the natural way. That’s right\, without any pain medication. You can do this! You’ll learn about the three Rs: relaxation\, ritual\, and rhythm to help you manage pain. Then we discuss various natural comfort techniques to help you lessen the sensation pain. We also discuss the benefits to a more natural birth\, and why learning them is helpful\, even if you’re planning on the epidural.
URL:https://772foryou.org/classes/l-d-natural-comfort-measures-4/
ATTACH;FMTTYPE=image/jpeg:https://772foryou.org/wp-content/uploads/2022/09/Natural-labor.jpg
END:VEVENT
BEGIN:VEVENT
DTSTART;TZID=America/New_York:20250423T140000
DTEND;TZID=America/New_York:20250423T150000
DTSTAMP:20260421T070853
CREATED:20250408T222530Z
LAST-MODIFIED:20250408T222530Z
UID:10006521-1745416800-1745420400@772foryou.org
SUMMARY:Labor Expectations
DESCRIPTION:They did it! Couples Laila and Joseph\, Mikayla and Kyle\, and Mariah and Tyler each had their babies! I bet you can’t wait to see how it all turned out in this final video! Join these three couples as their pregnancies come to an end and experience labor and delivery with them as they have their babies. Topics include: • Mariah • Tyler • Laila • Joseph • Mikayla • Kyle • labor • contractions • pushing • epidural • pitocin.
URL:https://772foryou.org/classes/labor-expectations-4/
ATTACH;FMTTYPE=image/jpeg:https://772foryou.org/wp-content/uploads/2024/07/Labor-Expectations.jpg
END:VEVENT
BEGIN:VEVENT
DTSTART;TZID=America/New_York:20250430T123000
DTEND;TZID=America/New_York:20250430T133000
DTSTAMP:20260421T070853
CREATED:20250410T190123Z
LAST-MODIFIED:20250410T190123Z
UID:10006534-1746016200-1746019800@772foryou.org
SUMMARY:L & D: Medical Pain Relief\, Interventions
DESCRIPTION:Having a baby is hard work\, and choosing how you manage your pain is important. You get to choose! Do you want to take away some or most of the pain? You should know that choosing a medicated option will lead to certain other interventions and procedures. In this video\, we discuss your medical pain-relief options\, the interventions to which they lead\, and some of the medical procedures you might face in childbirth. We’ll show you how to make great decisions in the moment using the B.R.A.I.N. method so you have the best birth experience possible. Topics include: • B.R.A.I.N. • benefits • risks • alternatives • no • not now • medical pain relief • narcotics • epidural • spinal block • nitrous oxide • sterile water injections • medical procedures • interventions • induction • stripping membranes • pitocin • fetal monitoring • breaking bag of water • episiotomy • forceps • vacuum.
URL:https://772foryou.org/classes/l-d-medical-pain-relief-interventions-3/
ATTACH;FMTTYPE=image/jpeg:https://772foryou.org/wp-content/uploads/2024/07/L-D-Medical-Pain-Relief-Interventions.jpg
END:VEVENT
END:VCALENDAR