BEGIN:VCALENDAR
VERSION:2.0
PRODID:-//A Caring Center For Women - ECPv6.15.20//NONSGML v1.0//EN
CALSCALE:GREGORIAN
METHOD:PUBLISH
X-ORIGINAL-URL:https://772foryou.org
X-WR-CALDESC:Events for A Caring Center For Women
REFRESH-INTERVAL;VALUE=DURATION:PT1H
X-Robots-Tag:noindex
X-PUBLISHED-TTL:PT1H
BEGIN:VTIMEZONE
TZID:America/New_York
BEGIN:DAYLIGHT
TZOFFSETFROM:-0500
TZOFFSETTO:-0400
TZNAME:EDT
DTSTART:20230312T070000
END:DAYLIGHT
BEGIN:STANDARD
TZOFFSETFROM:-0400
TZOFFSETTO:-0500
TZNAME:EST
DTSTART:20231105T060000
END:STANDARD
BEGIN:DAYLIGHT
TZOFFSETFROM:-0500
TZOFFSETTO:-0400
TZNAME:EDT
DTSTART:20240310T070000
END:DAYLIGHT
BEGIN:STANDARD
TZOFFSETFROM:-0400
TZOFFSETTO:-0500
TZNAME:EST
DTSTART:20241103T060000
END:STANDARD
BEGIN:DAYLIGHT
TZOFFSETFROM:-0500
TZOFFSETTO:-0400
TZNAME:EDT
DTSTART:20250309T070000
END:DAYLIGHT
BEGIN:STANDARD
TZOFFSETFROM:-0400
TZOFFSETTO:-0500
TZNAME:EST
DTSTART:20251102T060000
END:STANDARD
END:VTIMEZONE
BEGIN:VEVENT
DTSTART;TZID=America/New_York:20241202T150000
DTEND;TZID=America/New_York:20241202T160000
DTSTAMP:20260421T133249
CREATED:20240716T192905Z
LAST-MODIFIED:20241129T160613Z
UID:10006171-1733151600-1733155200@772foryou.org
SUMMARY:L & D: Medical Pain Relief\, Interventions
DESCRIPTION:Having a baby is hard work\, and choosing how you manage your pain is important. You get to choose! Do you want to take away some or most of the pain? You should know that choosing a medicated option will lead to certain other interventions and procedures. In this video\, we discuss your medical pain-relief options\, the interventions to which they lead\, and some of the medical procedures you might face in childbirth. We’ll show you how to make great decisions in the moment using the B.R.A.I.N. method so you have the best birth experience possible. Topics include: • B.R.A.I.N. • benefits • risks • alternatives • no • not now • medical pain relief • narcotics • epidural • spinal block • nitrous oxide • sterile water injections • medical procedures • interventions • induction • stripping membranes • pitocin • fetal monitoring • breaking bag of water • episiotomy • forceps • vacuum.
URL:https://772foryou.org/classes/l-d-medical-pain-relief-interventions-2/
ATTACH;FMTTYPE=image/jpeg:https://772foryou.org/wp-content/uploads/2024/07/L-D-Medical-Pain-Relief-Interventions.jpg
END:VEVENT
BEGIN:VEVENT
DTSTART;TZID=America/New_York:20241210T143000
DTEND;TZID=America/New_York:20241210T160000
DTSTAMP:20260421T133249
CREATED:20241207T200917Z
LAST-MODIFIED:20241207T214356Z
UID:10006381-1733841000-1733846400@772foryou.org
SUMMARY:L & D: Training Your Birth Coach
DESCRIPTION:Having a baby is huge . . . and likely not something you want to do alone. Research has shown that when you have one or two support people by your side\, you are more likely to stick to your birth plan and have fewer interventions. And it’s just nice having someone there to help. In this video\, we’ll talk about what a birth coach does\, whom to choose\, and how to train them so you have the best birth experience possible. Topics include: • birth coach • delivery • labor • support • birth plan • support person • emotional support • communicator • your partner • doula • friends • family • flexible • patient • encourager • childbirth classes.
URL:https://772foryou.org/classes/l-d-training-your-birth-coach-2/
ATTACH;FMTTYPE=image/webp:https://772foryou.org/wp-content/uploads/2024/12/L-D-Training-Your-Birth-Coach.webp
END:VEVENT
BEGIN:VEVENT
DTSTART;TZID=America/New_York:20241217T110000
DTEND;TZID=America/New_York:20241217T120000
DTSTAMP:20260421T133249
CREATED:20230928T174939Z
LAST-MODIFIED:20241210T164104Z
UID:10005413-1734433200-1734436800@772foryou.org
SUMMARY:Labor De Parto y Nacimiento: Procedimientos
DESCRIPTION:Tener un bebé es un trabajo duro y es importante elegir cómo manejar tu dolor. ¡Tú eliges! ¿Quieres eliminar un poco o la mayor parte del dolor? Pero debes saber que elegir una opción medicada conducirá a ciertas intervenciones y procedimientos. En este video\, hablamos sobre tus opciones médicas para aliviar el dolor\, las intervenciones a las que conducen y algunos de los procedimientos médicos que podrías enfrentar durante el parto. Te mostraremos cómo tomar grandes decisiones en este momento utilizando el método B.R.A.I.N. para que tengas la mejor experiencia de parto posible.
URL:https://772foryou.org/classes/labor-de-parto-y-nacimiento-procedimientos/
ATTACH;FMTTYPE=image/webp:https://772foryou.org/wp-content/uploads/2023/09/Labor-De-Parto-y-Nacimiento-Procedimientos.webp
END:VEVENT
END:VCALENDAR