BEGIN:VCALENDAR
VERSION:2.0
PRODID:-//A Caring Center For Women - ECPv6.15.20//NONSGML v1.0//EN
CALSCALE:GREGORIAN
METHOD:PUBLISH
X-WR-CALNAME:A Caring Center For Women
X-ORIGINAL-URL:https://772foryou.org
X-WR-CALDESC:Events for A Caring Center For Women
REFRESH-INTERVAL;VALUE=DURATION:PT1H
X-Robots-Tag:noindex
X-PUBLISHED-TTL:PT1H
BEGIN:VTIMEZONE
TZID:America/New_York
BEGIN:DAYLIGHT
TZOFFSETFROM:-0500
TZOFFSETTO:-0400
TZNAME:EDT
DTSTART:20230312T070000
END:DAYLIGHT
BEGIN:STANDARD
TZOFFSETFROM:-0400
TZOFFSETTO:-0500
TZNAME:EST
DTSTART:20231105T060000
END:STANDARD
BEGIN:DAYLIGHT
TZOFFSETFROM:-0500
TZOFFSETTO:-0400
TZNAME:EDT
DTSTART:20240310T070000
END:DAYLIGHT
BEGIN:STANDARD
TZOFFSETFROM:-0400
TZOFFSETTO:-0500
TZNAME:EST
DTSTART:20241103T060000
END:STANDARD
BEGIN:DAYLIGHT
TZOFFSETFROM:-0500
TZOFFSETTO:-0400
TZNAME:EDT
DTSTART:20250309T070000
END:DAYLIGHT
BEGIN:STANDARD
TZOFFSETFROM:-0400
TZOFFSETTO:-0500
TZNAME:EST
DTSTART:20251102T060000
END:STANDARD
END:VTIMEZONE
BEGIN:VEVENT
DTSTART;TZID=America/New_York:20241105T110000
DTEND;TZID=America/New_York:20241105T120000
DTSTAMP:20260421T152621
CREATED:20241102T175513Z
LAST-MODIFIED:20241102T175513Z
UID:10006322-1730804400-1730808000@772foryou.org
SUMMARY:Labor De Parto Y Nacimiento: Preparandose
DESCRIPTION:En este video\, hablaremos sobre tres cosas importantes que necesitas saber al acercarte al nacimiento de tu bebé: 1. Cómo funciona el parto\, incluyendo por qué sientes dolor durante el trabajo de parto; 2. Las cinco señales que indican que el trabajo de parto ha comenzado; 3. Las cuatro etapas del trabajo de parto y qué esperar en cada una. ¡Tú puedes hacerlo\, y estamos aquí para ayudarte! Y cuando todo haya terminado\, estarás muy orgullosa de lo que has logrado al dar a luz. \nLos temas incluyen: • dolor • parto • señales de trabajo de parto • encajamiento del bebé • pérdida del tapón mucoso • ruptura de fuente • dolor en la parte baja de la espalda y el abdomen • contracciones de trabajo de parto • cronometraje de las contracciones • trabajo de parto prematuro • etapas del trabajo de parto • fase temprana o latente • coronación • fase activa • fase de transición • pujo y nacimiento • expulsión de la placenta • período postparto • contracciones de Braxton-Hicks.
URL:https://772foryou.org/classes/labor-de-parto-y-nacimiento-preparandose-2/
ATTACH;FMTTYPE=image/jpeg:https://772foryou.org/wp-content/uploads/2024/07/L-D-Getting-Ready.jpg
END:VEVENT
BEGIN:VEVENT
DTSTART;TZID=America/New_York:20241105T143000
DTEND;TZID=America/New_York:20241105T153000
DTSTAMP:20260421T152621
CREATED:20241102T175033Z
LAST-MODIFIED:20241102T175033Z
UID:10006323-1730817000-1730820600@772foryou.org
SUMMARY:L & D: Getting Ready
DESCRIPTION:In this video\, we’ll talk about three important things you need to know as you approach your baby’s birth: 1. How childbirth works\, including why you have pain in labor; 2. The five clues that tell you labor is here; 3. The four stages of labor and what to expect in each. You can do this\, and we’re going to help you! And when it’s all over\, you’ll be so proud of what you’ve accomplished in giving birth. Topics include: • pain • childbirth • signs of labor • lightening • lose mucus plug • water breaking • lower back and belly pain • labor contractions • timing contractions • preterm labor • stages of labor • early or latent phase • crowning • active phase • transition phase • pushing and delivery • expelling the placenta • postpartum period • Braxton-Hicks.
URL:https://772foryou.org/classes/l-d-getting-ready-4/
ATTACH;FMTTYPE=image/jpeg:https://772foryou.org/wp-content/uploads/2024/07/L-D-Getting-Ready.jpg
END:VEVENT
BEGIN:VEVENT
DTSTART;TZID=America/New_York:20241125T150000
DTEND;TZID=America/New_York:20241125T160000
DTSTAMP:20260421T152621
CREATED:20241105T220430Z
LAST-MODIFIED:20241105T220430Z
UID:10006360-1732546800-1732550400@772foryou.org
SUMMARY:L & D: Natural Comfort  Measures
DESCRIPTION:Pain in childbirth can feel pretty scary. You might wonder\, “can I handle it?! What if I can’t?” In this video we talk all about managing pain the natural way. That’s right\, without any pain medication. You can do this! You’ll learn about the three Rs: relaxation\, ritual\, and rhythm to help you manage pain. Then we discuss various natural comfort techniques to help you lessen the sensation pain. We also discuss the benefits to a more natural birth\, and why learning them is helpful\, even if you’re planning on the epidural.
URL:https://772foryou.org/classes/l-d-natural-comfort-measures-3/
ATTACH;FMTTYPE=image/jpeg:https://772foryou.org/wp-content/uploads/2022/09/Natural-labor.jpg
END:VEVENT
END:VCALENDAR