BEGIN:VCALENDAR
VERSION:2.0
PRODID:-//A Caring Center For Women - ECPv6.15.20//NONSGML v1.0//EN
CALSCALE:GREGORIAN
METHOD:PUBLISH
X-WR-CALNAME:A Caring Center For Women
X-ORIGINAL-URL:https://772foryou.org
X-WR-CALDESC:Events for A Caring Center For Women
REFRESH-INTERVAL;VALUE=DURATION:PT1H
X-Robots-Tag:noindex
X-PUBLISHED-TTL:PT1H
BEGIN:VTIMEZONE
TZID:America/New_York
BEGIN:DAYLIGHT
TZOFFSETFROM:-0500
TZOFFSETTO:-0400
TZNAME:EDT
DTSTART:20230312T070000
END:DAYLIGHT
BEGIN:STANDARD
TZOFFSETFROM:-0400
TZOFFSETTO:-0500
TZNAME:EST
DTSTART:20231105T060000
END:STANDARD
BEGIN:DAYLIGHT
TZOFFSETFROM:-0500
TZOFFSETTO:-0400
TZNAME:EDT
DTSTART:20240310T070000
END:DAYLIGHT
BEGIN:STANDARD
TZOFFSETFROM:-0400
TZOFFSETTO:-0500
TZNAME:EST
DTSTART:20241103T060000
END:STANDARD
BEGIN:DAYLIGHT
TZOFFSETFROM:-0500
TZOFFSETTO:-0400
TZNAME:EDT
DTSTART:20250309T070000
END:DAYLIGHT
BEGIN:STANDARD
TZOFFSETFROM:-0400
TZOFFSETTO:-0500
TZNAME:EST
DTSTART:20251102T060000
END:STANDARD
END:VTIMEZONE
BEGIN:VEVENT
DTSTART;TZID=America/New_York:20241016T140000
DTEND;TZID=America/New_York:20241016T150000
DTSTAMP:20260421T171515
CREATED:20231207T211251Z
LAST-MODIFIED:20241003T212548Z
UID:10005782-1729087200-1729090800@772foryou.org
SUMMARY:Planning For Birth/ Postpartum
DESCRIPTION:Planning For Birth: The best way to help your labor go the way you would like is by coming up with a birth plan. Your birth plan will help inform the nurses\, doctors\, and support people of your wishes during and after birth. This lesson will discuss several things you should consider when writing your birth plan\, such as how you wish to manage pain\, delayed cord clamping\, skin-to-skin contact. \nPostpartum: This final session will instruct you on the postpartum period (after birth). You’ll learn what to expect in the hospital or birthing center in the hours and days following birth\, and what you can expect in the first few weeks at home. Real moms also offer tips and share about the things they wish they had done differently or had known about after labor and delivery. You’ll finish this class feeling excited and ready to meet your baby and be empowered to have the best birth possible.
URL:https://772foryou.org/classes/planning-for-birth-postpartum-2/
ATTACH;FMTTYPE=image/png:https://772foryou.org/wp-content/uploads/2024/09/Planning-For-Birth-and-Postpartum.png
END:VEVENT
BEGIN:VEVENT
DTSTART;TZID=America/New_York:20241028T150000
DTEND;TZID=America/New_York:20241028T160000
DTSTAMP:20260421T171515
CREATED:20240627T152551Z
LAST-MODIFIED:20240923T203124Z
UID:10006134-1730127600-1730131200@772foryou.org
SUMMARY:L & D: Getting Ready
DESCRIPTION:In this video\, we’ll talk about three important things you need to know as you approach your baby’s birth: 1. How childbirth works\, including why you have pain in labor; 2. The five clues that tell you labor is here; 3. The four stages of labor and what to expect in each. You can do this\, and we’re going to help you! And when it’s all over\, you’ll be so proud of what you’ve accomplished in giving birth. Topics include: • pain • childbirth • signs of labor • lightening • lose mucus plug • water breaking • lower back and belly pain • labor contractions • timing contractions • preterm labor • stages of labor • early or latent phase • crowning • active phase • transition phase • pushing and delivery • expelling the placenta • postpartum period • Braxton-Hicks.
URL:https://772foryou.org/classes/l-d-getting-ready-3/
ATTACH;FMTTYPE=image/jpeg:https://772foryou.org/wp-content/uploads/2024/07/L-D-Getting-Ready.jpg
END:VEVENT
END:VCALENDAR