BEGIN:VCALENDAR
VERSION:2.0
PRODID:-//A Caring Center For Women - ECPv6.15.20//NONSGML v1.0//EN
CALSCALE:GREGORIAN
METHOD:PUBLISH
X-WR-CALNAME:A Caring Center For Women
X-ORIGINAL-URL:https://772foryou.org
X-WR-CALDESC:Events for A Caring Center For Women
REFRESH-INTERVAL;VALUE=DURATION:PT1H
X-Robots-Tag:noindex
X-PUBLISHED-TTL:PT1H
BEGIN:VTIMEZONE
TZID:America/New_York
BEGIN:DAYLIGHT
TZOFFSETFROM:-0500
TZOFFSETTO:-0400
TZNAME:EDT
DTSTART:20230312T070000
END:DAYLIGHT
BEGIN:STANDARD
TZOFFSETFROM:-0400
TZOFFSETTO:-0500
TZNAME:EST
DTSTART:20231105T060000
END:STANDARD
BEGIN:DAYLIGHT
TZOFFSETFROM:-0500
TZOFFSETTO:-0400
TZNAME:EDT
DTSTART:20240310T070000
END:DAYLIGHT
BEGIN:STANDARD
TZOFFSETFROM:-0400
TZOFFSETTO:-0500
TZNAME:EST
DTSTART:20241103T060000
END:STANDARD
BEGIN:DAYLIGHT
TZOFFSETFROM:-0500
TZOFFSETTO:-0400
TZNAME:EDT
DTSTART:20250309T070000
END:DAYLIGHT
BEGIN:STANDARD
TZOFFSETFROM:-0400
TZOFFSETTO:-0500
TZNAME:EST
DTSTART:20251102T060000
END:STANDARD
END:VTIMEZONE
BEGIN:VEVENT
DTSTART;TZID=America/New_York:20240708T150000
DTEND;TZID=America/New_York:20240708T160000
DTSTAMP:20260419T114433
CREATED:20240625T201258Z
LAST-MODIFIED:20240625T201258Z
UID:10006116-1720450800-1720454400@772foryou.org
SUMMARY:Plagiocephaly (Flattening Of Head Prevention)
DESCRIPTION:Flat head Syndrome describes an atypical head shape that develops during baby’s first year of life. The medical terms ‘positional plagiocephaly’ and ‘brachycephaly’ describes the location of the flatness. \nLearn about Plagiocephaly (Flathead) prevention and all the information.
URL:https://772foryou.org/classes/plagiocephaly-flattening-of-head-prevention-5/
ATTACH;FMTTYPE=image/webp:https://772foryou.org/wp-content/uploads/2024/04/Plagiocephaly-picture.webp
END:VEVENT
END:VCALENDAR