BEGIN:VCALENDAR
VERSION:2.0
PRODID:-//A Caring Center For Women - ECPv6.15.20//NONSGML v1.0//EN
CALSCALE:GREGORIAN
METHOD:PUBLISH
X-WR-CALNAME:A Caring Center For Women
X-ORIGINAL-URL:https://772foryou.org
X-WR-CALDESC:Events for A Caring Center For Women
REFRESH-INTERVAL;VALUE=DURATION:PT1H
X-Robots-Tag:noindex
X-PUBLISHED-TTL:PT1H
BEGIN:VTIMEZONE
TZID:America/New_York
BEGIN:DAYLIGHT
TZOFFSETFROM:-0500
TZOFFSETTO:-0400
TZNAME:EDT
DTSTART:20230312T070000
END:DAYLIGHT
BEGIN:STANDARD
TZOFFSETFROM:-0400
TZOFFSETTO:-0500
TZNAME:EST
DTSTART:20231105T060000
END:STANDARD
BEGIN:DAYLIGHT
TZOFFSETFROM:-0500
TZOFFSETTO:-0400
TZNAME:EDT
DTSTART:20240310T070000
END:DAYLIGHT
BEGIN:STANDARD
TZOFFSETFROM:-0400
TZOFFSETTO:-0500
TZNAME:EST
DTSTART:20241103T060000
END:STANDARD
BEGIN:DAYLIGHT
TZOFFSETFROM:-0500
TZOFFSETTO:-0400
TZNAME:EDT
DTSTART:20250309T070000
END:DAYLIGHT
BEGIN:STANDARD
TZOFFSETFROM:-0400
TZOFFSETTO:-0500
TZNAME:EST
DTSTART:20251102T060000
END:STANDARD
END:VTIMEZONE
BEGIN:VEVENT
DTSTART;TZID=America/New_York:20240213T143000
DTEND;TZID=America/New_York:20240213T153000
DTSTAMP:20260419T203929
CREATED:20240124T164409Z
LAST-MODIFIED:20240212T162055Z
UID:10005811-1707834600-1707838200@772foryou.org
SUMMARY:Informative prevention Flat Head Syndrome
DESCRIPTION:Learn about Plagiocephaly (flathead) prevention and all the information. \n***Call the center to sign up at 772-257-5390***
URL:https://772foryou.org/classes/informative-prevention-flat-head-syndrome/
END:VEVENT
BEGIN:VEVENT
DTSTART;TZID=America/New_York:20240223T103000
DTEND;TZID=America/New_York:20240223T113000
DTSTAMP:20260419T203929
CREATED:20240125T212446Z
LAST-MODIFIED:20240125T212743Z
UID:10005832-1708684200-1708687800@772foryou.org
SUMMARY:Color Your Dreams-Stress Release Art For Moms W/ Katherine
DESCRIPTION:Create with Katherine as she leads a relaxing Art class for moms. All materials are provided and no experience is necessary. \n*Come and enjoy a therapeutic class that will free you from stress.*
URL:https://772foryou.org/classes/color-your-dreams-stress-release-art-for-moms-w-katherine-12/
END:VEVENT
END:VCALENDAR