BEGIN:VCALENDAR
VERSION:2.0
PRODID:-//A Caring Center For Women - ECPv6.15.20//NONSGML v1.0//EN
CALSCALE:GREGORIAN
METHOD:PUBLISH
X-ORIGINAL-URL:https://772foryou.org
X-WR-CALDESC:Events for A Caring Center For Women
REFRESH-INTERVAL;VALUE=DURATION:PT1H
X-Robots-Tag:noindex
X-PUBLISHED-TTL:PT1H
BEGIN:VTIMEZONE
TZID:America/New_York
BEGIN:DAYLIGHT
TZOFFSETFROM:-0500
TZOFFSETTO:-0400
TZNAME:EDT
DTSTART:20240310T070000
END:DAYLIGHT
BEGIN:STANDARD
TZOFFSETFROM:-0400
TZOFFSETTO:-0500
TZNAME:EST
DTSTART:20241103T060000
END:STANDARD
BEGIN:DAYLIGHT
TZOFFSETFROM:-0500
TZOFFSETTO:-0400
TZNAME:EDT
DTSTART:20250309T070000
END:DAYLIGHT
BEGIN:STANDARD
TZOFFSETFROM:-0400
TZOFFSETTO:-0500
TZNAME:EST
DTSTART:20251102T060000
END:STANDARD
BEGIN:DAYLIGHT
TZOFFSETFROM:-0500
TZOFFSETTO:-0400
TZNAME:EDT
DTSTART:20260308T070000
END:DAYLIGHT
BEGIN:STANDARD
TZOFFSETFROM:-0400
TZOFFSETTO:-0500
TZNAME:EST
DTSTART:20261101T060000
END:STANDARD
END:VTIMEZONE
BEGIN:VEVENT
DTSTART;TZID=America/New_York:20250128T173000
DTEND;TZID=America/New_York:20250128T190000
DTSTAMP:20260420T111001
CREATED:20241105T222400Z
LAST-MODIFIED:20250102T191403Z
UID:10006364-1738085400-1738090800@772foryou.org
SUMMARY:Healthy Start-Señales De Parto y El Proceso De Nacimiento
DESCRIPTION:HAblemos de los signos del trabajo de parto y del nacimiento de su bebé! La planificación y preparación para el gran dia aliviaran la ansiedad y contribuirán que la experiencia del parto sea mas positiva. Destacaremos el importante papel de una persona de apoyo\, practicaremos la respiración y mas! Se anima a las personas de apoyo a asistir!
URL:https://772foryou.org/classes/healthy-start-senales-de-parto-y-el-proceso-de-nacimiento-12/
ATTACH;FMTTYPE=image/jpeg:https://772foryou.org/wp-content/uploads/2022/09/Preparing-for-Labor-and-Delivery-e1719501616661.jpeg
END:VEVENT
END:VCALENDAR