BEGIN:VCALENDAR
VERSION:2.0
PRODID:-//A Caring Center For Women - ECPv6.15.20//NONSGML v1.0//EN
CALSCALE:GREGORIAN
METHOD:PUBLISH
X-WR-CALNAME:A Caring Center For Women
X-ORIGINAL-URL:https://772foryou.org
X-WR-CALDESC:Events for A Caring Center For Women
REFRESH-INTERVAL;VALUE=DURATION:PT1H
X-Robots-Tag:noindex
X-PUBLISHED-TTL:PT1H
BEGIN:VTIMEZONE
TZID:America/New_York
BEGIN:DAYLIGHT
TZOFFSETFROM:-0500
TZOFFSETTO:-0400
TZNAME:EDT
DTSTART:20230312T070000
END:DAYLIGHT
BEGIN:STANDARD
TZOFFSETFROM:-0400
TZOFFSETTO:-0500
TZNAME:EST
DTSTART:20231105T060000
END:STANDARD
BEGIN:DAYLIGHT
TZOFFSETFROM:-0500
TZOFFSETTO:-0400
TZNAME:EDT
DTSTART:20240310T070000
END:DAYLIGHT
BEGIN:STANDARD
TZOFFSETFROM:-0400
TZOFFSETTO:-0500
TZNAME:EST
DTSTART:20241103T060000
END:STANDARD
BEGIN:DAYLIGHT
TZOFFSETFROM:-0500
TZOFFSETTO:-0400
TZNAME:EDT
DTSTART:20250309T070000
END:DAYLIGHT
BEGIN:STANDARD
TZOFFSETFROM:-0400
TZOFFSETTO:-0500
TZNAME:EST
DTSTART:20251102T060000
END:STANDARD
END:VTIMEZONE
BEGIN:VEVENT
DTSTART;TZID=America/New_York:20240702T173000
DTEND;TZID=America/New_York:20240702T190000
DTSTAMP:20260422T150755
CREATED:20240625T182609Z
LAST-MODIFIED:20240625T182609Z
UID:10006110-1719941400-1719946800@772foryou.org
SUMMARY:Healthy Start-Labor Signs & Is It Time?
DESCRIPTION:Let’s discuss signs of labor and birthing your baby! Planning and preparation for the big day will alleviate anxiety and contribute to a a more positive birth experience. We will highlight the important role of a support person\, practice breathing and more
URL:https://772foryou.org/classes/healthy-start-labor-signs-is-it-time-9/
ATTACH;FMTTYPE=image/jpeg:https://772foryou.org/wp-content/uploads/2024/06/Healthy-Start-Labor-Signs-Is-It-Time.jpg
END:VEVENT
BEGIN:VEVENT
DTSTART;TZID=America/New_York:20240709T110000
DTEND;TZID=America/New_York:20240709T123000
DTSTAMP:20260422T150755
CREATED:20240625T201431Z
LAST-MODIFIED:20240709T145431Z
UID:10006117-1720522800-1720528200@772foryou.org
SUMMARY:Healthy Start-Señales De Parto y El Proceso De Nacimiento
DESCRIPTION:HAblemos de los signos del trabajo de parto y del nacimiento de su bebé! La planificación y preparación para el gran dia aliviaran la ansiedad y contribuirán que la experiencia del parto sea mas positiva. Destacaremos el importante papel de una persona de apoyo\, practicaremos la respiración y mas! Se anima a las personas de apoyo a asistir!
URL:https://772foryou.org/classes/healthy-start-senales-de-parto-y-el-proceso-de-nacimiento-8/
ATTACH;FMTTYPE=image/jpeg:https://772foryou.org/wp-content/uploads/2022/09/Preparing-for-Labor-and-Delivery-e1719501616661.jpeg
END:VEVENT
BEGIN:VEVENT
DTSTART;TZID=America/New_York:20240709T173000
DTEND;TZID=America/New_York:20240709T190000
DTSTAMP:20260422T150755
CREATED:20240625T201907Z
LAST-MODIFIED:20240625T201907Z
UID:10006119-1720546200-1720551600@772foryou.org
SUMMARY:Healthy Start-Laboring\, Breathing\, Positioning\, Pushing & Birth
DESCRIPTION:From informed  decision making\, interventions and pain management options and breathing practice…This workshop will help you prepare!
URL:https://772foryou.org/classes/healthy-start-laboring-breathing-positioning-pushing-birth-10/
ATTACH;FMTTYPE=image/jpeg:https://772foryou.org/wp-content/uploads/2022/09/Laboring-Breathing-Pushing.jpeg
END:VEVENT
BEGIN:VEVENT
DTSTART;TZID=America/New_York:20240711T130000
DTEND;TZID=America/New_York:20240711T143000
DTSTAMP:20260422T150755
CREATED:20240625T203532Z
LAST-MODIFIED:20240625T203532Z
UID:10006123-1720702800-1720708200@772foryou.org
SUMMARY:Healthy Start Moms Group - Village Of Support
DESCRIPTION:Free support group for expectant and current mothers every Thursday of the month from 1:00-2:00 pm. Takes place at A Caring Center For Women
URL:https://772foryou.org/classes/healthy-start-moms-group-village-of-support-37/
ATTACH;FMTTYPE=image/jpeg:https://772foryou.org/wp-content/uploads/2024/04/two-moms-with-daughters.jpeg
END:VEVENT
BEGIN:VEVENT
DTSTART;TZID=America/New_York:20240716T173000
DTEND;TZID=America/New_York:20240716T190000
DTSTAMP:20260422T150755
CREATED:20240625T224306Z
LAST-MODIFIED:20240715T013419Z
UID:10006130-1721151000-1721156400@772foryou.org
SUMMARY:Healthy Start-Baby's Here! What's Normal & What's Not? Basics Of Infant CPR
DESCRIPTION:Practice and learn the basics of CPR. Then\, let’s talk about what’s normal for newborns and mamas in the immediate postpartum period. Know what to expect\, warnings signs\, infant cues and review basic infant  and self care.
URL:https://772foryou.org/classes/healthy-start-babys-here-whats-normal-whats-not-basics-of-infant-cpr-15/
ATTACH;FMTTYPE=image/jpeg:https://772foryou.org/wp-content/uploads/2024/06/Healthy-Start-Babys-Here-Whats-Normal-Whats-Not-Basics-Of-Infant-CPR.jpg
END:VEVENT
BEGIN:VEVENT
DTSTART;TZID=America/New_York:20240718T130000
DTEND;TZID=America/New_York:20240718T143000
DTSTAMP:20260422T150755
CREATED:20240627T152947Z
LAST-MODIFIED:20240715T013755Z
UID:10006136-1721307600-1721313000@772foryou.org
SUMMARY:Healthy Start Moms Group - Village Of Support
DESCRIPTION:Free support group for expectant and current mothers every Thursday of the month from 1:00-2:00 pm. Takes place at A Caring Center For Women
URL:https://772foryou.org/classes/healthy-start-moms-group-village-of-support-38/
ATTACH;FMTTYPE=image/jpeg:https://772foryou.org/wp-content/uploads/2024/04/two-moms-with-daughters.jpeg
END:VEVENT
BEGIN:VEVENT
DTSTART;TZID=America/New_York:20240725T130000
DTEND;TZID=America/New_York:20240725T143000
DTSTAMP:20260422T150755
CREATED:20240627T193535Z
LAST-MODIFIED:20240715T033305Z
UID:10006149-1721912400-1721917800@772foryou.org
SUMMARY:Healthy Start Moms Group - Village Of Support
DESCRIPTION:Free support group for expectant and current mothers every Thursday of the month from 1:00-2:00 pm. Takes place at A Caring Center For Women
URL:https://772foryou.org/classes/healthy-start-moms-group-village-of-support-39/
ATTACH;FMTTYPE=image/jpeg:https://772foryou.org/wp-content/uploads/2024/04/two-moms-with-daughters.jpeg
END:VEVENT
END:VCALENDAR