BEGIN:VCALENDAR
VERSION:2.0
PRODID:-//A Caring Center For Women - ECPv6.15.20//NONSGML v1.0//EN
CALSCALE:GREGORIAN
METHOD:PUBLISH
X-WR-CALNAME:A Caring Center For Women
X-ORIGINAL-URL:https://772foryou.org
X-WR-CALDESC:Events for A Caring Center For Women
REFRESH-INTERVAL;VALUE=DURATION:PT1H
X-Robots-Tag:noindex
X-PUBLISHED-TTL:PT1H
BEGIN:VTIMEZONE
TZID:America/New_York
BEGIN:DAYLIGHT
TZOFFSETFROM:-0500
TZOFFSETTO:-0400
TZNAME:EDT
DTSTART:20230312T070000
END:DAYLIGHT
BEGIN:STANDARD
TZOFFSETFROM:-0400
TZOFFSETTO:-0500
TZNAME:EST
DTSTART:20231105T060000
END:STANDARD
BEGIN:DAYLIGHT
TZOFFSETFROM:-0500
TZOFFSETTO:-0400
TZNAME:EDT
DTSTART:20240310T070000
END:DAYLIGHT
BEGIN:STANDARD
TZOFFSETFROM:-0400
TZOFFSETTO:-0500
TZNAME:EST
DTSTART:20241103T060000
END:STANDARD
BEGIN:DAYLIGHT
TZOFFSETFROM:-0500
TZOFFSETTO:-0400
TZNAME:EDT
DTSTART:20250309T070000
END:DAYLIGHT
BEGIN:STANDARD
TZOFFSETFROM:-0400
TZOFFSETTO:-0500
TZNAME:EST
DTSTART:20251102T060000
END:STANDARD
END:VTIMEZONE
BEGIN:VEVENT
DTSTART;TZID=America/New_York:20240604T173000
DTEND;TZID=America/New_York:20240604T190000
DTSTAMP:20260422T164422
CREATED:20240523T145826Z
LAST-MODIFIED:20240602T023211Z
UID:10006060-1717522200-1717527600@772foryou.org
SUMMARY:Healthy Start-Labor Signs & Is It Time?
DESCRIPTION:Let’s discuss signs of labor and birthing your baby! Planning and preparation for the big day will alleviate anxiety and contribute to a a more positive birth experience. We will highlight the important role of a support person\, practice breathing and more
URL:https://772foryou.org/classes/healthy-start-labor-signs-is-it-time-8/
ATTACH;FMTTYPE=image/jpeg:https://772foryou.org/wp-content/uploads/2024/06/Healthy-Start-Labor-Signs-Is-It-Time.jpg
END:VEVENT
BEGIN:VEVENT
DTSTART;TZID=America/New_York:20240606T130000
DTEND;TZID=America/New_York:20240606T143000
DTSTAMP:20260422T164422
CREATED:20240522T154143Z
LAST-MODIFIED:20240531T030617Z
UID:10006054-1717678800-1717684200@772foryou.org
SUMMARY:Healthy Start Moms Group-Village Of Support
DESCRIPTION:Free support group for expectant and current mothers every Thursday of the month from 1:00-2:00 pm. Takes place at A Caring Center For Women
URL:https://772foryou.org/classes/healthy-start-moms-group-village-of-support-36/
ATTACH;FMTTYPE=image/jpeg:https://772foryou.org/wp-content/uploads/2024/04/two-moms-with-daughters.jpeg
END:VEVENT
BEGIN:VEVENT
DTSTART;TZID=America/New_York:20240611T173000
DTEND;TZID=America/New_York:20240611T190000
DTSTAMP:20260422T164422
CREATED:20240523T171121Z
LAST-MODIFIED:20240523T171121Z
UID:10006071-1718127000-1718132400@772foryou.org
SUMMARY:Healthy Start-Laboring\, Breathing\, Positioning\, Pushing & Birth
DESCRIPTION:From informed  decision making\, interventions and pain management options and breathing practice…This workshop will help you prepare!
URL:https://772foryou.org/classes/healthy-start-laboring-breathing-positioning-pushing-birth-9/
ATTACH;FMTTYPE=image/jpeg:https://772foryou.org/wp-content/uploads/2022/09/Laboring-Breathing-Pushing.jpeg
END:VEVENT
BEGIN:VEVENT
DTSTART;TZID=America/New_York:20240613T130000
DTEND;TZID=America/New_York:20240613T143000
DTSTAMP:20260422T164422
CREATED:20240522T153051Z
LAST-MODIFIED:20240613T165253Z
UID:10006052-1718283600-1718289000@772foryou.org
SUMMARY:Healthy Start Moms Group-Village Of Support
DESCRIPTION:Free support group for expectant and current mothers every Thursday of the month from 1:00-2:00 pm. Takes place at A Caring Center For Women
URL:https://772foryou.org/classes/healthy-start-moms-group-village-of-support-31/
ATTACH;FMTTYPE=image/jpeg:https://772foryou.org/wp-content/uploads/2024/04/two-moms-with-daughters.jpeg
END:VEVENT
BEGIN:VEVENT
DTSTART;TZID=America/New_York:20240618T173000
DTEND;TZID=America/New_York:20240618T190000
DTSTAMP:20260422T164422
CREATED:20240523T195515Z
LAST-MODIFIED:20240613T165339Z
UID:10006084-1718731800-1718737200@772foryou.org
SUMMARY:Healthy Start-Baby's Here! What's Normal & What's Not? Basics Of Infant CPR
DESCRIPTION:Practice and learn the basics of CPR. Then\, let’s talk about what’s normal for newborns and mamas in the immediate postpartum period. Know what to expect\, warnings signs\, infant cues and review basic infant  and self care.
URL:https://772foryou.org/classes/healthy-start-babys-here-whats-normal-whats-not-basics-of-infant-cpr-14/
ATTACH;FMTTYPE=image/jpeg:https://772foryou.org/wp-content/uploads/2024/06/Healthy-Start-Babys-Here-Whats-Normal-Whats-Not-Basics-Of-Infant-CPR.jpg
END:VEVENT
BEGIN:VEVENT
DTSTART;TZID=America/New_York:20240620T130000
DTEND;TZID=America/New_York:20240620T143000
DTSTAMP:20260422T164422
CREATED:20240522T154344Z
LAST-MODIFIED:20240613T165405Z
UID:10006055-1718888400-1718893800@772foryou.org
SUMMARY:Healthy Start Moms Group-Village Of Support
DESCRIPTION:Free support group for expectant and current mothers every Thursday of the month from 1:00-2:00 pm. Takes place at A Caring Center For Women
URL:https://772foryou.org/classes/healthy-start-moms-group-village-of-support-34/
ATTACH;FMTTYPE=image/jpeg:https://772foryou.org/wp-content/uploads/2024/04/two-moms-with-daughters.jpeg
END:VEVENT
BEGIN:VEVENT
DTSTART;TZID=America/New_York:20240627T130000
DTEND;TZID=America/New_York:20240627T143000
DTSTAMP:20260422T164422
CREATED:20240522T154809Z
LAST-MODIFIED:20240613T165515Z
UID:10006056-1719493200-1719498600@772foryou.org
SUMMARY:Healthy Start Moms Group - Village Of Support
DESCRIPTION:Free support group for expectant and current mothers every Thursday of the month from 1:00-2:00 pm. Takes place at A Caring Center For Women
URL:https://772foryou.org/classes/healthy-start-moms-group-village-of-support-35/
ATTACH;FMTTYPE=image/jpeg:https://772foryou.org/wp-content/uploads/2024/04/two-moms-with-daughters.jpeg
END:VEVENT
END:VCALENDAR