BEGIN:VCALENDAR
VERSION:2.0
PRODID:-//A Caring Center For Women - ECPv6.15.20//NONSGML v1.0//EN
CALSCALE:GREGORIAN
METHOD:PUBLISH
X-ORIGINAL-URL:https://772foryou.org
X-WR-CALDESC:Events for A Caring Center For Women
REFRESH-INTERVAL;VALUE=DURATION:PT1H
X-Robots-Tag:noindex
X-PUBLISHED-TTL:PT1H
BEGIN:VTIMEZONE
TZID:America/New_York
BEGIN:DAYLIGHT
TZOFFSETFROM:-0500
TZOFFSETTO:-0400
TZNAME:EDT
DTSTART:20230312T070000
END:DAYLIGHT
BEGIN:STANDARD
TZOFFSETFROM:-0400
TZOFFSETTO:-0500
TZNAME:EST
DTSTART:20231105T060000
END:STANDARD
BEGIN:DAYLIGHT
TZOFFSETFROM:-0500
TZOFFSETTO:-0400
TZNAME:EDT
DTSTART:20240310T070000
END:DAYLIGHT
BEGIN:STANDARD
TZOFFSETFROM:-0400
TZOFFSETTO:-0500
TZNAME:EST
DTSTART:20241103T060000
END:STANDARD
BEGIN:DAYLIGHT
TZOFFSETFROM:-0500
TZOFFSETTO:-0400
TZNAME:EDT
DTSTART:20250309T070000
END:DAYLIGHT
BEGIN:STANDARD
TZOFFSETFROM:-0400
TZOFFSETTO:-0500
TZNAME:EST
DTSTART:20251102T060000
END:STANDARD
END:VTIMEZONE
BEGIN:VEVENT
DTSTART;TZID=America/New_York:20240502T130000
DTEND;TZID=America/New_York:20240502T143000
DTSTAMP:20260422T180515
CREATED:20240410T183428Z
LAST-MODIFIED:20240422T183911Z
UID:10005939-1714654800-1714660200@772foryou.org
SUMMARY:Healthy Start Moms Group-Village Of Support
DESCRIPTION:Free support group for expectant and current mothers every Thursday of the month from 1:00-2:00 pm. Takes place at A Caring Center For Women
URL:https://772foryou.org/classes/healthy-start-moms-group-village-of-support-28/
ATTACH;FMTTYPE=image/jpeg:https://772foryou.org/wp-content/uploads/2024/04/two-moms-with-daughters.jpeg
END:VEVENT
BEGIN:VEVENT
DTSTART;TZID=America/New_York:20240507T173000
DTEND;TZID=America/New_York:20240507T190000
DTSTAMP:20260422T180515
CREATED:20240430T223935Z
LAST-MODIFIED:20240430T224030Z
UID:10005994-1715103000-1715108400@772foryou.org
SUMMARY:Healthy Start-Labor Signs & Is It Time?
DESCRIPTION:Let’s discuss signs of labor and birthing your baby! Planning and preparation for the big day will alleviate anxiety and contribute to a a more positive birth experience. We will highlight the important role of a support person\, practice breathing and more
URL:https://772foryou.org/classes/healthy-start-labor-signs-is-it-time-7/
END:VEVENT
BEGIN:VEVENT
DTSTART;TZID=America/New_York:20240514T173000
DTEND;TZID=America/New_York:20240514T190000
DTSTAMP:20260422T180515
CREATED:20240415T193808Z
LAST-MODIFIED:20240422T194038Z
UID:10005959-1715707800-1715713200@772foryou.org
SUMMARY:Healthy Start-Laboring\, Breathing\, Positioning\, Pushing & Birth
DESCRIPTION:From informed  decision making\, interventions and pain management options and breathing practice…This workshop will help you prepare!
URL:https://772foryou.org/classes/healthy-start-laboring-breathing-positioning-pushing-birth-8/
ATTACH;FMTTYPE=image/jpeg:https://772foryou.org/wp-content/uploads/2022/09/Laboring-Breathing-Pushing.jpeg
END:VEVENT
BEGIN:VEVENT
DTSTART;TZID=America/New_York:20240516T130000
DTEND;TZID=America/New_York:20240516T143000
DTSTAMP:20260422T180515
CREATED:20240416T220935Z
LAST-MODIFIED:20240422T195842Z
UID:10005740-1715864400-1715869800@772foryou.org
SUMMARY:Healthy Start Moms Group-Village Of Support
DESCRIPTION:Free support group for expectant and current mothers every Thursday from 1:00 to 2:30 pm. Takes place at A Caring Center for Women.
URL:https://772foryou.org/classes/healthy-start-moms-group-village-of-support-29/
ATTACH;FMTTYPE=image/jpeg:https://772foryou.org/wp-content/uploads/2024/04/two-moms-with-daughters.jpeg
END:VEVENT
BEGIN:VEVENT
DTSTART;TZID=America/New_York:20240521T173000
DTEND;TZID=America/New_York:20240521T190000
DTSTAMP:20260422T180515
CREATED:20240418T153019Z
LAST-MODIFIED:20240422T202412Z
UID:10005968-1716312600-1716318000@772foryou.org
SUMMARY:Healthy Start-Baby’s  Here! What’s Normal & What’s Not? Basics Of CPR
DESCRIPTION:Practice and learn the basics of CPR. Then\, let’s talk about what’s normal for newborns and mamas in the immediate postpartum period. Know what to expect\, warning signs\, infant and self care.
URL:https://772foryou.org/classes/healthy-start-babys-here-whats-normal-whats-not-basics-of-cpr-2/
ATTACH;FMTTYPE=image/jpeg:https://772foryou.org/wp-content/uploads/2022/08/infant-cpr-Common-Injuries-Article.jpeg
END:VEVENT
BEGIN:VEVENT
DTSTART;TZID=America/New_York:20240523T130000
DTEND;TZID=America/New_York:20240523T143000
DTSTAMP:20260422T180515
CREATED:20240420T114742Z
LAST-MODIFIED:20240423T151012Z
UID:10005990-1716469200-1716474600@772foryou.org
SUMMARY:Healthy Start Moms Group-Village Of Support
DESCRIPTION:Free support group for expectant and current mothers every Thursday of the month from 1:00-2:00 pm. Takes place at A Caring Center For Women
URL:https://772foryou.org/classes/healthy-start-moms-group-village-of-support-32/
ATTACH;FMTTYPE=image/jpeg:https://772foryou.org/wp-content/uploads/2024/04/two-moms-with-daughters.jpeg
END:VEVENT
BEGIN:VEVENT
DTSTART;TZID=America/New_York:20240528T173000
DTEND;TZID=America/New_York:20240528T190000
DTSTAMP:20260422T180515
CREATED:20240418T182058Z
LAST-MODIFIED:20240423T152946Z
UID:10005977-1716917400-1716922800@772foryou.org
SUMMARY:Healthy Start-Señales De Parto y El Proceso De Nacimiento
DESCRIPTION:HAblemos de los signos del trabajo de parto y del nacimiento de su bebé! La planificación y preparación para el gran dia aliviaran la ansiedad y contribuirán que la experiencia del parto sea mas positiva. Destacaremos el importante papel de una persona de apoyo\, practicaremos la respiración y mas! Se anima a las personas de apoyo a asistir!
URL:https://772foryou.org/classes/healthy-start-senales-de-parto-y-el-proceso-de-nacimiento-7/
ATTACH;FMTTYPE=image/jpeg:https://772foryou.org/wp-content/uploads/2022/09/Preparing-for-Labor-and-Delivery-e1719501616661.jpeg
END:VEVENT
BEGIN:VEVENT
DTSTART;TZID=America/New_York:20240530T130000
DTEND;TZID=America/New_York:20240530T143000
DTSTAMP:20260422T180515
CREATED:20240420T114831Z
LAST-MODIFIED:20240423T154826Z
UID:10005991-1717074000-1717079400@772foryou.org
SUMMARY:Healthy Start Moms Group-Village Of Support
DESCRIPTION:Free support group for expectant and current mothers every Thursday of the month from 1:00-2:00 pm. Takes place at A Caring Center For Women
URL:https://772foryou.org/classes/healthy-start-moms-group-village-of-support-33/
ATTACH;FMTTYPE=image/jpeg:https://772foryou.org/wp-content/uploads/2024/04/two-moms-with-daughters.jpeg
END:VEVENT
END:VCALENDAR