BEGIN:VCALENDAR
VERSION:2.0
PRODID:-//A Caring Center For Women - ECPv6.15.20//NONSGML v1.0//EN
CALSCALE:GREGORIAN
METHOD:PUBLISH
X-ORIGINAL-URL:https://772foryou.org
X-WR-CALDESC:Events for A Caring Center For Women
REFRESH-INTERVAL;VALUE=DURATION:PT1H
X-Robots-Tag:noindex
X-PUBLISHED-TTL:PT1H
BEGIN:VTIMEZONE
TZID:America/New_York
BEGIN:DAYLIGHT
TZOFFSETFROM:-0500
TZOFFSETTO:-0400
TZNAME:EDT
DTSTART:20230312T070000
END:DAYLIGHT
BEGIN:STANDARD
TZOFFSETFROM:-0400
TZOFFSETTO:-0500
TZNAME:EST
DTSTART:20231105T060000
END:STANDARD
BEGIN:DAYLIGHT
TZOFFSETFROM:-0500
TZOFFSETTO:-0400
TZNAME:EDT
DTSTART:20240310T070000
END:DAYLIGHT
BEGIN:STANDARD
TZOFFSETFROM:-0400
TZOFFSETTO:-0500
TZNAME:EST
DTSTART:20241103T060000
END:STANDARD
BEGIN:DAYLIGHT
TZOFFSETFROM:-0500
TZOFFSETTO:-0400
TZNAME:EDT
DTSTART:20250309T070000
END:DAYLIGHT
BEGIN:STANDARD
TZOFFSETFROM:-0400
TZOFFSETTO:-0500
TZNAME:EST
DTSTART:20251102T060000
END:STANDARD
END:VTIMEZONE
BEGIN:VEVENT
DTSTART;TZID=America/New_York:20240703T103000
DTEND;TZID=America/New_York:20240703T113000
DTSTAMP:20260421T115919
CREATED:20240625T183301Z
LAST-MODIFIED:20240626T221857Z
UID:10006111-1720002600-1720006200@772foryou.org
SUMMARY:Movimiento del Bebé
DESCRIPTION:Aun cuando tu bebé no había nacido\, ya estaba en movimiento. La mayor parte de su desarrollo físico antes y después del nacimiento lo conduce a lograr sus metas de ponerse de pie y caminar. Desde los primeros gestos hasta que logra dar sus primeros pasos\, brincos y saltos\, el bebé debe aprender nuevas habilidades. Tu bebé tiene muchas cosas que ver y experimentar. Este video acompañará a los padres a través del desarrollo del bebé desde sus primeras risas\, balbuceos y gestos\, hasta dar sus primeros pasos. También te ofrecerá consejos sobre cómo crear un ambiente seguro para cuando el bebé comience a explorar\, y qué hacer si te sientes como en un laberinto sin salida si tu bebé no está logrando sus primeras metas.
URL:https://772foryou.org/classes/movimiento-del-bebe-3/
ATTACH;FMTTYPE=image/jpeg:https://772foryou.org/wp-content/uploads/2024/06/Movimiento-del-Bebe.jpg
END:VEVENT
BEGIN:VEVENT
DTSTART;TZID=America/New_York:20240703T123000
DTEND;TZID=America/New_York:20240703T133000
DTSTAMP:20260421T115919
CREATED:20240625T183542Z
LAST-MODIFIED:20240626T222257Z
UID:10006112-1720009800-1720013400@772foryou.org
SUMMARY:Baby on The Move
DESCRIPTION:Even before your baby was born\, she was on the move. Much of her physical development before and after birth leads to her ultimate goals of standing and walking. From the earliest milestones to when she is finally walking\, skipping\, and jumping\, a baby must learn many new skills along the way. This video will walk a parent through the developmental milestones that ultimately lead to their baby’s first steps. It will also offer helpful tips to create a safe environment for a baby’s exploration\, and what to do if they come to a bump in the road\, where their baby is not hitting those key milestones
URL:https://772foryou.org/classes/baby-on-the-move-5/
ATTACH;FMTTYPE=image/jpeg:https://772foryou.org/wp-content/uploads/2024/06/Baby-on-the-Move-original.jpg
END:VEVENT
BEGIN:VEVENT
DTSTART;TZID=America/New_York:20240703T140000
DTEND;TZID=America/New_York:20240703T150000
DTSTAMP:20260421T115919
CREATED:20240625T200836Z
LAST-MODIFIED:20240625T200836Z
UID:10006114-1720015200-1720018800@772foryou.org
SUMMARY:Infant Expectations 0-3 Months
DESCRIPTION:In the first three months\, it may seem that all your baby does at first is eat\, sleep\, poop\, and repeat. But really\, a lot of changes occur as your newborn discovers life outside the womb. They are developing physical strength\, learning to communicate and interact with you\, and taking in all the sights and sounds of their new world. And to top it off\, they are hitting important milestones that start them on their way to growing up! In this video\, we talk about what milestones are and the milestones your baby should be hitting by three months!
URL:https://772foryou.org/classes/infant-expectations-0-3-months-5/
ATTACH;FMTTYPE=image/jpeg:https://772foryou.org/wp-content/uploads/2022/09/desarrollo-de-bebe-de-0-3-meses.jpeg
END:VEVENT
END:VCALENDAR