BEGIN:VCALENDAR
VERSION:2.0
PRODID:-//A Caring Center For Women - ECPv6.15.20//NONSGML v1.0//EN
CALSCALE:GREGORIAN
METHOD:PUBLISH
X-WR-CALNAME:A Caring Center For Women
X-ORIGINAL-URL:https://772foryou.org
X-WR-CALDESC:Events for A Caring Center For Women
REFRESH-INTERVAL;VALUE=DURATION:PT1H
X-Robots-Tag:noindex
X-PUBLISHED-TTL:PT1H
BEGIN:VTIMEZONE
TZID:America/New_York
BEGIN:DAYLIGHT
TZOFFSETFROM:-0500
TZOFFSETTO:-0400
TZNAME:EDT
DTSTART:20230312T070000
END:DAYLIGHT
BEGIN:STANDARD
TZOFFSETFROM:-0400
TZOFFSETTO:-0500
TZNAME:EST
DTSTART:20231105T060000
END:STANDARD
BEGIN:DAYLIGHT
TZOFFSETFROM:-0500
TZOFFSETTO:-0400
TZNAME:EDT
DTSTART:20240310T070000
END:DAYLIGHT
BEGIN:STANDARD
TZOFFSETFROM:-0400
TZOFFSETTO:-0500
TZNAME:EST
DTSTART:20241103T060000
END:STANDARD
BEGIN:DAYLIGHT
TZOFFSETFROM:-0500
TZOFFSETTO:-0400
TZNAME:EDT
DTSTART:20250309T070000
END:DAYLIGHT
BEGIN:STANDARD
TZOFFSETFROM:-0400
TZOFFSETTO:-0500
TZNAME:EST
DTSTART:20251102T060000
END:STANDARD
END:VTIMEZONE
BEGIN:VEVENT
DTSTART;TZID=America/New_York:20240410T103000
DTEND;TZID=America/New_York:20240410T113000
DTSTAMP:20260421T171629
CREATED:20240326T204531Z
LAST-MODIFIED:20240403T142808Z
UID:10005903-1712745000-1712748600@772foryou.org
SUMMARY:Expectativas  Del Niño De 12-15 Meses
DESCRIPTION:Su ocupado niño pequeño está aprendiendo rápidamente nuevas habilidades en las áreas de desarrollo cognitivo\, desarrollo del lenguaje y la comunicación\, desarrollo social y emocional y desarrollo físico. Cada mes trae nuevos y emocionantes avances en lo que pueden hacer. Estos videos cubren los hitos que su hijo alcanzará entre los 12 y 15 meses\, las habilidades que adquirirá a medida que avanza hacia la independencia y cuándo llamar a su proveedor médico. Los temas incluyen: •Hitos •12-15 meses •Desarrollo cognitivo •Desarrollo del lenguaje •Desarrollo del habla •Desarrollo social •Desarrollo emocional •Desarrollo físico •Habilidades motoras gruesas •Habilidades motoras finas •Niños pequeños •gatear •Habilidades móviles •Cuidado personal
URL:https://772foryou.org/classes/expectativas-del-nino-de-12-15-meses/
END:VEVENT
BEGIN:VEVENT
DTSTART;TZID=America/New_York:20240410T123000
DTEND;TZID=America/New_York:20240410T133000
DTSTAMP:20260421T171629
CREATED:20240326T204814Z
LAST-MODIFIED:20240403T142931Z
UID:10005904-1712752200-1712755800@772foryou.org
SUMMARY:Infant Expectations:12-15  Months
DESCRIPTION:Your busy toddler is quickly learning new skills in the areas of cognitive development\, language and communication development\, social and emotional development\, and physical development. Every month brings exciting new advances to what they can do. These videos cover the milestones your child will be hitting between 12 – 15 months\, the abilities they will be acquiring as they move toward independence\, and when to call your medical provider. Topics include: •Milestones •12-15 Months •Cognitive Development •Language Development •Speech Development •Social Development •Emotional Development •Physical Development •Gross Motor Skills •Fine Motor Skills •Toddler •Crawl •Mobile Skills •Self Care
URL:https://772foryou.org/classes/infant-expectations12-15-months/
END:VEVENT
BEGIN:VEVENT
DTSTART;TZID=America/New_York:20240410T140000
DTEND;TZID=America/New_York:20240410T150000
DTSTAMP:20260421T171629
CREATED:20240326T205549Z
LAST-MODIFIED:20240403T143024Z
UID:10005905-1712757600-1712761200@772foryou.org
SUMMARY:Infant Hygiene
DESCRIPTION:This video provides standard techniques of care that will help parents provide for their infant’s day-to-day hygiene needs. Topics include: newborn • diapering • cloth diapers • disposable diapers • diaper rash • umbilical stump and diapering • bath basics • water temp • bath frequency • bath safety • clipping fingernails • clipping toenails • skincare • newborn skin • sunscreen • baby hair • cradle cap • umbilical care • umbilical stump • infection • circumcision care • non-circumcision care • penis care.
URL:https://772foryou.org/classes/infant-hygiene-4/
END:VEVENT
END:VCALENDAR