BEGIN:VCALENDAR
VERSION:2.0
PRODID:-//A Caring Center For Women - ECPv6.15.20//NONSGML v1.0//EN
CALSCALE:GREGORIAN
METHOD:PUBLISH
X-ORIGINAL-URL:https://772foryou.org
X-WR-CALDESC:Events for A Caring Center For Women
REFRESH-INTERVAL;VALUE=DURATION:PT1H
X-Robots-Tag:noindex
X-PUBLISHED-TTL:PT1H
BEGIN:VTIMEZONE
TZID:America/New_York
BEGIN:DAYLIGHT
TZOFFSETFROM:-0500
TZOFFSETTO:-0400
TZNAME:EDT
DTSTART:20230312T070000
END:DAYLIGHT
BEGIN:STANDARD
TZOFFSETFROM:-0400
TZOFFSETTO:-0500
TZNAME:EST
DTSTART:20231105T060000
END:STANDARD
BEGIN:DAYLIGHT
TZOFFSETFROM:-0500
TZOFFSETTO:-0400
TZNAME:EDT
DTSTART:20240310T070000
END:DAYLIGHT
BEGIN:STANDARD
TZOFFSETFROM:-0400
TZOFFSETTO:-0500
TZNAME:EST
DTSTART:20241103T060000
END:STANDARD
BEGIN:DAYLIGHT
TZOFFSETFROM:-0500
TZOFFSETTO:-0400
TZNAME:EDT
DTSTART:20250309T070000
END:DAYLIGHT
BEGIN:STANDARD
TZOFFSETFROM:-0400
TZOFFSETTO:-0500
TZNAME:EST
DTSTART:20251102T060000
END:STANDARD
END:VTIMEZONE
BEGIN:VEVENT
DTSTART;TZID=America/New_York:20240129T110000
DTEND;TZID=America/New_York:20240129T120000
DTSTAMP:20260421T222318
CREATED:20231207T210640Z
LAST-MODIFIED:20231207T210640Z
UID:10005780-1706526000-1706529600@772foryou.org
SUMMARY:Movimiento del Bebé
DESCRIPTION:Aun cuando tu bebé no había nacido\, ya estaba en movimiento. La mayor parte de su desarrollo físico antes y después del nacimiento lo conduce a lograr sus metas de ponerse de pie y caminar. Desde los primeros gestos hasta que logra dar sus primeros pasos\, brincos y saltos\, el bebé debe aprender nuevas habilidades. Tu bebé tiene muchas cosas que ver y experimentar. Este video acompañará a los padres a través del desarrollo del bebé desde sus primeras risas\, balbuceos y gestos\, hasta dar sus primeros pasos. También te ofrecerá consejos sobre cómo crear un ambiente seguro para cuando el bebé comience a explorar\, y qué hacer si te sientes como en un laberinto sin salida si tu bebé no está logrando sus primeras metas.
URL:https://772foryou.org/classes/movimiento-del-bebe-2/
END:VEVENT
BEGIN:VEVENT
DTSTART;TZID=America/New_York:20240129T133000
DTEND;TZID=America/New_York:20240129T143000
DTSTAMP:20260421T222318
CREATED:20231207T210851Z
LAST-MODIFIED:20231207T210851Z
UID:10005781-1706535000-1706538600@772foryou.org
SUMMARY:Baby on The Move
DESCRIPTION:Even before your baby was born\, she was on the move. Much of her physical development before and after birth leads to her ultimate goals of standing and walking. From the earliest milestones to when she is finally walking\, skipping\, and jumping\, a baby must learn many new skills along the way. This video will walk a parent through the developmental milestones that ultimately lead to their baby’s first steps. It will also offer helpful tips to create a safe environment for a baby’s exploration\, and what to do if they come to a bump in the road\, where their baby is not hitting those key milestones
URL:https://772foryou.org/classes/baby-on-the-move-4/
END:VEVENT
BEGIN:VEVENT
DTSTART;TZID=America/New_York:20240130T173000
DTEND;TZID=America/New_York:20240130T183000
DTSTAMP:20260421T222318
CREATED:20231207T212329Z
LAST-MODIFIED:20231207T212329Z
UID:10005786-1706635800-1706639400@772foryou.org
SUMMARY:Infant Expectations: 3-6 Months
DESCRIPTION:In this video\, we talk about the development you’ll see in your baby in the three- to six-month range and how you can encourage and help your baby learn. Topics include: • three to six months • language and communication • social and emotional milestones • cognitive milestones • development • normal expected age ranges • infant milestones • movement milestones • physical development • baby’s personality • interacting with baby.
URL:https://772foryou.org/classes/infant-expectations-3-6-months-2/
END:VEVENT
BEGIN:VEVENT
DTSTART;TZID=America/New_York:20240131T103000
DTEND;TZID=America/New_York:20240131T113000
DTSTAMP:20260421T222318
CREATED:20231207T212549Z
LAST-MODIFIED:20231207T212549Z
UID:10005785-1706697000-1706700600@772foryou.org
SUMMARY:Expectativas Del Niño de 0-3 Meses
DESCRIPTION:En los primeros tres meses puede parecer que todo lo que su bebé hace al principio es comer\, dormir\, defecar y así de nuevo otra vez. Pero en realidad se producen muchos cambios a medida que su recién nacido descubre la vida fuera del vientre. Está adquiriendo fuerza física\, aprendiendo a comunicarse y a interactuar con usted\, asimilando lo que ve y los sonidos de su nuevo mundo. Y además de todo eso\, ¡está logrando cosas importantes que lo llevará por el camino del crecimiento! ¡En este video hablaremos sobre qué son los logros y qué debería lograr su bebé a los tres meses!
URL:https://772foryou.org/classes/expectativas-del-nino-de-0-3-meses/
END:VEVENT
BEGIN:VEVENT
DTSTART;TZID=America/New_York:20240131T123000
DTEND;TZID=America/New_York:20240131T133000
DTSTAMP:20260421T222318
CREATED:20231207T212745Z
LAST-MODIFIED:20231207T212745Z
UID:10005787-1706704200-1706707800@772foryou.org
SUMMARY:Infant Expectations 0-3 Months
DESCRIPTION:In the first three months\, it may seem that all your baby does at first is eat\, sleep\, poop\, and repeat. But really\, a lot of changes occur as your newborn discovers life outside the womb. They are developing physical strength\, learning to communicate and interact with you\, and taking in all the sights and sounds of their new world. And to top it off\, they are hitting important milestones that start them on their way to growing up! In this video\, we talk about what milestones are and the milestones your baby should be hitting by three months!
URL:https://772foryou.org/classes/infant-expectations-0-3-months-4/
END:VEVENT
END:VCALENDAR