BEGIN:VCALENDAR
VERSION:2.0
PRODID:-//A Caring Center For Women - ECPv6.15.20//NONSGML v1.0//EN
CALSCALE:GREGORIAN
METHOD:PUBLISH
X-ORIGINAL-URL:https://772foryou.org
X-WR-CALDESC:Events for A Caring Center For Women
REFRESH-INTERVAL;VALUE=DURATION:PT1H
X-Robots-Tag:noindex
X-PUBLISHED-TTL:PT1H
BEGIN:VTIMEZONE
TZID:America/New_York
BEGIN:DAYLIGHT
TZOFFSETFROM:-0500
TZOFFSETTO:-0400
TZNAME:EDT
DTSTART:20240310T070000
END:DAYLIGHT
BEGIN:STANDARD
TZOFFSETFROM:-0400
TZOFFSETTO:-0500
TZNAME:EST
DTSTART:20241103T060000
END:STANDARD
BEGIN:DAYLIGHT
TZOFFSETFROM:-0500
TZOFFSETTO:-0400
TZNAME:EDT
DTSTART:20250309T070000
END:DAYLIGHT
BEGIN:STANDARD
TZOFFSETFROM:-0400
TZOFFSETTO:-0500
TZNAME:EST
DTSTART:20251102T060000
END:STANDARD
BEGIN:DAYLIGHT
TZOFFSETFROM:-0500
TZOFFSETTO:-0400
TZNAME:EDT
DTSTART:20260308T070000
END:DAYLIGHT
BEGIN:STANDARD
TZOFFSETFROM:-0400
TZOFFSETTO:-0500
TZNAME:EST
DTSTART:20261101T060000
END:STANDARD
END:VTIMEZONE
BEGIN:VTIMEZONE
TZID:UTC
BEGIN:STANDARD
TZOFFSETFROM:+0000
TZOFFSETTO:+0000
TZNAME:UTC
DTSTART:20240101T000000
END:STANDARD
END:VTIMEZONE
BEGIN:VEVENT
DTSTART;TZID=America/New_York:20250426T093000
DTEND;TZID=America/New_York:20250426T110000
DTSTAMP:20260422T134205
CREATED:20250408T223754Z
LAST-MODIFIED:20250408T223754Z
UID:10006525-1745659800-1745665200@772foryou.org
SUMMARY:Dad Up (Saturday)
DESCRIPTION:Dad Up: Empowering Fathers\, Strengthening Families \nDad Up is a powerful fatherhood initiative designed to help dads build\, rebuild\, and strengthen the connection with their children. This free weekly group offers essential information\, resources\, and services tailored to both expectant and new dads\, providing the tools to be a confident and involved father. \nEach week\, Dad Up covers topics like child development\, parenting strategies\, and strengthening relationships\, while offering access to a network of community resources. No two sessions are the same\, ensuring fresh insights and discussions each time. \nDon’t miss this opportunity to improve your family’s future — Dad Up and watch the benefits grow! \nIf you have any questions\, please call or text Shamus at (772) 282-8407.
URL:https://772foryou.org/classes/dad-up-saturday-10/
ATTACH;FMTTYPE=image/png:https://772foryou.org/wp-content/uploads/2024/09/Dad-Up-Saturdays.png
END:VEVENT
BEGIN:VEVENT
DTSTART;TZID=America/New_York:20250424T173000
DTEND;TZID=America/New_York:20250424T183000
DTSTAMP:20260422T134205
CREATED:20250408T223533Z
LAST-MODIFIED:20250408T223533Z
UID:10006524-1745515800-1745519400@772foryou.org
SUMMARY:18-24 Months Milestones
DESCRIPTION:Your busy toddler is quickly learning new skills in the areas of cognitive development\, language and communication development\, social and emotional development\, and physical development. Every month brings exciting\, new advancements in what he can do. These videos cover the milestones your child will be hitting between eighteen and twenty-four months\, the abilities he will be acquiring as he moves toward independence\, and when to call your medical provider if problems occur. Topics include: • milestones • 18–24 months • cognitive development • language development • speech development • social development • emotional development • physical development • toddlers • thought process • language skills • vocabulary • big emotions • big movement • fine movement • toilet training.
URL:https://772foryou.org/classes/18-24-months-milestones-4/
ATTACH;FMTTYPE=image/jpeg:https://772foryou.org/wp-content/uploads/2022/11/toddler-milestones-18-24months.jpg
END:VEVENT
BEGIN:VEVENT
DTSTART;TZID=America/New_York:20250424T130000
DTEND;TZID=America/New_York:20250424T140000
DTSTAMP:20260422T134205
CREATED:20250408T223335Z
LAST-MODIFIED:20250408T223335Z
UID:10006523-1745499600-1745503200@772foryou.org
SUMMARY:Healthy Start-Moms Group-Village Of Support
DESCRIPTION:Free Support group for expectant and current mothers every Thursday of the Month from 1:00 pm to 2:00 pm. Takes place at A Caring Center For Women.
URL:https://772foryou.org/classes/healthy-start-moms-group-village-of-support-69/
ATTACH;FMTTYPE=image/jpeg:https://772foryou.org/wp-content/uploads/2024/04/two-moms-with-daughters.jpeg
END:VEVENT
BEGIN:VEVENT
DTSTART;TZID=America/New_York:20250424T110000
DTEND;TZID=America/New_York:20250424T120000
DTSTAMP:20260422T134205
CREATED:20250408T222938Z
LAST-MODIFIED:20250408T222938Z
UID:10006522-1745492400-1745496000@772foryou.org
SUMMARY:El Último Tramo
DESCRIPTION:Ready\, set\, GO! The end of your pregnancy feels like a hundred days crammed into one long month that amazingly doesn’t seem that long to get everything ready to bring your baby home. There is so much to do and keep track of before birth! In this video we’ll talk about what to keep an eye on in your pregnancy\, things to prepare for\, and how to recognize important signs of labor. Phew! You can do it! You really are on the last leg!
URL:https://772foryou.org/classes/el-ultimo-tramo-3/
ATTACH;FMTTYPE=image/jpeg:https://772foryou.org/wp-content/uploads/2024/07/El-Ultimo-Tramo.jpg
END:VEVENT
BEGIN:VEVENT
DTSTART;TZID=America/New_York:20250423T140000
DTEND;TZID=America/New_York:20250423T150000
DTSTAMP:20260422T134205
CREATED:20250408T222530Z
LAST-MODIFIED:20250408T222530Z
UID:10006521-1745416800-1745420400@772foryou.org
SUMMARY:Labor Expectations
DESCRIPTION:They did it! Couples Laila and Joseph\, Mikayla and Kyle\, and Mariah and Tyler each had their babies! I bet you can’t wait to see how it all turned out in this final video! Join these three couples as their pregnancies come to an end and experience labor and delivery with them as they have their babies. Topics include: • Mariah • Tyler • Laila • Joseph • Mikayla • Kyle • labor • contractions • pushing • epidural • pitocin.
URL:https://772foryou.org/classes/labor-expectations-4/
ATTACH;FMTTYPE=image/jpeg:https://772foryou.org/wp-content/uploads/2024/07/Labor-Expectations.jpg
END:VEVENT
BEGIN:VEVENT
DTSTART;TZID=UTC:20250423T123000
DTEND;TZID=UTC:20250423T133000
DTSTAMP:20260422T134205
CREATED:20250408T222244Z
LAST-MODIFIED:20250408T222244Z
UID:10006520-1745411400-1745415000@772foryou.org
SUMMARY:Ready To Learn
DESCRIPTION:Ready To Learn
URL:https://772foryou.org/classes/ready-to-learn-3/
END:VEVENT
BEGIN:VEVENT
DTSTART;TZID=UTC:20250423T103000
DTEND;TZID=UTC:20250423T113000
DTSTAMP:20260422T134205
CREATED:20250403T195205Z
LAST-MODIFIED:20250403T200025Z
UID:10006519-1745404200-1745407800@772foryou.org
SUMMARY:Listos Para Aprender
DESCRIPTION:Listos Para Aprender
URL:https://772foryou.org/classes/listos-para-aprender-2/
END:VEVENT
BEGIN:VEVENT
DTSTART;TZID=America/New_York:20250422T170000
DTEND;TZID=America/New_York:20250422T190000
DTSTAMP:20260422T134205
CREATED:20250403T194950Z
LAST-MODIFIED:20250403T194950Z
UID:10006518-1745341200-1745348400@772foryou.org
SUMMARY:Healthy Start-El Parto\, Personal De Apoyo Y Nacimiento
DESCRIPTION:Desde tomar decisiones informadas durante el parto\, intervenciones y opciones para el manejo del dolor de parto\, hasta posiciones y práctica de respiración… ¡Esta clase la ayudará a prepararse!
URL:https://772foryou.org/classes/healthy-start-el-parto-personal-de-apoyo-y-nacimiento-2/
ATTACH;FMTTYPE=image/webp:https://772foryou.org/wp-content/uploads/2023/09/Healthy-Start-El-Parto-Personal-De-Apoyo-Y-Nacimiento.webp
END:VEVENT
BEGIN:VEVENT
DTSTART;TZID=America/New_York:20250422T130000
DTEND;TZID=America/New_York:20250422T150000
DTSTAMP:20260422T134205
CREATED:20250403T194757Z
LAST-MODIFIED:20250403T194757Z
UID:10006517-1745326800-1745334000@772foryou.org
SUMMARY:Anything Breastfeeding Mary Becker-IBCLC
DESCRIPTION:Led by lactation consultant\, Mary Becker\, this is your chance to get unfiltered answers to all the questions you have about breastfeeding. Mary is well known in our community for her work empowering women to breastfeed with confidence. Our staff always loves when she is in the center\, you can expect lots of laughter and fun in this group center.
URL:https://772foryou.org/classes/anything-breastfeeding-mary-becker-ibclc-15/
ATTACH;FMTTYPE=image/jpeg:https://772foryou.org/wp-content/uploads/2022/11/mum-breastfeeding-her-baby-with-lactation-clonsultant.jpg
END:VEVENT
BEGIN:VEVENT
DTSTART;TZID=America/New_York:20250422T110000
DTEND;TZID=America/New_York:20250422T120000
DTSTAMP:20260422T134205
CREATED:20250403T194621Z
LAST-MODIFIED:20250403T194621Z
UID:10006516-1745319600-1745323200@772foryou.org
SUMMARY:Accidentes En Infantes
DESCRIPTION:Traer un bebé a casa es emocionante. ¡Pero mantenerlos a salvo puede ser estresante! A medida que crecen\, comienzan a patear y empujar con las piernas\, agarrar cosas\, darse la vuelta y gatear. Estos hitos emocionantes pueden causarle muchas preocupaciones sobre la seguridad de su bebé. En este video\, analizamos como prevenir y planificar los accidentes infantiles\, así como los accidentes más comunes que pueden tener los bebés. También hablamos de que hacer si su bebé se lastima. Los temas incluyen: • bebés • accidentes • caídas • rasguños • cortes y abrasiones • moretones • picaduras de insectos • picaduras • prevención • lesiones en la cabeza • ahogamiento • quemaduras / escaldaduras • asfixia y asfixia • envenenamiento.
URL:https://772foryou.org/classes/accidentes-en-infantes-5/
ATTACH;FMTTYPE=image/jpeg:https://772foryou.org/wp-content/uploads/2022/12/toddler-safety.jpg
END:VEVENT
BEGIN:VEVENT
DTSTART;TZID=America/New_York:20250421T150000
DTEND;TZID=America/New_York:20250421T160000
DTSTAMP:20260422T134205
CREATED:20250403T194400Z
LAST-MODIFIED:20250403T194400Z
UID:10006515-1745247600-1745251200@772foryou.org
SUMMARY:Your Unborn Baby's Secret World
DESCRIPTION:Your Unborn Baby’s Secret World \nAs recently as twenty-five years ago\, we thought unborn babies were unaware of anything outside the womb. Since then\, though\, science has gained a better understanding of your unborn baby’s secret world. That secret place inside\, where your unborn baby resides\, is not a deep\, dark cave where they are hidden away awaiting birth. Far from it. Your womb is their classroom\, where there begins a lifetime of learning\, sampling\, accepting\, and rejecting—in short\, the process of growing that will continue throughout life\, from conception on. Topics include : growth in womb\, interaction\, sensory development\, first trimester\, second trimester\, third trimester\, baby’s development\, movement\, learning in womb\, stress\, eating healthy\, rest\, and exercise
URL:https://772foryou.org/classes/your-unborn-babys-secret-world-3/
ATTACH;FMTTYPE=image/png:https://772foryou.org/wp-content/uploads/2024/11/Your-Unborn-Babys-Secret-World.png
END:VEVENT
BEGIN:VEVENT
DTSTART;TZID=America/New_York:20250421T133000
DTEND;TZID=America/New_York:20250421T143000
DTSTAMP:20260422T134205
CREATED:20250403T194008Z
LAST-MODIFIED:20250403T194008Z
UID:10006514-1745242200-1745245800@772foryou.org
SUMMARY:Your Second Trimester
DESCRIPTION:Your first trimester is now behind you and you are likely feeling better. Morning sickness may have eased up and you may be thinking\, “I’ve got this!” Your baby is growing rapidly\, and you might even be starting to sport a cute little baby bump. The second trimester is often the most comfortable time for a pregnant mom! While you still may not be feeling or seeing much yet\, there is a lot going on in your womb. In this video we’ll talk about how your body is changing\, your baby’s journey in development\, and what you can expect in your second trimester.
URL:https://772foryou.org/classes/your-second-trimester-22/
ATTACH;FMTTYPE=image/jpeg:https://772foryou.org/wp-content/uploads/2022/11/second-trimester.jpg
END:VEVENT
BEGIN:VEVENT
DTSTART;TZID=America/New_York:20250421T110000
DTEND;TZID=America/New_York:20250421T120000
DTSTAMP:20260422T134205
CREATED:20250403T193810Z
LAST-MODIFIED:20250403T193810Z
UID:10006513-1745233200-1745236800@772foryou.org
SUMMARY:Su Segundo Trimestre
DESCRIPTION:El primer trimestre quedó atrás y ahora seguramente ya te sientes mejor. Puede que las náuseas matutinas hayan disminuido y que ahora pienses que ya tienes todo bajo control. El bebé está creciendo rápidamente y es probable que ya tengas una incipiente pancita de embarazada. ¡El segundo trimestre suele ser el periodo más cómodo del embarazo! A pesar de que todavía no sientes ni ves mucho de lo que sucede en tu vientre\, hay bastantes procesos que se están llevando a cabo. En este video\, hablaremos sobre los cambios en tu cuerpo\, el camino del desarrollo del bebé y lo que sucederá en el segundo trimestre.
URL:https://772foryou.org/classes/su-segundo-trimestre-22/
ATTACH;FMTTYPE=image/jpeg:https://772foryou.org/wp-content/uploads/2022/11/second-trimester.jpg
END:VEVENT
BEGIN:VEVENT
DTSTART;TZID=America/New_York:20250420T160000
DTEND;TZID=America/New_York:20250420T173000
DTSTAMP:20260422T134205
CREATED:20250403T193628Z
LAST-MODIFIED:20250403T193628Z
UID:10006512-1745164800-1745170200@772foryou.org
SUMMARY:Dad Up (Sundays)
DESCRIPTION:Dad Up: Empowering Fathers\, Strengthening Families \nDad Up is a powerful fatherhood initiative designed to help dads build\, rebuild\, and strengthen the connection with their children. This free weekly group offers essential information\, resources\, and services tailored to both expectant and new dads\, providing the tools to be a confident and involved father. \nEach week\, Dad Up covers topics like child development\, parenting strategies\, and strengthening relationships\, while offering access to a network of community resources. No two sessions are the same\, ensuring fresh insights and discussions each time. \nDon’t miss this opportunity to improve your family’s future — Dad Up and watch the benefits grow! \nIf you have any questions\, please call or text Shamus at (772) 282-8407.
URL:https://772foryou.org/classes/dad-up-sundays-9/
ATTACH;FMTTYPE=image/png:https://772foryou.org/wp-content/uploads/2024/09/Dad-Up-on-Sundays.png
END:VEVENT
BEGIN:VEVENT
DTSTART;TZID=America/New_York:20250419T093000
DTEND;TZID=America/New_York:20250419T110000
DTSTAMP:20260422T134205
CREATED:20250403T193505Z
LAST-MODIFIED:20250417T205639Z
UID:10006511-1745055000-1745060400@772foryou.org
SUMMARY:Dad Up (Saturday) - CANCELED
DESCRIPTION:Dad Up: Empowering Fathers\, Strengthening Families \nDad Up is a powerful fatherhood initiative designed to help dads build\, rebuild\, and strengthen the connection with their children. This free weekly group offers essential information\, resources\, and services tailored to both expectant and new dads\, providing the tools to be a confident and involved father. \nEach week\, Dad Up covers topics like child development\, parenting strategies\, and strengthening relationships\, while offering access to a network of community resources. No two sessions are the same\, ensuring fresh insights and discussions each time. \nDon’t miss this opportunity to improve your family’s future — Dad Up and watch the benefits grow! \nIf you have any questions\, please call or text Shamus at (772) 282-8407.
URL:https://772foryou.org/classes/dad-up-saturday-9/
ATTACH;FMTTYPE=image/png:https://772foryou.org/wp-content/uploads/2024/09/Dad-Up-Saturdays.png
END:VEVENT
BEGIN:VEVENT
DTSTART;TZID=America/New_York:20250417T160000
DTEND;TZID=America/New_York:20250417T170000
DTSTAMP:20260422T134205
CREATED:20250403T193137Z
LAST-MODIFIED:20250403T193137Z
UID:10006510-1744905600-1744909200@772foryou.org
SUMMARY:Tiempo con tu Pequeño
DESCRIPTION:El tiempo que pasa con su niño pequeño es muy importante y se acaba muy rápido. ¡Parpadea y estarán en preescolar! Puede parecer que pasa la mayor parte de su tiempo ocupándose de sus necesidades\, limpiando su desorden y besando sus búhos. Pero el tiempo que pasa con ellos\, incluso si trabaja fuera de casa\, les da exactamente lo que necesitan. En este video\, hablamos de cuatro áreas importantes a desarrollar en su crianza para poder darle el mayor impacto con el tiempo que tiene.
URL:https://772foryou.org/classes/tiempo-con-tu-pequeno-3/
ATTACH;FMTTYPE=image/jpeg:https://772foryou.org/wp-content/uploads/2024/08/Time-with-Toddler.jpg
END:VEVENT
BEGIN:VEVENT
DTSTART;TZID=America/New_York:20250417T130000
DTEND;TZID=America/New_York:20250417T140000
DTSTAMP:20260422T134205
CREATED:20250403T192634Z
LAST-MODIFIED:20250403T192634Z
UID:10006509-1744894800-1744898400@772foryou.org
SUMMARY:Healthy Start-Moms Group-Village Of Support
DESCRIPTION:Free Support group for expectant and current mothers every Thursday of the Month from 1:00 pm to 2:00 pm. Takes place at A Caring Center For Women.
URL:https://772foryou.org/classes/healthy-start-moms-group-village-of-support-68/
ATTACH;FMTTYPE=image/jpeg:https://772foryou.org/wp-content/uploads/2024/04/two-moms-with-daughters.jpeg
END:VEVENT
BEGIN:VEVENT
DTSTART;TZID=America/New_York:20250417T110000
DTEND;TZID=America/New_York:20250417T120000
DTSTAMP:20260422T134205
CREATED:20250403T191635Z
LAST-MODIFIED:20250403T191635Z
UID:10006508-1744887600-1744891200@772foryou.org
SUMMARY:Alimentos Para Su Desarrollo
DESCRIPTION:Esta clase es para mamás con recién nacidos e infantes. El motivo de esta clase es para aprender en cuanto a que  y cuándo darle de comer a su bebé.
URL:https://772foryou.org/classes/alimentos-para-su-desarrollo/
END:VEVENT
BEGIN:VEVENT
DTSTART;TZID=America/New_York:20250416T143000
DTEND;TZID=America/New_York:20250416T153000
DTSTAMP:20260422T134205
CREATED:20250403T190634Z
LAST-MODIFIED:20250403T190634Z
UID:10006507-1744813800-1744817400@772foryou.org
SUMMARY:Prenatal Exercise With Callie
DESCRIPTION:
URL:https://772foryou.org/classes/prenatal-exercise-with-callie-2/
ATTACH;FMTTYPE=image/jpeg:https://772foryou.org/wp-content/uploads/2024/08/Prenatal-Stretching-with-Callie.jpg
END:VEVENT
BEGIN:VEVENT
DTSTART;TZID=America/New_York:20250416T123000
DTEND;TZID=America/New_York:20250416T133000
DTSTAMP:20260422T134205
CREATED:20250403T190428Z
LAST-MODIFIED:20250403T190428Z
UID:10006506-1744806600-1744810200@772foryou.org
SUMMARY:Simple Infant Care
DESCRIPTION:This video will provide mothers with information on a variety of less-common subjects that are important to the well-being of their children. Some of these include how to hold a newborn\, techniques for soothing a crying baby\, bed sharing\, burping\, infant walkers\, pacifiers\, and more. Each section is based on research and professional recommendations by leading medical organizations. After watching this video\, new parents will be able to make informed and study-based choices in each subject for the care of their newborns. Topics include: newborn • bed-sharing • co-sleeping • SIDS • sudden infant death syndrome • room-sharing • crying • crying checklist • crying spells • soothing • swaddling • skin-to-skin • pacifier • burping • spit up • vomiting • holding • supporting neck • infant carriers • check carrier • back carrier • car seat carriers • infant walkers • dressing infant.
URL:https://772foryou.org/classes/simple-infant-care-10/
ATTACH;FMTTYPE=image/jpeg:https://772foryou.org/wp-content/uploads/2024/07/Simple-Infant-Care.jpg
END:VEVENT
BEGIN:VEVENT
DTSTART;TZID=America/New_York:20250416T103000
DTEND;TZID=America/New_York:20250416T113000
DTSTAMP:20260422T134205
CREATED:20250403T190228Z
LAST-MODIFIED:20250403T190228Z
UID:10006505-1744799400-1744803000@772foryou.org
SUMMARY:Cuidado Infantil Simple
DESCRIPTION:Este video le proporcionará a las madres la información correspondiente a una variedad de asuntos poco habituales que son relevantes para el bienestar del niño. Algunos de estos incluyen cómo sostener a un recién nacido\, técnicas para calmar al bebé cuando llora\, colecho\, sacar eructos\, andadores\, chupones y más. Cada sección se basa en investigaciones y recomendaciones profesionales realizadas por destacadas organizaciones médicas. Luego de observar este video\, los padres primerizos serán capaces de tomar decisiones informadas con conocimiento de causa respecto a cada asunto relacionado al cuidado de sus recién nacidos.
URL:https://772foryou.org/classes/cuidado-infantil-simple-8/
ATTACH;FMTTYPE=image/jpeg:https://772foryou.org/wp-content/uploads/2024/07/Cuidado-Infantil-Simple.jpg
END:VEVENT
BEGIN:VEVENT
DTSTART;TZID=America/New_York:20250415T170000
DTEND;TZID=America/New_York:20250415T190000
DTSTAMP:20260422T134205
CREATED:20250327T221154Z
LAST-MODIFIED:20250327T221154Z
UID:10006504-1744736400-1744743600@772foryou.org
SUMMARY:Healthy Start-Baby's Here! What's Normal & What's Not? Basics Of Infant CPR
DESCRIPTION:Practice and learn the basics of CPR. Then\, let’s talk about what’s normal for newborns and mamas in the immediate postpartum period. Know what to expect\, warnings signs\, infant cues and review basic infant  and self care.
URL:https://772foryou.org/classes/healthy-start-babys-here-whats-normal-whats-not-basics-of-infant-cpr-19/
ATTACH;FMTTYPE=image/jpeg:https://772foryou.org/wp-content/uploads/2024/06/Healthy-Start-Babys-Here-Whats-Normal-Whats-Not-Basics-Of-Infant-CPR.jpg
END:VEVENT
BEGIN:VEVENT
DTSTART;TZID=America/New_York:20250415T143000
DTEND;TZID=America/New_York:20250415T153000
DTSTAMP:20260422T134205
CREATED:20250327T215041Z
LAST-MODIFIED:20250327T215041Z
UID:10006503-1744727400-1744731000@772foryou.org
SUMMARY:Understanding Your Infant
DESCRIPTION:In this video\, we discuss how you can understand your baby’s needs and how they communicate\, their personality\, and how they learn and grow. We’ll also talk about how you can take great care of yourself and line up the support you need. Topics include: • newborn • baby’s needs • crying • baby’s personality • developmental milestones • cognitive milestones • social and emotional milestones • movement milestones • language milestones • moodiness • understand my baby • growing up • temperament.
URL:https://772foryou.org/classes/understanding-your-infant-4/
ATTACH;FMTTYPE=image/jpeg:https://772foryou.org/wp-content/uploads/2024/07/Understanding-Your-Infant.jpg
END:VEVENT
BEGIN:VEVENT
DTSTART;TZID=America/New_York:20250415T110000
DTEND;TZID=America/New_York:20250415T120000
DTSTAMP:20260422T134205
CREATED:20250327T212124Z
LAST-MODIFIED:20250327T212124Z
UID:10006502-1744714800-1744718400@772foryou.org
SUMMARY:Entender A Su Infante
DESCRIPTION:Quizás una de las cosas que más miedo dan en la vida es traer a su recién nacido por primera vez a casa y darse cuenta de que: “¡NO SÉ LO QUE ESTOY HACIENDO REALMENTE!” Bueno\, no sea tan duro consigo mismo\, ¡porque la mayoría de los padres se siente así! Después de todo\, los bebés no pueden decirle en verdad lo que necesitan… ¿o sí? En este video hablaremos sobre entender las necesidades de su bebé y cómo se comunica\, su personalidad y cómo aprende y crece. También hablaremos sobre entender cómo puede cuidarse mucho a usted mismo y preparar la ayuda que necesita.
URL:https://772foryou.org/classes/entender-a-su-infante/
ATTACH;FMTTYPE=image/jpeg:https://772foryou.org/wp-content/uploads/2024/07/Understanding-Your-Infant.jpg
END:VEVENT
BEGIN:VEVENT
DTSTART;TZID=America/New_York:20250414T150000
DTEND;TZID=America/New_York:20250414T160000
DTSTAMP:20260422T134205
CREATED:20250327T211631Z
LAST-MODIFIED:20250327T211631Z
UID:10006501-1744642800-1744646400@772foryou.org
SUMMARY:Your First Trimester
DESCRIPTION:You’re pregnant\, and you’re wondering\, now what? There is a lot to know about pregnancy\, your changing body\, and your developing baby. So much happens in that first trimester! You will experience changes in your body\, your emotions\, and your lifestyle. Your baby also goes through a lot of growth\, developing into the little person you soon will see in less than nine months! This video takes a look at pregnancy in the first trimester and also talks about your baby’s journey in development.
URL:https://772foryou.org/classes/your-first-trimester-22/
ATTACH;FMTTYPE=image/jpeg:https://772foryou.org/wp-content/uploads/2022/09/1st-Trimester-1.jpg
END:VEVENT
BEGIN:VEVENT
DTSTART;TZID=America/New_York:20250414T133000
DTEND;TZID=America/New_York:20250414T143000
DTSTAMP:20260422T134205
CREATED:20250327T211414Z
LAST-MODIFIED:20250327T211414Z
UID:10006500-1744637400-1744641000@772foryou.org
SUMMARY:Su Primer Trimestre
DESCRIPTION:Ya estás embarazada y te preguntas\, ¿y ahora qué? Hay mucho por saber acerca del embarazo\, los cambios que se producen en el cuerpo y el bebé en crecimiento. ¡Pasan muchas cosas durante el primer trimestre! Sentirás cambios en el cuerpo\, en tus emociones y estilo de vida. ¡Tu bebé también empieza a crecer y se convertirá en el pequeño que tendrás en menos de nueve meses! Este video desarrolla el primer trimestre del embarazo y también habla sobre los cambios del bebé durante su desarrollo. 
URL:https://772foryou.org/classes/su-primer-trimestre-22/
ATTACH;FMTTYPE=image/jpeg:https://772foryou.org/wp-content/uploads/2022/09/1st-Trimester-1.jpg
END:VEVENT
BEGIN:VEVENT
DTSTART;TZID=America/New_York:20250414T110000
DTEND;TZID=America/New_York:20250414T120000
DTSTAMP:20260422T134205
CREATED:20250327T211102Z
LAST-MODIFIED:20250327T211102Z
UID:10006498-1744628400-1744632000@772foryou.org
SUMMARY:Moonshot Families - ENG/SPN Play Group
DESCRIPTION:Join the moonshot families team for a read\, talk\, play\, sing and create engagement. Engage with your child through music and movement in a fun engaging environment. \nUnase al equipo de familias Moonshot para leer\, hablar\, jugar\, cantar y generar participación. Interactúe con su hijo a través de la música y el movimiento en un ambiente divertido y atractivo.
URL:https://772foryou.org/classes/moonshot-families-eng-spn-play-group-2/
ATTACH;FMTTYPE=image/png:https://772foryou.org/wp-content/uploads/2024/08/Moonshot-Families.png
END:VEVENT
BEGIN:VEVENT
DTSTART;TZID=America/New_York:20250413T160000
DTEND;TZID=America/New_York:20250413T173000
DTSTAMP:20260422T134205
CREATED:20250327T210859Z
LAST-MODIFIED:20250327T210859Z
UID:10006497-1744560000-1744565400@772foryou.org
SUMMARY:Dad Up (Sundays)
DESCRIPTION:Dad Up: Empowering Fathers\, Strengthening Families \nDad Up is a powerful fatherhood initiative designed to help dads build\, rebuild\, and strengthen the connection with their children. This free weekly group offers essential information\, resources\, and services tailored to both expectant and new dads\, providing the tools to be a confident and involved father. \nEach week\, Dad Up covers topics like child development\, parenting strategies\, and strengthening relationships\, while offering access to a network of community resources. No two sessions are the same\, ensuring fresh insights and discussions each time. \nDon’t miss this opportunity to improve your family’s future — Dad Up and watch the benefits grow! \nIf you have any questions\, please call or text Shamus at (772) 282-8407.
URL:https://772foryou.org/classes/dad-up-sundays-8/
ATTACH;FMTTYPE=image/png:https://772foryou.org/wp-content/uploads/2024/09/Dad-Up-on-Sundays.png
END:VEVENT
BEGIN:VEVENT
DTSTART;TZID=America/New_York:20250412T093000
DTEND;TZID=America/New_York:20250412T110000
DTSTAMP:20260422T134205
CREATED:20250327T210755Z
LAST-MODIFIED:20250327T210755Z
UID:10006496-1744450200-1744455600@772foryou.org
SUMMARY:Dad Up (Saturday)
DESCRIPTION:Dad Up: Empowering Fathers\, Strengthening Families \nDad Up is a powerful fatherhood initiative designed to help dads build\, rebuild\, and strengthen the connection with their children. This free weekly group offers essential information\, resources\, and services tailored to both expectant and new dads\, providing the tools to be a confident and involved father. \nEach week\, Dad Up covers topics like child development\, parenting strategies\, and strengthening relationships\, while offering access to a network of community resources. No two sessions are the same\, ensuring fresh insights and discussions each time. \nDon’t miss this opportunity to improve your family’s future — Dad Up and watch the benefits grow! \nIf you have any questions\, please call or text Shamus at (772) 282-8407.
URL:https://772foryou.org/classes/dad-up-saturday-8/
ATTACH;FMTTYPE=image/png:https://772foryou.org/wp-content/uploads/2024/09/Dad-Up-Saturdays.png
END:VEVENT
BEGIN:VEVENT
DTSTART;TZID=America/New_York:20250411T130000
DTEND;TZID=America/New_York:20250411T140000
DTSTAMP:20260422T134205
CREATED:20250327T210615Z
LAST-MODIFIED:20250327T210615Z
UID:10006495-1744376400-1744380000@772foryou.org
SUMMARY:First Time Moms (Pregnancy)
DESCRIPTION:Led by Karina\, this support group combines the best of the two worlds of education and emotional wellness. Participants will be journaling on prompts together\, working through a pregnancy milestone log book and learning together as a first time moms. This is a support group with an educational emphasis on self-care\, Karina will be making healthy snacks that are easy to make and tolerable for expectant moms! All supplies will be provided.
URL:https://772foryou.org/classes/first-time-moms-pregnancy-20/
ATTACH;FMTTYPE=image/png:https://772foryou.org/wp-content/uploads/2022/08/Ultrasound-Copy-5.png
END:VEVENT
END:VCALENDAR