BEGIN:VCALENDAR
VERSION:2.0
PRODID:-//A Caring Center For Women - ECPv6.15.20//NONSGML v1.0//EN
CALSCALE:GREGORIAN
METHOD:PUBLISH
X-ORIGINAL-URL:https://772foryou.org
X-WR-CALDESC:Events for A Caring Center For Women
REFRESH-INTERVAL;VALUE=DURATION:PT1H
X-Robots-Tag:noindex
X-PUBLISHED-TTL:PT1H
BEGIN:VTIMEZONE
TZID:America/New_York
BEGIN:DAYLIGHT
TZOFFSETFROM:-0500
TZOFFSETTO:-0400
TZNAME:EDT
DTSTART:20240310T070000
END:DAYLIGHT
BEGIN:STANDARD
TZOFFSETFROM:-0400
TZOFFSETTO:-0500
TZNAME:EST
DTSTART:20241103T060000
END:STANDARD
BEGIN:DAYLIGHT
TZOFFSETFROM:-0500
TZOFFSETTO:-0400
TZNAME:EDT
DTSTART:20250309T070000
END:DAYLIGHT
BEGIN:STANDARD
TZOFFSETFROM:-0400
TZOFFSETTO:-0500
TZNAME:EST
DTSTART:20251102T060000
END:STANDARD
BEGIN:DAYLIGHT
TZOFFSETFROM:-0500
TZOFFSETTO:-0400
TZNAME:EDT
DTSTART:20260308T070000
END:DAYLIGHT
BEGIN:STANDARD
TZOFFSETFROM:-0400
TZOFFSETTO:-0500
TZNAME:EST
DTSTART:20261101T060000
END:STANDARD
END:VTIMEZONE
BEGIN:VEVENT
DTSTART;TZID=America/New_York:20250531T093000
DTEND;TZID=America/New_York:20250531T110000
DTSTAMP:20260422T042409
CREATED:20250501T174609Z
LAST-MODIFIED:20250501T174609Z
UID:10006565-1748683800-1748689200@772foryou.org
SUMMARY:Dad Up (Saturday)
DESCRIPTION:Dad Up: Empowering Fathers\, Strengthening Families \nDad Up is a powerful fatherhood initiative designed to help dads build\, rebuild\, and strengthen the connection with their children. This free weekly group offers essential information\, resources\, and services tailored to both expectant and new dads\, providing the tools to be a confident and involved father. \nEach week\, Dad Up covers topics like child development\, parenting strategies\, and strengthening relationships\, while offering access to a network of community resources. No two sessions are the same\, ensuring fresh insights and discussions each time. \nDon’t miss this opportunity to improve your family’s future — Dad Up and watch the benefits grow! \nIf you have any questions\, please call or text Shamus at (772) 282-8407.
URL:https://772foryou.org/classes/dad-up-saturday-15/
ATTACH;FMTTYPE=image/png:https://772foryou.org/wp-content/uploads/2024/09/Dad-Up-Saturdays.png
END:VEVENT
BEGIN:VEVENT
DTSTART;TZID=America/New_York:20250530T130000
DTEND;TZID=America/New_York:20250530T140000
DTSTAMP:20260422T042409
CREATED:20250501T203003Z
LAST-MODIFIED:20250501T203003Z
UID:10006580-1748610000-1748613600@772foryou.org
SUMMARY:First Time Moms (After Pregnancy)
DESCRIPTION:Led by Karina\, this support group combines the best of the two worlds of education and emotional wellness. Participants will be journaling on prompts together\, working through infants and toddlers milestones and learning together as a first time moms!
URL:https://772foryou.org/classes/first-time-moms-after-pregnancy-30/
ATTACH;FMTTYPE=image/jpeg:https://772foryou.org/wp-content/uploads/2022/08/sling.jpeg
END:VEVENT
BEGIN:VEVENT
DTSTART;TZID=America/New_York:20250529T130000
DTEND;TZID=America/New_York:20250529T140000
DTSTAMP:20260422T042409
CREATED:20250501T202650Z
LAST-MODIFIED:20250501T202650Z
UID:10006578-1748523600-1748527200@772foryou.org
SUMMARY:Healthy Start Moms Group - Village Of Support
DESCRIPTION:Free support group for expectant and current mothers every Thursday of the month from 1:00-2:30 pm. Takes place at A Caring Center For Women
URL:https://772foryou.org/classes/healthy-start-moms-group-village-of-support-74/
ATTACH;FMTTYPE=image/jpeg:https://772foryou.org/wp-content/uploads/2024/04/two-moms-with-daughters.jpeg
END:VEVENT
BEGIN:VEVENT
DTSTART;TZID=America/New_York:20250528T140000
DTEND;TZID=America/New_York:20250528T150000
DTSTAMP:20260422T042409
CREATED:20250501T215300Z
LAST-MODIFIED:20250501T215300Z
UID:10006600-1748440800-1748444400@772foryou.org
SUMMARY:Shaken Baby Syndrome
DESCRIPTION:You’ve seen the stories in the news of babies who’ve been violently shaken and then died from their injuries. Most of us think\, Not me! I would never do that! There are very few people who set out to hurt a baby. But when you are at your wits’ end\, your actions can become chaotic and extreme\, and sadly\, sometimes it ends with a baby being shaken violently. Learn the three things you need to do to protect your baby and yourself\, and what to do if things go too far. Topics include: third trimester • after birth • abusive head trauma • AHT • shaking a baby • crying • inconsolable crying • violent shake • soothing • caregivers • risks • death • disabilities.
URL:https://772foryou.org/classes/shaken-baby-syndrome-6/
ATTACH;FMTTYPE=image/jpeg:https://772foryou.org/wp-content/uploads/2022/09/shaken-baby-syndrome.jpg
END:VEVENT
BEGIN:VEVENT
DTSTART;TZID=America/New_York:20250528T123000
DTEND;TZID=America/New_York:20250528T133000
DTSTAMP:20260422T042409
CREATED:20250501T215116Z
LAST-MODIFIED:20250501T215116Z
UID:10006599-1748435400-1748439000@772foryou.org
SUMMARY:You Are In Control
DESCRIPTION:Congratulations\, you’re getting so close to holding your sweet baby! Taking a birth class is a great way to prepare for the labor and delivery you’ll soon be experiencing. When it comes to your child’s birth\, you are in control. It will affect your physical\, emotional\, mental\, and spiritual health. For this reason\, you’ll want to give careful thought to planning your birth. This first course will discuss the Bright Birth plan\, labor expectations\, and finish up by talking about your support team.
URL:https://772foryou.org/classes/you-are-in-control-7/
ATTACH;FMTTYPE=image/jpeg:https://772foryou.org/wp-content/uploads/2022/10/you-are-in-control.jpg
END:VEVENT
BEGIN:VEVENT
DTSTART;TZID=America/New_York:20250528T103000
DTEND;TZID=America/New_York:20250528T113000
DTSTAMP:20260422T042409
CREATED:20250501T214745Z
LAST-MODIFIED:20250501T214745Z
UID:10006598-1748428200-1748431800@772foryou.org
SUMMARY:Entrenando A Tu Entrenador De Parto
DESCRIPTION:Tener un bebé es algo ENORME… y probablemente no es algo que quieras hacer sola. Las investigaciones han demostrado que cuando tienes a una o dos personas de apoyo a tu lado\, es más probable que sigas tu plan de parto y tengas menos intervenciones. Y es agradable tener a alguien allí para ayudar. En este video\, hablaremos sobre lo que hace un asesor de parto\, a quién elegir y cómo capacitarlo para que tengas la mejor experiencia de parto posible.
URL:https://772foryou.org/classes/entrenando-a-tu-entrenador-de-parto/
ATTACH;FMTTYPE=image/webp:https://772foryou.org/wp-content/uploads/2024/12/Entrenando-A-Tu-Entrenador-De-Parto.webp
END:VEVENT
BEGIN:VEVENT
DTSTART;TZID=America/New_York:20250527T173000
DTEND;TZID=America/New_York:20250527T183000
DTSTAMP:20260422T042409
CREATED:20250501T214545Z
LAST-MODIFIED:20250501T214545Z
UID:10006597-1748367000-1748370600@772foryou.org
SUMMARY:Infant Hygiene
DESCRIPTION:Caring for an infant does not require vast amounts of training or an advanced degree. Caring for an infant simply requires a dedicated parent willing to respond to a child’s needs in appropriate ways. This video provides standard techniques of care that will help parents to provide for their infant’s day-to-day hygiene needs
URL:https://772foryou.org/classes/infant-hygiene-9/
ATTACH;FMTTYPE=image/jpeg:https://772foryou.org/wp-content/uploads/2022/09/teething-time.jpeg
END:VEVENT
BEGIN:VEVENT
DTSTART;TZID=America/New_York:20250527T143000
DTEND;TZID=America/New_York:20250527T153000
DTSTAMP:20260422T042409
CREATED:20250501T214343Z
LAST-MODIFIED:20250501T214343Z
UID:10006596-1748356200-1748359800@772foryou.org
SUMMARY:Infant Temperament
DESCRIPTION:The basic needs of most babies are the same\, but each baby has a unique temperament. This video looks at the different types of temperament and helps you understand the natural differences that can be cherished in each child. Topics include: • temperament • home environment • emotions • reading baby signals • colic • brain development.
URL:https://772foryou.org/classes/infant-temperament-6/
ATTACH;FMTTYPE=image/jpeg:https://772foryou.org/wp-content/uploads/2022/09/infant-temperament.jpg
END:VEVENT
BEGIN:VEVENT
DTSTART;TZID=America/New_York:20250527T110000
DTEND;TZID=America/New_York:20250527T120000
DTSTAMP:20260422T042409
CREATED:20250501T214143Z
LAST-MODIFIED:20250501T214143Z
UID:10006595-1748343600-1748347200@772foryou.org
SUMMARY:Temperamento Infantil
DESCRIPTION:Las necesidades básicas de la mayoría de los bebés son las mismas\, pero cada bebé tiene un temperamento único. Este video analiza los diferentes tipos de temperamento y le ayuda a comprender las diferencias naturales que se pueden apreciar en cada niño. Los temas incluyen: • temperamento • ambiente del hogar • emociones • lectura de señales del bebé • cólicos • desarrollo del cerebro.
URL:https://772foryou.org/classes/temperamento-infantil-3/
ATTACH;FMTTYPE=image/jpeg:https://772foryou.org/wp-content/uploads/2022/09/infant-temperament.jpg
END:VEVENT
BEGIN:VEVENT
DTSTART;TZID=America/New_York:20250526T090000
DTEND;TZID=America/New_York:20250526T170000
DTSTAMP:20260422T042409
CREATED:20250501T213857Z
LAST-MODIFIED:20250501T215724Z
UID:10006594-1748250000-1748278800@772foryou.org
SUMMARY:CLOSED FOR MEMORIAL DAY
DESCRIPTION:
URL:https://772foryou.org/classes/closed-for-memorial-day-2/
ATTACH;FMTTYPE=image/webp:https://772foryou.org/wp-content/uploads/2025/05/Closed-for-Memorial-Day.webp
END:VEVENT
BEGIN:VEVENT
DTSTART;TZID=America/New_York:20250525T160000
DTEND;TZID=America/New_York:20250525T173000
DTSTAMP:20260422T042409
CREATED:20250501T174110Z
LAST-MODIFIED:20250501T174110Z
UID:10006562-1748188800-1748194200@772foryou.org
SUMMARY:Dad Up (Sundays)
DESCRIPTION:Dad Up: Empowering Fathers\, Strengthening Families \nDad Up is a powerful fatherhood initiative designed to help dads build\, rebuild\, and strengthen the connection with their children. This free weekly group offers essential information\, resources\, and services tailored to both expectant and new dads\, providing the tools to be a confident and involved father. \nEach week\, Dad Up covers topics like child development\, parenting strategies\, and strengthening relationships\, while offering access to a network of community resources. No two sessions are the same\, ensuring fresh insights and discussions each time. \nDon’t miss this opportunity to improve your family’s future — Dad Up and watch the benefits grow! \nIf you have any questions\, please call or text Shamus at (772) 282-8407.
URL:https://772foryou.org/classes/dad-up-sundays-14/
ATTACH;FMTTYPE=image/png:https://772foryou.org/wp-content/uploads/2024/09/Dad-Up-on-Sundays.png
END:VEVENT
BEGIN:VEVENT
DTSTART;TZID=America/New_York:20250524T093000
DTEND;TZID=America/New_York:20250524T110000
DTSTAMP:20260422T042409
CREATED:20250501T174437Z
LAST-MODIFIED:20250501T174437Z
UID:10006564-1748079000-1748084400@772foryou.org
SUMMARY:Dad Up (Saturday)
DESCRIPTION:Dad Up: Empowering Fathers\, Strengthening Families \nDad Up is a powerful fatherhood initiative designed to help dads build\, rebuild\, and strengthen the connection with their children. This free weekly group offers essential information\, resources\, and services tailored to both expectant and new dads\, providing the tools to be a confident and involved father. \nEach week\, Dad Up covers topics like child development\, parenting strategies\, and strengthening relationships\, while offering access to a network of community resources. No two sessions are the same\, ensuring fresh insights and discussions each time. \nDon’t miss this opportunity to improve your family’s future — Dad Up and watch the benefits grow! \nIf you have any questions\, please call or text Shamus at (772) 282-8407.
URL:https://772foryou.org/classes/dad-up-saturday-14/
ATTACH;FMTTYPE=image/png:https://772foryou.org/wp-content/uploads/2024/09/Dad-Up-Saturdays.png
END:VEVENT
BEGIN:VEVENT
DTSTART;TZID=America/New_York:20250523T130000
DTEND;TZID=America/New_York:20250523T140000
DTSTAMP:20260422T042410
CREATED:20250501T203141Z
LAST-MODIFIED:20250501T203141Z
UID:10006581-1748005200-1748008800@772foryou.org
SUMMARY:First Time Moms (Pregnancy)
DESCRIPTION:Led by Karina\, this support group combines the best of the two worlds of education and emotional wellness. Participants will be journaling on prompts together\, working through a pregnancy milestone log book and learning together as a first time moms. This is a support group with an educational emphasis on self-care\, Karina will be making healthy snacks that are easy to make and tolerable for expectant moms! All supplies will be provided.
URL:https://772foryou.org/classes/first-time-moms-pregnancy-22/
ATTACH;FMTTYPE=image/png:https://772foryou.org/wp-content/uploads/2022/08/Ultrasound-Copy-5.png
END:VEVENT
BEGIN:VEVENT
DTSTART;TZID=America/New_York:20250522T173000
DTEND;TZID=America/New_York:20250522T183000
DTSTAMP:20260422T042410
CREATED:20250501T213035Z
LAST-MODIFIED:20250502T154205Z
UID:10006593-1747935000-1747938600@772foryou.org
SUMMARY:Baby's Development
DESCRIPTION:This class guides mothers through the crucial stages of their baby’s growth from newborn to early infancy. Participants will learn how to support healthy physical\, mental\, and emotional development. Ideal for new and expecting moms who want to build a strong foundation for their child’s future.
URL:https://772foryou.org/classes/babys-development-2/
ATTACH;FMTTYPE=image/webp:https://772foryou.org/wp-content/uploads/2025/05/Babys-Development.webp
END:VEVENT
BEGIN:VEVENT
DTSTART;TZID=America/New_York:20250522T130000
DTEND;TZID=America/New_York:20250522T140000
DTSTAMP:20260422T042410
CREATED:20250501T202533Z
LAST-MODIFIED:20250501T202533Z
UID:10006577-1747918800-1747922400@772foryou.org
SUMMARY:Healthy Start Moms Group - Village Of Support
DESCRIPTION:Free support group for expectant and current mothers every Thursday of the month from 1:00-2:30 pm. Takes place at A Caring Center For Women
URL:https://772foryou.org/classes/healthy-start-moms-group-village-of-support-73/
ATTACH;FMTTYPE=image/jpeg:https://772foryou.org/wp-content/uploads/2024/04/two-moms-with-daughters.jpeg
END:VEVENT
BEGIN:VEVENT
DTSTART;TZID=America/New_York:20250522T110000
DTEND;TZID=America/New_York:20250522T120000
DTSTAMP:20260422T042410
CREATED:20250501T212745Z
LAST-MODIFIED:20250501T212745Z
UID:10006592-1747911600-1747915200@772foryou.org
SUMMARY:El Último Tramo
DESCRIPTION:Ready\, set\, GO! The end of your pregnancy feels like a hundred days crammed into one long month that amazingly doesn’t seem that long to get everything ready to bring your baby home. There is so much to do and keep track of before birth! In this video we’ll talk about what to keep an eye on in your pregnancy\, things to prepare for\, and how to recognize important signs of labor. Phew! You can do it! You really are on the last leg!
URL:https://772foryou.org/classes/el-ultimo-tramo-4/
ATTACH;FMTTYPE=image/jpeg:https://772foryou.org/wp-content/uploads/2024/07/El-Ultimo-Tramo.jpg
END:VEVENT
BEGIN:VEVENT
DTSTART;TZID=America/New_York:20250521T140000
DTEND;TZID=America/New_York:20250521T150000
DTSTAMP:20260422T042410
CREATED:20250501T212242Z
LAST-MODIFIED:20250501T221236Z
UID:10006590-1747836000-1747839600@772foryou.org
SUMMARY:Safety Starts at Home
DESCRIPTION:
URL:https://772foryou.org/classes/safety-starts-at-home-4/
ATTACH;FMTTYPE=image/png:https://772foryou.org/wp-content/uploads/2024/08/Child-Safety.png
END:VEVENT
BEGIN:VEVENT
DTSTART;TZID=America/New_York:20250521T123000
DTEND;TZID=America/New_York:20250521T133000
DTSTAMP:20260422T042410
CREATED:20250501T211816Z
LAST-MODIFIED:20250502T154208Z
UID:10006589-1747830600-1747834200@772foryou.org
SUMMARY:Baby's Development
DESCRIPTION:This class guides mothers through the crucial stages of their baby’s growth from newborn to early infancy. Participants will learn how to support healthy physical\, mental\, and emotional development. Ideal for new and expecting moms who want to build a strong foundation for their child’s future.
URL:https://772foryou.org/classes/babys-development/
ATTACH;FMTTYPE=image/webp:https://772foryou.org/wp-content/uploads/2025/05/Babys-Development.webp
END:VEVENT
BEGIN:VEVENT
DTSTART;TZID=America/New_York:20250521T103000
DTEND;TZID=America/New_York:20250521T113000
DTSTAMP:20260422T042410
CREATED:20250501T210637Z
LAST-MODIFIED:20250502T154515Z
UID:10006588-1747823400-1747827000@772foryou.org
SUMMARY:El Desarrollo De Tu Bebé
DESCRIPTION:
URL:https://772foryou.org/classes/el-desarrollo-de-tu-bebe/
ATTACH;FMTTYPE=image/webp:https://772foryou.org/wp-content/uploads/2025/05/Babys-Development.webp
END:VEVENT
BEGIN:VEVENT
DTSTART;TZID=America/New_York:20250520T170000
DTEND;TZID=America/New_York:20250520T190000
DTSTAMP:20260422T042410
CREATED:20250501T210311Z
LAST-MODIFIED:20250501T210311Z
UID:10006587-1747760400-1747767600@772foryou.org
SUMMARY:Healthy Start-Baby's Here! What's Normal & What's Not? Basics Of Infant CPR
DESCRIPTION:Practice and learn the basics of CPR. Then\, let’s talk about what’s normal for newborns and mamas in the immediate postpartum period. Know what to expect\, warnings signs\, infant cues and review basic infant  and self care.
URL:https://772foryou.org/classes/healthy-start-babys-here-whats-normal-whats-not-basics-of-infant-cpr-20/
ATTACH;FMTTYPE=image/jpeg:https://772foryou.org/wp-content/uploads/2024/06/Healthy-Start-Babys-Here-Whats-Normal-Whats-Not-Basics-Of-Infant-CPR.jpg
END:VEVENT
BEGIN:VEVENT
DTSTART;TZID=America/New_York:20250520T130000
DTEND;TZID=America/New_York:20250520T150000
DTSTAMP:20260422T042410
CREATED:20250501T204336Z
LAST-MODIFIED:20250501T204336Z
UID:10006586-1747746000-1747753200@772foryou.org
SUMMARY:Anything Breastfeeding Mary Becker-IBCLC
DESCRIPTION:Led by lactation consultant\, Mary Becker\, this is your chance to get unfiltered answers to all the questions you have about breastfeeding. Mary is well known in our community for her work empowering women to breastfeed with confidence. Our staff always loves when she is in the center\, you can expect lots of laughter and fun in this group center.
URL:https://772foryou.org/classes/anything-breastfeeding-mary-becker-ibclc-16/
ATTACH;FMTTYPE=image/jpeg:https://772foryou.org/wp-content/uploads/2022/11/mum-breastfeeding-her-baby-with-lactation-clonsultant.jpg
END:VEVENT
BEGIN:VEVENT
DTSTART;TZID=America/New_York:20250520T110000
DTEND;TZID=America/New_York:20250520T120000
DTSTAMP:20260422T042410
CREATED:20250501T204132Z
LAST-MODIFIED:20250501T221042Z
UID:10006585-1747738800-1747742400@772foryou.org
SUMMARY:Seguridad Comienza en Casa
DESCRIPTION:
URL:https://772foryou.org/classes/seguridad-comienza-en-casa-2/
ATTACH;FMTTYPE=image/png:https://772foryou.org/wp-content/uploads/2024/08/Child-Safety.png
END:VEVENT
BEGIN:VEVENT
DTSTART;TZID=America/New_York:20250519T150000
DTEND;TZID=America/New_York:20250519T160000
DTSTAMP:20260422T042410
CREATED:20250501T203739Z
LAST-MODIFIED:20250501T203739Z
UID:10006584-1747666800-1747670400@772foryou.org
SUMMARY:Your Unborn Baby's Secret World
DESCRIPTION:Your Unborn Baby’s Secret World \nAs recently as twenty-five years ago\, we thought unborn babies were unaware of anything outside the womb. Since then\, though\, science has gained a better understanding of your unborn baby’s secret world. That secret place inside\, where your unborn baby resides\, is not a deep\, dark cave where they are hidden away awaiting birth. Far from it. Your womb is their classroom\, where there begins a lifetime of learning\, sampling\, accepting\, and rejecting—in short\, the process of growing that will continue throughout life\, from conception on. Topics include : growth in womb\, interaction\, sensory development\, first trimester\, second trimester\, third trimester\, baby’s development\, movement\, learning in womb\, stress\, eating healthy\, rest\, and exercise
URL:https://772foryou.org/classes/your-unborn-babys-secret-world-4/
ATTACH;FMTTYPE=image/png:https://772foryou.org/wp-content/uploads/2024/11/Your-Unborn-Babys-Secret-World.png
END:VEVENT
BEGIN:VEVENT
DTSTART;TZID=America/New_York:20250519T133000
DTEND;TZID=America/New_York:20250519T143000
DTSTAMP:20260422T042410
CREATED:20250501T203540Z
LAST-MODIFIED:20250501T203540Z
UID:10006583-1747661400-1747665000@772foryou.org
SUMMARY:Your Second Trimester
DESCRIPTION:Your first trimester is now behind you and you are likely feeling better. Morning sickness may have eased up and you may be thinking\, “I’ve got this!” Your baby is growing rapidly\, and you might even be starting to sport a cute little baby bump. The second trimester is often the most comfortable time for a pregnant mom! While you still may not be feeling or seeing much yet\, there is a lot going on in your womb. In this video we’ll talk about how your body is changing\, your baby’s journey in development\, and what you can expect in your second trimester.
URL:https://772foryou.org/classes/your-second-trimester-23/
ATTACH;FMTTYPE=image/jpeg:https://772foryou.org/wp-content/uploads/2022/11/second-trimester.jpg
END:VEVENT
BEGIN:VEVENT
DTSTART;TZID=America/New_York:20250519T110000
DTEND;TZID=America/New_York:20250519T120000
DTSTAMP:20260422T042410
CREATED:20250501T203344Z
LAST-MODIFIED:20250501T203344Z
UID:10006582-1747652400-1747656000@772foryou.org
SUMMARY:Moonshot Families - Play Group
DESCRIPTION:Join the moonshot families team for a read\, talk\, play\, sing and create engagement. Engage with your child through music and movement in a fun engaging environment. \nUnase al equipo de familias Moonshot para leer\, hablar\, jugar\, cantar y generar participación. Interactúe con su hijo a través de la música y el movimiento en un ambiente divertido y atractivo.
URL:https://772foryou.org/classes/moonshot-families-play-group/
ATTACH;FMTTYPE=image/png:https://772foryou.org/wp-content/uploads/2024/08/Moonshot-Families.png
END:VEVENT
BEGIN:VEVENT
DTSTART;TZID=America/New_York:20250518T160000
DTEND;TZID=America/New_York:20250518T173000
DTSTAMP:20260422T042410
CREATED:20250501T173942Z
LAST-MODIFIED:20250501T173942Z
UID:10006561-1747584000-1747589400@772foryou.org
SUMMARY:Dad Up (Sundays)
DESCRIPTION:Dad Up: Empowering Fathers\, Strengthening Families \nDad Up is a powerful fatherhood initiative designed to help dads build\, rebuild\, and strengthen the connection with their children. This free weekly group offers essential information\, resources\, and services tailored to both expectant and new dads\, providing the tools to be a confident and involved father. \nEach week\, Dad Up covers topics like child development\, parenting strategies\, and strengthening relationships\, while offering access to a network of community resources. No two sessions are the same\, ensuring fresh insights and discussions each time. \nDon’t miss this opportunity to improve your family’s future — Dad Up and watch the benefits grow! \nIf you have any questions\, please call or text Shamus at (772) 282-8407.
URL:https://772foryou.org/classes/dad-up-sundays-13/
ATTACH;FMTTYPE=image/png:https://772foryou.org/wp-content/uploads/2024/09/Dad-Up-on-Sundays.png
END:VEVENT
BEGIN:VEVENT
DTSTART;TZID=America/New_York:20250517T093000
DTEND;TZID=America/New_York:20250517T110000
DTSTAMP:20260422T042410
CREATED:20250501T174224Z
LAST-MODIFIED:20250501T174224Z
UID:10006563-1747474200-1747479600@772foryou.org
SUMMARY:Dad Up (Saturday)
DESCRIPTION:Dad Up: Empowering Fathers\, Strengthening Families \nDad Up is a powerful fatherhood initiative designed to help dads build\, rebuild\, and strengthen the connection with their children. This free weekly group offers essential information\, resources\, and services tailored to both expectant and new dads\, providing the tools to be a confident and involved father. \nEach week\, Dad Up covers topics like child development\, parenting strategies\, and strengthening relationships\, while offering access to a network of community resources. No two sessions are the same\, ensuring fresh insights and discussions each time. \nDon’t miss this opportunity to improve your family’s future — Dad Up and watch the benefits grow! \nIf you have any questions\, please call or text Shamus at (772) 282-8407.
URL:https://772foryou.org/classes/dad-up-saturday-13/
ATTACH;FMTTYPE=image/png:https://772foryou.org/wp-content/uploads/2024/09/Dad-Up-Saturdays.png
END:VEVENT
BEGIN:VEVENT
DTSTART;TZID=America/New_York:20250516T130000
DTEND;TZID=America/New_York:20250516T140000
DTSTAMP:20260422T042410
CREATED:20250501T202847Z
LAST-MODIFIED:20250501T202847Z
UID:10006579-1747400400-1747404000@772foryou.org
SUMMARY:First Time Moms (After Pregnancy)
DESCRIPTION:Led by Karina\, this support group combines the best of the two worlds of education and emotional wellness. Participants will be journaling on prompts together\, working through infants and toddlers milestones and learning together as a first time moms!
URL:https://772foryou.org/classes/first-time-moms-after-pregnancy-29/
ATTACH;FMTTYPE=image/jpeg:https://772foryou.org/wp-content/uploads/2022/08/sling.jpeg
END:VEVENT
BEGIN:VEVENT
DTSTART;TZID=America/New_York:20250515T160000
DTEND;TZID=America/New_York:20250515T170000
DTSTAMP:20260422T042410
CREATED:20250501T212514Z
LAST-MODIFIED:20250501T220718Z
UID:10006591-1747324800-1747328400@772foryou.org
SUMMARY:Puedo Hacerlo Yo Solo
DESCRIPTION:A veces se habla de los niños pequeños independientes de manera negativa. La verdad: un espíritu de independencia ES algo bueno para ellos\, pero a veces se manifiesta de manera difícil. En este video\, hablamos sobre cómo puede crear un hogar que le permita a su niño desarrollar las cuatro cualidades importantes que necesitará para ser independiente. Y hablaremos sobre cómo puede fomentar el espíritu de independencia en su hijo. \nLos temas incluyen: •Niño pequeño•Ánimo•Confianza•Motivación•Resiliencia•Coraje •Independencia•Puedo hacerlo yo mismo
URL:https://772foryou.org/classes/puedo-hacerlo-yo-solo-2/
ATTACH;FMTTYPE=image/jpeg:https://772foryou.org/wp-content/uploads/2022/10/i-can-do-it-myself.jpg
END:VEVENT
BEGIN:VEVENT
DTSTART;TZID=America/New_York:20250515T130000
DTEND;TZID=America/New_York:20250515T140000
DTSTAMP:20260422T042410
CREATED:20250501T202358Z
LAST-MODIFIED:20250501T202358Z
UID:10006576-1747314000-1747317600@772foryou.org
SUMMARY:Healthy Start Moms Group - Village Of Support
DESCRIPTION:Free support group for expectant and current mothers every Thursday of the month from 1:00-2:30 pm. Takes place at A Caring Center For Women
URL:https://772foryou.org/classes/healthy-start-moms-group-village-of-support-72/
ATTACH;FMTTYPE=image/jpeg:https://772foryou.org/wp-content/uploads/2024/04/two-moms-with-daughters.jpeg
END:VEVENT
END:VCALENDAR