BEGIN:VCALENDAR
VERSION:2.0
PRODID:-//A Caring Center For Women - ECPv6.15.20//NONSGML v1.0//EN
CALSCALE:GREGORIAN
METHOD:PUBLISH
X-ORIGINAL-URL:https://772foryou.org
X-WR-CALDESC:Events for A Caring Center For Women
REFRESH-INTERVAL;VALUE=DURATION:PT1H
X-Robots-Tag:noindex
X-PUBLISHED-TTL:PT1H
BEGIN:VTIMEZONE
TZID:America/New_York
BEGIN:DAYLIGHT
TZOFFSETFROM:-0500
TZOFFSETTO:-0400
TZNAME:EDT
DTSTART:20240310T070000
END:DAYLIGHT
BEGIN:STANDARD
TZOFFSETFROM:-0400
TZOFFSETTO:-0500
TZNAME:EST
DTSTART:20241103T060000
END:STANDARD
BEGIN:DAYLIGHT
TZOFFSETFROM:-0500
TZOFFSETTO:-0400
TZNAME:EDT
DTSTART:20250309T070000
END:DAYLIGHT
BEGIN:STANDARD
TZOFFSETFROM:-0400
TZOFFSETTO:-0500
TZNAME:EST
DTSTART:20251102T060000
END:STANDARD
BEGIN:DAYLIGHT
TZOFFSETFROM:-0500
TZOFFSETTO:-0400
TZNAME:EDT
DTSTART:20260308T070000
END:DAYLIGHT
BEGIN:STANDARD
TZOFFSETFROM:-0400
TZOFFSETTO:-0500
TZNAME:EST
DTSTART:20261101T060000
END:STANDARD
END:VTIMEZONE
BEGIN:VEVENT
DTSTART;TZID=America/New_York:20250908T133000
DTEND;TZID=America/New_York:20250908T143000
DTSTAMP:20260421T001929
CREATED:20250902T181531Z
LAST-MODIFIED:20250902T181531Z
UID:10006807-1757338200-1757341800@772foryou.org
SUMMARY:Your First Trimester
DESCRIPTION:You’re pregnant\, and you’re wondering\, now what? There is a lot to know about pregnancy\, your changing body\, and your developing baby. So much happens in that first trimester! You will experience changes in your body\, your emotions\, and your lifestyle. Your baby also goes through a lot of growth\, developing into the little person you soon will see in less than nine months! This video takes a look at pregnancy in the first trimester and also talks about your baby’s journey in development.
URL:https://772foryou.org/classes/your-first-trimester-27/
ATTACH;FMTTYPE=image/jpeg:https://772foryou.org/wp-content/uploads/2022/09/1st-Trimester-1.jpg
END:VEVENT
BEGIN:VEVENT
DTSTART;TZID=America/New_York:20250908T110000
DTEND;TZID=America/New_York:20250908T120000
DTSTAMP:20260421T001929
CREATED:20250902T181225Z
LAST-MODIFIED:20250902T181225Z
UID:10006806-1757329200-1757332800@772foryou.org
SUMMARY:Su Primer Trimestre
DESCRIPTION:Ya estás embarazada y te preguntas\, ¿y ahora qué? Hay mucho por saber acerca del embarazo\, los cambios que se producen en el cuerpo y el bebé en crecimiento. ¡Pasan muchas cosas durante el primer trimestre! Sentirás cambios en el cuerpo\, en tus emociones y estilo de vida. ¡Tu bebé también empieza a crecer y se convertirá en el pequeño que tendrás en menos de nueve meses! Este video desarrolla el primer trimestre del embarazo y también habla sobre los cambios del bebé durante su desarrollo. 
URL:https://772foryou.org/classes/su-primer-trimestre-27/
ATTACH;FMTTYPE=image/jpeg:https://772foryou.org/wp-content/uploads/2022/09/1st-Trimester-1.jpg
END:VEVENT
BEGIN:VEVENT
DTSTART;TZID=America/New_York:20250907T160000
DTEND;TZID=America/New_York:20250907T173000
DTSTAMP:20260421T001929
CREATED:20250828T223151Z
LAST-MODIFIED:20250828T223151Z
UID:10006804-1757260800-1757266200@772foryou.org
SUMMARY:Dad Up (Sundays)
DESCRIPTION:Dad Up: Empowering Fathers\, Strengthening Families \nDad Up is a powerful fatherhood initiative designed to help dads build\, rebuild\, and strengthen the connection with their children. This free weekly group offers essential information\, resources\, and services tailored to both expectant and new dads\, providing the tools to be a confident and involved father. \nEach week\, Dad Up covers topics like child development\, parenting strategies\, and strengthening relationships\, while offering access to a network of community resources. No two sessions are the same\, ensuring fresh insights and discussions each time. \nDon’t miss this opportunity to improve your family’s future — Dad Up and watch the benefits grow! \nIf you have any questions\, please call or text Joe at (772) 257-5390.
URL:https://772foryou.org/classes/dad-up-sundays-29/
ATTACH;FMTTYPE=image/png:https://772foryou.org/wp-content/uploads/2024/09/Dad-Up-on-Sundays.png
END:VEVENT
BEGIN:VEVENT
DTSTART;TZID=America/New_York:20250906T093000
DTEND;TZID=America/New_York:20250906T110000
DTSTAMP:20260421T001929
CREATED:20250828T222900Z
LAST-MODIFIED:20250828T222900Z
UID:10006803-1757151000-1757156400@772foryou.org
SUMMARY:Dad Up (Saturday)
DESCRIPTION:Dad Up: Empowering Fathers\, Strengthening Families \nDad Up is a powerful fatherhood initiative designed to help dads build\, rebuild\, and strengthen the connection with their children. This free weekly group offers essential information\, resources\, and services tailored to both expectant and new dads\, providing the tools to be a confident and involved father. \nEach week\, Dad Up covers topics like child development\, parenting strategies\, and strengthening relationships\, while offering access to a network of community resources. No two sessions are the same\, ensuring fresh insights and discussions each time. \nDon’t miss this opportunity to improve your family’s future — Dad Up and watch the benefits grow! \nIf you have any questions\, please call or text Joe at (772) 257-5390.
URL:https://772foryou.org/classes/dad-up-saturday-29/
ATTACH;FMTTYPE=image/png:https://772foryou.org/wp-content/uploads/2024/09/Dad-Up-Saturdays.png
END:VEVENT
BEGIN:VEVENT
DTSTART;TZID=America/New_York:20250905T130000
DTEND;TZID=America/New_York:20250905T140000
DTSTAMP:20260421T001929
CREATED:20250828T225128Z
LAST-MODIFIED:20250903T164347Z
UID:10006805-1757077200-1757080800@772foryou.org
SUMMARY:First Time Moms (After Pregnancy)
DESCRIPTION:Led by Casey\, this support group combines the best of the two worlds of education and emotional wellness. Participants will be journaling on prompts together\, working through infants and toddlers milestones and learning together as a first time moms! \nSpace is limited.
URL:https://772foryou.org/classes/first-time-moms-after-pregnancy-37/
ATTACH;FMTTYPE=image/jpeg:https://772foryou.org/wp-content/uploads/2022/08/sling.jpeg
END:VEVENT
BEGIN:VEVENT
DTSTART;TZID=America/New_York:20250904T160000
DTEND;TZID=America/New_York:20250904T170000
DTSTAMP:20260421T001929
CREATED:20250828T222109Z
LAST-MODIFIED:20250828T222109Z
UID:10006800-1757001600-1757005200@772foryou.org
SUMMARY:Hitos De Mami
DESCRIPTION:Los hitos pueden ser un poco confusos y estresantes. ¿Qué significan todas las diferentes categorías de desarrollo? ¿Qué tan importante es hacer un seguimiento de los hitos de su hijo? ¿Qué sucede si su hijo no está logrando todas las habilidades al mismo ritmo que otros niños? Este video ayuda a los padres a comprender el desarrollo de su niño pequeño\, aprender que cosas pueden hacer para ayudar a su hijo a alcanzar esos hitos y comprender como fomentar el buen comportamiento de su pequeño.
URL:https://772foryou.org/classes/hitos-de-mami-3/
ATTACH;FMTTYPE=image/jpeg:https://772foryou.org/wp-content/uploads/2024/11/Hitos-De-Mami.jpg
END:VEVENT
BEGIN:VEVENT
DTSTART;TZID=America/New_York:20250904T130000
DTEND;TZID=America/New_York:20250904T140000
DTSTAMP:20260421T001929
CREATED:20250828T221848Z
LAST-MODIFIED:20250828T221848Z
UID:10006799-1756990800-1756994400@772foryou.org
SUMMARY:Healthy Start Moms Group - Village Of Support
DESCRIPTION:Free support group for expectant and current mothers every Thursday of the month from 1:00-2:00 pm. Takes place at A Caring Center For Women. \nSpace is limited.
URL:https://772foryou.org/classes/healthy-start-moms-group-village-of-support-88/
ATTACH;FMTTYPE=image/jpeg:https://772foryou.org/wp-content/uploads/2024/04/two-moms-with-daughters.jpeg
END:VEVENT
BEGIN:VEVENT
DTSTART;TZID=America/New_York:20250904T110000
DTEND;TZID=America/New_York:20250904T120000
DTSTAMP:20260421T001929
CREATED:20250828T221637Z
LAST-MODIFIED:20250828T221637Z
UID:10006798-1756983600-1756987200@772foryou.org
SUMMARY:Expectativas Del Niño de 0-3 Meses
DESCRIPTION:En los primeros tres meses puede parecer que todo lo que su bebé hace al principio es comer\, dormir\, defecar y así de nuevo otra vez. Pero en realidad se producen muchos cambios a medida que su recién nacido descubre la vida fuera del vientre. Está adquiriendo fuerza física\, aprendiendo a comunicarse y a interactuar con usted\, asimilando lo que ve y los sonidos de su nuevo mundo. Y además de todo eso\, ¡está logrando cosas importantes que lo llevará por el camino del crecimiento! ¡En este video hablaremos sobre qué son los logros y qué debería lograr su bebé a los tres meses!
URL:https://772foryou.org/classes/expectativas-del-nino-de-0-3-meses-5/
ATTACH;FMTTYPE=image/jpeg:https://772foryou.org/wp-content/uploads/2022/09/desarrollo-de-bebe-de-0-3-meses.jpeg
END:VEVENT
BEGIN:VEVENT
DTSTART;TZID=America/New_York:20250903T140000
DTEND;TZID=America/New_York:20250903T150000
DTSTAMP:20260421T001929
CREATED:20250828T221418Z
LAST-MODIFIED:20250828T221418Z
UID:10006797-1756908000-1756911600@772foryou.org
SUMMARY:The Importance of Bonding
DESCRIPTION:The love bond between child and parent is the foundation upon which all discipline\, relationships and self-esteem is based. This video instructs both on the importance of bonding and good practices to promote bonding between infants and mothers. Topics include: • bonding • nurturing • comforting • emotional development • mental development • communication • brain development • mother’s voice • five senses.
URL:https://772foryou.org/classes/the-importance-of-bonding-12/
ATTACH;FMTTYPE=image/jpeg:https://772foryou.org/wp-content/uploads/2022/10/bonding-with-your-toddler.jpg
END:VEVENT
BEGIN:VEVENT
DTSTART;TZID=America/New_York:20250903T123000
DTEND;TZID=America/New_York:20250903T133000
DTSTAMP:20260421T001929
CREATED:20250828T221223Z
LAST-MODIFIED:20250828T221223Z
UID:10006796-1756902600-1756906200@772foryou.org
SUMMARY:Eye Contact Means Love
DESCRIPTION:Eye contact is considerably more important to us throughout our lives than we may imagine. Even as infants\, it is key to the process of establishing emotional bonds with family. This video explores the development that is supported and the bonding that is encouraged through the intentional use of up-close eye contact. Topics include: • eye contact • communication • emotional needs • love • disapproval • failure-to-thrive syndrome • learning • newborn • visual development • brain coupling • developmental disability • social skills • bonding • connection
URL:https://772foryou.org/classes/eye-contact-means-love-7/
ATTACH;FMTTYPE=image/jpeg:https://772foryou.org/wp-content/uploads/2024/07/Eye-Contact-Means-Love.jpg
END:VEVENT
BEGIN:VEVENT
DTSTART;TZID=America/New_York:20250903T103000
DTEND;TZID=America/New_York:20250903T113000
DTSTAMP:20260421T001929
CREATED:20250828T220958Z
LAST-MODIFIED:20250828T220958Z
UID:10006795-1756895400-1756899000@772foryou.org
SUMMARY:Contacto Visual Significa Amor
DESCRIPTION:Eye contact is much more important to us throughout our lives than we can imagine. Even as babies\, it is key in the process of establishing emotional bonds with family. This video explores the development that is supported and the bond that is fostered by the intentional use of close eye contact.
URL:https://772foryou.org/classes/contacto-visual-significa-amor-4/
ATTACH;FMTTYPE=image/jpeg:https://772foryou.org/wp-content/uploads/2024/07/Contacto-Visual-El-Lenguaje-del-Amor.jpg
END:VEVENT
BEGIN:VEVENT
DTSTART;TZID=America/New_York:20250902T170000
DTEND;TZID=America/New_York:20250902T190000
DTSTAMP:20260421T001929
CREATED:20250828T220810Z
LAST-MODIFIED:20250828T220810Z
UID:10006794-1756832400-1756839600@772foryou.org
SUMMARY:Healthy Start-Labor Signs & Is It Time?
DESCRIPTION:Let’s discuss signs of labor and birthing your baby! Planning and preparation for the big day will alleviate anxiety and contribute to a a more positive birth experience. We will highlight the important role of a support person\, practice breathing and more
URL:https://772foryou.org/classes/healthy-start-labor-signs-is-it-time-18/
ATTACH;FMTTYPE=image/jpeg:https://772foryou.org/wp-content/uploads/2024/06/Healthy-Start-Labor-Signs-Is-It-Time.jpg
END:VEVENT
BEGIN:VEVENT
DTSTART;TZID=America/New_York:20250902T143000
DTEND;TZID=America/New_York:20250902T153000
DTSTAMP:20260421T001929
CREATED:20250828T181540Z
LAST-MODIFIED:20250828T181540Z
UID:10006793-1756823400-1756827000@772foryou.org
SUMMARY:Taking Care Of Yourself After Birth
DESCRIPTION:This video will share tips on what to expect after giving birth and how a postpartum woman can take great care of herself. Topics include: postpartum healing • vaginal discharge • postpartum contractions • sore muscles • hemorrhoids • breast leaking • breast engorgement • vaginal recovery • c-section recovery • caesarean recovery • rest • sleep • nutrition • constipation • postpartum exercise • Kegel exercises • emotions • PPD • postpartum depression • baby blues • returning to work.
URL:https://772foryou.org/classes/taking-care-of-yourself-after-birth-6/
ATTACH;FMTTYPE=image/jpeg:https://772foryou.org/wp-content/uploads/2024/06/Taking-Care-Of-Yourself-After-Birth.jpg
END:VEVENT
BEGIN:VEVENT
DTSTART;TZID=America/New_York:20250902T110000
DTEND;TZID=America/New_York:20250902T120000
DTSTAMP:20260421T001929
CREATED:20250828T181209Z
LAST-MODIFIED:20250828T181209Z
UID:10006792-1756810800-1756814400@772foryou.org
SUMMARY:Cuidado Personal Después Del Nacimiento
DESCRIPTION:A menudo las mujeres tienen en consideración las necesidades de otros antes que las suyas. Luego de un parto\, es vital que una mujer cuide bien de sí misma en primer lugar\, para que esté mejor preparada para cuidar de su bebé recién nacido. Cosas como la curación postparto\, el descanso\, la nutrición\, el ejercicio y quando pase la depresión posparto le ayudan a sentirse mejor en su nuevo rol como madre. Este video compartirá consejos sobre que esperar después del parto y como una mujer después del parto puede cuidar de sí misma.
URL:https://772foryou.org/classes/cuidado-personal-despues-del-nacimiento-4/
ATTACH;FMTTYPE=image/jpeg:https://772foryou.org/wp-content/uploads/2024/06/Taking-Care-Of-Yourself-After-Birth.jpg
END:VEVENT
BEGIN:VEVENT
DTSTART;TZID=America/New_York:20250831T160000
DTEND;TZID=America/New_York:20250831T173000
DTSTAMP:20260421T001929
CREATED:20250721T201514Z
LAST-MODIFIED:20250721T201514Z
UID:10006744-1756656000-1756661400@772foryou.org
SUMMARY:Dad Up (Sundays)
DESCRIPTION:Dad Up: Empowering Fathers\, Strengthening Families \nDad Up is a powerful fatherhood initiative designed to help dads build\, rebuild\, and strengthen the connection with their children. This free weekly group offers essential information\, resources\, and services tailored to both expectant and new dads\, providing the tools to be a confident and involved father. \nEach week\, Dad Up covers topics like child development\, parenting strategies\, and strengthening relationships\, while offering access to a network of community resources. No two sessions are the same\, ensuring fresh insights and discussions each time. \nDon’t miss this opportunity to improve your family’s future — Dad Up and watch the benefits grow! \nIf you have any questions\, please call or text Joe at (772) 257-5390.
URL:https://772foryou.org/classes/dad-up-sundays-28/
ATTACH;FMTTYPE=image/png:https://772foryou.org/wp-content/uploads/2024/09/Dad-Up-on-Sundays.png
END:VEVENT
BEGIN:VEVENT
DTSTART;TZID=America/New_York:20250830T093000
DTEND;TZID=America/New_York:20250830T110000
DTSTAMP:20260421T001929
CREATED:20250721T183944Z
LAST-MODIFIED:20250721T183944Z
UID:10006738-1756546200-1756551600@772foryou.org
SUMMARY:Dad Up (Saturday)
DESCRIPTION:Dad Up: Empowering Fathers\, Strengthening Families \nDad Up is a powerful fatherhood initiative designed to help dads build\, rebuild\, and strengthen the connection with their children. This free weekly group offers essential information\, resources\, and services tailored to both expectant and new dads\, providing the tools to be a confident and involved father. \nEach week\, Dad Up covers topics like child development\, parenting strategies\, and strengthening relationships\, while offering access to a network of community resources. No two sessions are the same\, ensuring fresh insights and discussions each time. \nDon’t miss this opportunity to improve your family’s future — Dad Up and watch the benefits grow! \nIf you have any questions\, please call or text Joe at (772) 257-5390.
URL:https://772foryou.org/classes/dad-up-saturday-28/
ATTACH;FMTTYPE=image/png:https://772foryou.org/wp-content/uploads/2024/09/Dad-Up-Saturdays.png
END:VEVENT
BEGIN:VEVENT
DTSTART;TZID=America/New_York:20250829T130000
DTEND;TZID=America/New_York:20250829T140000
DTSTAMP:20260421T001929
CREATED:20250721T175512Z
LAST-MODIFIED:20250721T175512Z
UID:10006731-1756472400-1756476000@772foryou.org
SUMMARY:First Time Moms (Pregnant)
DESCRIPTION:Led by Casey\, this support group combines the best of the two worlds of education and emotional wellness. Participants will be journaling on prompts together\, working through a pregnancy milestone log book and learning together as a first time moms. This is a support group with an educational emphasis on self-care.  All supplies will be provided. \nSpace is limited.
URL:https://772foryou.org/classes/first-time-moms-pregnant-34/
ATTACH;FMTTYPE=image/png:https://772foryou.org/wp-content/uploads/2022/08/Ultrasound-Copy-5.png
END:VEVENT
BEGIN:VEVENT
DTSTART;TZID=America/New_York:20250828T160000
DTEND;TZID=America/New_York:20250828T170000
DTSTAMP:20260421T001929
CREATED:20250722T204943Z
LAST-MODIFIED:20250722T204943Z
UID:10006791-1756396800-1756400400@772foryou.org
SUMMARY:Reanimación Cardiopulmonar (RCP)
DESCRIPTION:Este video instruye a los padres o cualquier persona a cargo de un infante\, en cómo actuar en caso de asfixia y procedimientos de resucitación cardiopulmonar en bebés si tuvieran una emergencia respiratoria o cardíaca. Esto no reemplaza una clase acreditada de RCP\, este video familiarizará a las personas en estos importantes pasos para salvar la vida.
URL:https://772foryou.org/classes/reanimacion-cardiopulmonar-rcp-4/
ATTACH;FMTTYPE=image/jpeg:https://772foryou.org/wp-content/uploads/2024/08/Reanimacion-Cardiopulmonar-RCP.jpg
END:VEVENT
BEGIN:VEVENT
DTSTART;TZID=America/New_York:20250828T130000
DTEND;TZID=America/New_York:20250828T140000
DTSTAMP:20260421T001929
CREATED:20250722T193240Z
LAST-MODIFIED:20250818T202646Z
UID:10006768-1756386000-1756389600@772foryou.org
SUMMARY:Healthy Start Moms Group - Village Of Support
DESCRIPTION:Free support group for expectant and current mothers every Thursday of the month from 1:00-2:00 pm. Takes place at A Caring Center For Women. \nSpace is limited.
URL:https://772foryou.org/classes/healthy-start-moms-group-village-of-support-87/
ATTACH;FMTTYPE=image/jpeg:https://772foryou.org/wp-content/uploads/2024/04/two-moms-with-daughters.jpeg
END:VEVENT
BEGIN:VEVENT
DTSTART;TZID=America/New_York:20250828T110000
DTEND;TZID=America/New_York:20250828T120000
DTSTAMP:20260421T001929
CREATED:20250722T204715Z
LAST-MODIFIED:20250722T204715Z
UID:10006790-1756378800-1756382400@772foryou.org
SUMMARY:Expectativas Sobre El Parto
DESCRIPTION:¡Ellos lo hicieron! ¡Las parejas Laila y Joseph\, Mikayla y Kyle\, y Mariah y Tyler tuvieron sus bebés! ¡Apuesto a que no puedes esperar a ver cómo resulta todo en este video final! Únase a estas tres parejas cuando sus embarazos lleguen a su fin y experimenten el trabajo de parto y el parto con ellos mientras tienen a sus bebés.
URL:https://772foryou.org/classes/expectativas-sobre-el-parto-3/
ATTACH;FMTTYPE=image/jpeg:https://772foryou.org/wp-content/uploads/2022/09/Natural-labor.jpg
END:VEVENT
BEGIN:VEVENT
DTSTART;TZID=America/New_York:20250827T140000
DTEND;TZID=America/New_York:20250827T150000
DTSTAMP:20260421T001929
CREATED:20250722T204341Z
LAST-MODIFIED:20250722T204341Z
UID:10006789-1756303200-1756306800@772foryou.org
SUMMARY:Infant Nutrition
DESCRIPTION:There are many nutrients your baby needs in order to thrive. Putting it all together may seem like a complicated chemistry assignment. While a lot goes into providing your infant with a healthy diet\, whether you’re breastfeeding\, using formula\, or eventually introducing solid foods\, it’s really not complicated. Your healthy diet establishes a positive pattern for your family. No matter which feeding method you use\, the same nutrients that keep you healthy will keep your baby healthy too. This video looks at the type of nutrients and the balanced diet your baby needs in order to thrive and grow.
URL:https://772foryou.org/classes/infant-nutrition-6/
ATTACH;FMTTYPE=image/jpeg:https://772foryou.org/wp-content/uploads/2022/11/infant-nutrition.jpg
END:VEVENT
BEGIN:VEVENT
DTSTART;TZID=America/New_York:20250827T123000
DTEND;TZID=America/New_York:20250827T133000
DTSTAMP:20260421T001929
CREATED:20250722T204151Z
LAST-MODIFIED:20250722T204151Z
UID:10006788-1756297800-1756301400@772foryou.org
SUMMARY:Infant Hygiene
DESCRIPTION:Caring for an infant does not require vast amounts of training or an advanced degree. Caring for an infant simply requires a dedicated parent willing to respond to a child’s needs in appropriate ways. This video provides standard techniques of care that will help parents to provide for their infant’s day-to-day hygiene needs
URL:https://772foryou.org/classes/infant-hygiene-10/
ATTACH;FMTTYPE=image/jpeg:https://772foryou.org/wp-content/uploads/2022/09/teething-time.jpeg
END:VEVENT
BEGIN:VEVENT
DTSTART;TZID=America/New_York:20250827T103000
DTEND;TZID=America/New_York:20250827T113000
DTSTAMP:20260421T001929
CREATED:20250722T203952Z
LAST-MODIFIED:20250722T203952Z
UID:10006787-1756290600-1756294200@772foryou.org
SUMMARY:Higiene Infantil
DESCRIPTION:El cuidado de un bebé no requiere de una gran capacidad o de un título avanzado. El cuidado de un bebé sólo requiere de un padre dedicado dispuesto a responder a las necesidades del niño de manera apropiada. Este video proporciona técnicas convencionales de cuidado que ayudarán a los padres a cubrir las necesidades diarias de higiene de sus hijos.
URL:https://772foryou.org/classes/higiene-infantil-6/
ATTACH;FMTTYPE=image/jpeg:https://772foryou.org/wp-content/uploads/2022/09/teething-time.jpeg
END:VEVENT
BEGIN:VEVENT
DTSTART;TZID=America/New_York:20250826T170000
DTEND;TZID=America/New_York:20250826T190000
DTSTAMP:20260421T001929
CREATED:20250722T203705Z
LAST-MODIFIED:20250728T182608Z
UID:10006786-1756227600-1756234800@772foryou.org
SUMMARY:Healthy Start-Baby's Here! What's Normal & What's Not? Basics Of Infant CPR
DESCRIPTION:Practice and learn the basics of CPR. Then\, let’s talk about what’s normal for newborns and mamas in the immediate postpartum period. Know what to expect\, warnings signs\, infant cues and review basic infant  and self care. \nSpace is limited.
URL:https://772foryou.org/classes/healthy-start-babys-here-whats-normal-whats-not-basics-of-infant-cpr-23/
ATTACH;FMTTYPE=image/jpeg:https://772foryou.org/wp-content/uploads/2024/06/Healthy-Start-Babys-Here-Whats-Normal-Whats-Not-Basics-Of-Infant-CPR.jpg
END:VEVENT
BEGIN:VEVENT
DTSTART;TZID=America/New_York:20250826T143000
DTEND;TZID=America/New_York:20250826T153000
DTSTAMP:20260421T001929
CREATED:20250722T203512Z
LAST-MODIFIED:20250722T203512Z
UID:10006785-1756218600-1756222200@772foryou.org
SUMMARY:Simple Infant Care
DESCRIPTION:This video will provide mothers with information on a variety of less-common subjects that are important to the well-being of their children. Some of these include how to hold a newborn\, techniques for soothing a crying baby\, bed sharing\, burping\, infant walkers\, pacifiers\, and more. Each section is based on research and professional recommendations by leading medical organizations. After watching this video\, new parents will be able to make informed and study-based choices in each subject for the care of their newborns. Topics include: newborn • bed-sharing • co-sleeping • SIDS • sudden infant death syndrome • room-sharing • crying • crying checklist • crying spells • soothing • swaddling • skin-to-skin • pacifier • burping • spit up • vomiting • holding • supporting neck • infant carriers • check carrier • back carrier • car seat carriers • infant walkers • dressing infant.
URL:https://772foryou.org/classes/simple-infant-care-12/
ATTACH;FMTTYPE=image/jpeg:https://772foryou.org/wp-content/uploads/2024/07/Simple-Infant-Care.jpg
END:VEVENT
BEGIN:VEVENT
DTSTART;TZID=America/New_York:20250826T110000
DTEND;TZID=America/New_York:20250826T120000
DTSTAMP:20260421T001929
CREATED:20250722T203017Z
LAST-MODIFIED:20250722T203017Z
UID:10006784-1756206000-1756209600@772foryou.org
SUMMARY:Cuidado Infantil Simple
DESCRIPTION:Este video le proporcionará a las madres la información correspondiente a una variedad de asuntos poco habituales que son relevantes para el bienestar del niño. Algunos de estos incluyen cómo sostener a un recién nacido\, técnicas para calmar al bebé cuando llora\, colecho\, sacar eructos\, andadores\, chupones y más. Cada sección se basa en investigaciones y recomendaciones profesionales realizadas por destacadas organizaciones médicas. Luego de observar este video\, los padres primerizos serán capaces de tomar decisiones informadas con conocimiento de causa respecto a cada asunto relacionado al cuidado de sus recién nacidos.
URL:https://772foryou.org/classes/cuidado-infantil-simple-9/
ATTACH;FMTTYPE=image/jpeg:https://772foryou.org/wp-content/uploads/2024/07/Cuidado-Infantil-Simple.jpg
END:VEVENT
BEGIN:VEVENT
DTSTART;TZID=America/New_York:20250825T150000
DTEND;TZID=America/New_York:20250825T160000
DTSTAMP:20260421T001929
CREATED:20250722T202819Z
LAST-MODIFIED:20250722T202819Z
UID:10006783-1756134000-1756137600@772foryou.org
SUMMARY:Labor Expectations
DESCRIPTION:They did it! Couples Laila and Joseph\, Mikayla and Kyle\, and Mariah and Tyler each had their babies! I bet you can’t wait to see how it all turned out in this final video! Join these three couples as their pregnancies come to an end and experience labor and delivery with them as they have their babies. Topics include: • Mariah • Tyler • Laila • Joseph • Mikayla • Kyle • labor • contractions • pushing • epidural • pitocin.
URL:https://772foryou.org/classes/labor-expectations-5/
ATTACH;FMTTYPE=image/jpeg:https://772foryou.org/wp-content/uploads/2024/07/Labor-Expectations.jpg
END:VEVENT
BEGIN:VEVENT
DTSTART;TZID=America/New_York:20250825T133000
DTEND;TZID=America/New_York:20250825T143000
DTSTAMP:20260421T001929
CREATED:20250722T202617Z
LAST-MODIFIED:20250722T202617Z
UID:10006782-1756128600-1756132200@772foryou.org
SUMMARY:Your Third Trimester
DESCRIPTION:In this video\, we’ll talk about your changing body\, what you might be feeling\, your baby’s journey in development\, and what you can expect in your third trimester. Topics include: shortness of breath • heartburn • swelling • hemorrhoids • constipation • leg cramps • stretch marks • tender breasts • belly button • insomnia • baby dropping • Braxton-Hicks • emotions • exercise • fever and chills • bleeding • labor • mucus plug • ruptured amniotic sac • signs of labor • fetal movement.
URL:https://772foryou.org/classes/your-third-trimester-22/
ATTACH;FMTTYPE=image/jpeg:https://772foryou.org/wp-content/uploads/2022/08/3rd-Trimester.jpeg
END:VEVENT
BEGIN:VEVENT
DTSTART;TZID=America/New_York:20250825T110000
DTEND;TZID=America/New_York:20250825T120000
DTSTAMP:20260421T001929
CREATED:20250722T202446Z
LAST-MODIFIED:20250722T202446Z
UID:10006781-1756119600-1756123200@772foryou.org
SUMMARY:Su Tercer Trimestre
DESCRIPTION:Te estás aproximando al tercer trimestre y te sientes MUY embarazada. El bebé se agranda y puedes sentir cómo se mueve y patea. ¿Qué sucede ahí adentro? A medida que tu cuerpo cambia para acomodarse al bebé en crecimiento\, tienes más probabilidades de sentirte más cansada\, pero a la vez\, sorpresivamente\, más enérgica.­ ¡¡Tu bebé nacerá pronto!! En este video\, hablaremos sobre los cambios en tu cuerpo\, lo que puede que estés sintiendo\, el camino del desarrollo del bebé y lo que sucederá en el tercer trimestre.
URL:https://772foryou.org/classes/su-tercer-trimestre-26/
ATTACH;FMTTYPE=image/jpeg:https://772foryou.org/wp-content/uploads/2022/08/3rd-Trimester.jpeg
END:VEVENT
BEGIN:VEVENT
DTSTART;TZID=America/New_York:20250824T160000
DTEND;TZID=America/New_York:20250824T173000
DTSTAMP:20260421T001929
CREATED:20250721T201414Z
LAST-MODIFIED:20250721T201414Z
UID:10006743-1756051200-1756056600@772foryou.org
SUMMARY:Dad Up (Sundays)
DESCRIPTION:Dad Up: Empowering Fathers\, Strengthening Families \nDad Up is a powerful fatherhood initiative designed to help dads build\, rebuild\, and strengthen the connection with their children. This free weekly group offers essential information\, resources\, and services tailored to both expectant and new dads\, providing the tools to be a confident and involved father. \nEach week\, Dad Up covers topics like child development\, parenting strategies\, and strengthening relationships\, while offering access to a network of community resources. No two sessions are the same\, ensuring fresh insights and discussions each time. \nDon’t miss this opportunity to improve your family’s future — Dad Up and watch the benefits grow! \nIf you have any questions\, please call or text Joe at (772) 257-5390.
URL:https://772foryou.org/classes/dad-up-sundays-27/
ATTACH;FMTTYPE=image/png:https://772foryou.org/wp-content/uploads/2024/09/Dad-Up-on-Sundays.png
END:VEVENT
END:VCALENDAR