BEGIN:VCALENDAR
VERSION:2.0
PRODID:-//A Caring Center For Women - ECPv6.15.20//NONSGML v1.0//EN
CALSCALE:GREGORIAN
METHOD:PUBLISH
X-ORIGINAL-URL:https://772foryou.org
X-WR-CALDESC:Events for A Caring Center For Women
REFRESH-INTERVAL;VALUE=DURATION:PT1H
X-Robots-Tag:noindex
X-PUBLISHED-TTL:PT1H
BEGIN:VTIMEZONE
TZID:America/New_York
BEGIN:DAYLIGHT
TZOFFSETFROM:-0500
TZOFFSETTO:-0400
TZNAME:EDT
DTSTART:20240310T070000
END:DAYLIGHT
BEGIN:STANDARD
TZOFFSETFROM:-0400
TZOFFSETTO:-0500
TZNAME:EST
DTSTART:20241103T060000
END:STANDARD
BEGIN:DAYLIGHT
TZOFFSETFROM:-0500
TZOFFSETTO:-0400
TZNAME:EDT
DTSTART:20250309T070000
END:DAYLIGHT
BEGIN:STANDARD
TZOFFSETFROM:-0400
TZOFFSETTO:-0500
TZNAME:EST
DTSTART:20251102T060000
END:STANDARD
BEGIN:DAYLIGHT
TZOFFSETFROM:-0500
TZOFFSETTO:-0400
TZNAME:EDT
DTSTART:20260308T070000
END:DAYLIGHT
BEGIN:STANDARD
TZOFFSETFROM:-0400
TZOFFSETTO:-0500
TZNAME:EST
DTSTART:20261101T060000
END:STANDARD
END:VTIMEZONE
BEGIN:VEVENT
DTSTART;TZID=America/New_York:20251021T110000
DTEND;TZID=America/New_York:20251021T120000
DTSTAMP:20260420T104523
CREATED:20250925T214646Z
LAST-MODIFIED:20250925T214646Z
UID:10006904-1761044400-1761048000@772foryou.org
SUMMARY:Entendiendo El Embarazo/ Entendiendo El Trabajo De Parto
DESCRIPTION:Embarazo es el término utilizado para describir el periodo en la cual el feto se desarrolla en vientre o útero de la mujer. El embarazo se divide en tres trimestres\, cada trimestre dura 13 semanas. En este video hablaremos de malestares comunes\, anatomía del embarazo\, cuándo llamar al profesional de salud y señales de parto prematuro. \nTrabajo de parto es el proceso que conduce al nacimiento de su bebé\, consiste en una serie de contracciones uterinas rítmicas\, involuntarias o inducidas y el parto consiste de diferentes etapas. \n 
URL:https://772foryou.org/classes/entendiendo-el-embarazo-entendiendo-el-trabajo-de-parto-4/
ATTACH;FMTTYPE=image/jpeg:https://772foryou.org/wp-content/uploads/2024/08/Entendiendo-El-Embarazo-Entendiendo-El-Trabajo-De-Parto.jpg
END:VEVENT
BEGIN:VEVENT
DTSTART;TZID=America/New_York:20251020T150000
DTEND;TZID=America/New_York:20251020T160000
DTSTAMP:20260420T104523
CREATED:20250925T214404Z
LAST-MODIFIED:20250925T214404Z
UID:10006903-1760972400-1760976000@772foryou.org
SUMMARY:Your Second Trimester
DESCRIPTION:Your first trimester is now behind you and you are likely feeling better. Morning sickness may have eased up and you may be thinking\, “I’ve got this!” Your baby is growing rapidly\, and you might even be starting to sport a cute little baby bump. The second trimester is often the most comfortable time for a pregnant mom! While you still may not be feeling or seeing much yet\, there is a lot going on in your womb. In this video we’ll talk about how your body is changing\, your baby’s journey in development\, and what you can expect in your second trimester.
URL:https://772foryou.org/classes/your-second-trimester-28/
ATTACH;FMTTYPE=image/jpeg:https://772foryou.org/wp-content/uploads/2022/11/second-trimester.jpg
END:VEVENT
BEGIN:VEVENT
DTSTART;TZID=America/New_York:20251020T133000
DTEND;TZID=America/New_York:20251020T143000
DTSTAMP:20260420T104523
CREATED:20250925T214208Z
LAST-MODIFIED:20250925T214208Z
UID:10006902-1760967000-1760970600@772foryou.org
SUMMARY:Su Segundo Trimestre
DESCRIPTION:El primer trimestre quedó atrás y ahora seguramente ya te sientes mejor. Puede que las náuseas matutinas hayan disminuido y que ahora pienses que ya tienes todo bajo control. El bebé está creciendo rápidamente y es probable que ya tengas una incipiente pancita de embarazada. ¡El segundo trimestre suele ser el periodo más cómodo del embarazo! A pesar de que todavía no sientes ni ves mucho de lo que sucede en tu vientre\, hay bastantes procesos que se están llevando a cabo. En este video\, hablaremos sobre los cambios en tu cuerpo\, el camino del desarrollo del bebé y lo que sucederá en el segundo trimestre.
URL:https://772foryou.org/classes/su-segundo-trimestre-27/
ATTACH;FMTTYPE=image/jpeg:https://772foryou.org/wp-content/uploads/2022/11/second-trimester.jpg
END:VEVENT
BEGIN:VEVENT
DTSTART;TZID=America/New_York:20251020T110000
DTEND;TZID=America/New_York:20251020T120000
DTSTAMP:20260420T104523
CREATED:20250925T213929Z
LAST-MODIFIED:20250925T213929Z
UID:10006901-1760958000-1760961600@772foryou.org
SUMMARY:Moonshot Families - Play Group
DESCRIPTION:Join the moonshot families team for a read\, talk\, play\, sing and create engagement. Engage with your child through music and movement in a fun engaging environment. \nUnase al equipo de familias Moonshot para leer\, hablar\, jugar\, cantar y generar participación. Interactúe con su hijo a través de la música y el movimiento en un ambiente divertido y atractivo.
URL:https://772foryou.org/classes/moonshot-families-play-group-6/
ATTACH;FMTTYPE=image/png:https://772foryou.org/wp-content/uploads/2024/08/Moonshot-Families.png
END:VEVENT
BEGIN:VEVENT
DTSTART;TZID=America/New_York:20251019T160000
DTEND;TZID=America/New_York:20251019T173000
DTSTAMP:20260420T104523
CREATED:20250925T202809Z
LAST-MODIFIED:20250925T202809Z
UID:10006883-1760889600-1760895000@772foryou.org
SUMMARY:Dad Up (Sundays)
DESCRIPTION:Dad Up: Empowering Fathers\, Strengthening Families \nDad Up is a powerful fatherhood initiative designed to help dads build\, rebuild\, and strengthen the connection with their children. This free weekly group offers essential information\, resources\, and services tailored to both expectant and new dads\, providing the tools to be a confident and involved father. \nEach week\, Dad Up covers topics like child development\, parenting strategies\, and strengthening relationships\, while offering access to a network of community resources. No two sessions are the same\, ensuring fresh insights and discussions each time. \nDon’t miss this opportunity to improve your family’s future — Dad Up and watch the benefits grow! \nIf you have any questions\, please call or text Joe at (772) 257-5390.
URL:https://772foryou.org/classes/dad-up-sundays-35/
ATTACH;FMTTYPE=image/png:https://772foryou.org/wp-content/uploads/2024/09/Dad-Up-on-Sundays.png
END:VEVENT
BEGIN:VEVENT
DTSTART;TZID=America/New_York:20251018T093000
DTEND;TZID=America/New_York:20251018T110000
DTSTAMP:20260420T104523
CREATED:20250925T202348Z
LAST-MODIFIED:20250925T202348Z
UID:10006880-1760779800-1760785200@772foryou.org
SUMMARY:Dad Up (Saturday)
DESCRIPTION:Dad Up: Empowering Fathers\, Strengthening Families \nDad Up is a powerful fatherhood initiative designed to help dads build\, rebuild\, and strengthen the connection with their children. This free weekly group offers essential information\, resources\, and services tailored to both expectant and new dads\, providing the tools to be a confident and involved father. \nEach week\, Dad Up covers topics like child development\, parenting strategies\, and strengthening relationships\, while offering access to a network of community resources. No two sessions are the same\, ensuring fresh insights and discussions each time. \nDon’t miss this opportunity to improve your family’s future — Dad Up and watch the benefits grow! \nIf you have any questions\, please call or text Joe at (772) 257-5390.
URL:https://772foryou.org/classes/dad-up-saturday-35/
ATTACH;FMTTYPE=image/png:https://772foryou.org/wp-content/uploads/2024/09/Dad-Up-Saturdays.png
END:VEVENT
BEGIN:VEVENT
DTSTART;TZID=America/New_York:20251017T130000
DTEND;TZID=America/New_York:20251017T140000
DTSTAMP:20260420T104523
CREATED:20250925T203327Z
LAST-MODIFIED:20250925T203327Z
UID:10006886-1760706000-1760709600@772foryou.org
SUMMARY:First Time Moms (After Pregnancy)
DESCRIPTION:Led by Casey\, this support group combines the best of the two worlds of education and emotional wellness. Participants will be journaling on prompts together\, working through infants and toddlers milestones and learning together as a first time moms! \nSpace is limited.
URL:https://772foryou.org/classes/first-time-moms-after-pregnancy-40/
ATTACH;FMTTYPE=image/jpeg:https://772foryou.org/wp-content/uploads/2022/08/sling.jpeg
END:VEVENT
BEGIN:VEVENT
DTSTART;TZID=America/New_York:20251016T160000
DTEND;TZID=America/New_York:20251016T170000
DTSTAMP:20260420T104523
CREATED:20250925T213704Z
LAST-MODIFIED:20250925T213704Z
UID:10006900-1760630400-1760634000@772foryou.org
SUMMARY:Expectativas Del Niño De 6-9 Meses
DESCRIPTION:“You have a brain in your head\, and feet in your shoes. You can go in any direction you choose.” And just as Dr. Seuss says\, your baby is discovering mobility! He is starting to get around on his own and interact with his family and other familiar people in his environment. His brain is growing so fast and he is learning so much! In this video we will talk about your baby’s brain development and the milestones you will see him reach at six months!
URL:https://772foryou.org/classes/expectativas-del-nino-de-6-9-meses-4/
ATTACH;FMTTYPE=image/jpeg:https://772foryou.org/wp-content/uploads/2024/07/Expectativas-Del-Nino-De-6-9-Meses.jpg
END:VEVENT
BEGIN:VEVENT
DTSTART;TZID=America/New_York:20251016T143000
DTEND;TZID=America/New_York:20251016T153000
DTSTAMP:20260420T104523
CREATED:20250925T212953Z
LAST-MODIFIED:20250925T212953Z
UID:10006899-1760625000-1760628600@772foryou.org
SUMMARY:Infant Expectations: 3-6 Months
DESCRIPTION:In this video\, we talk about the development you’ll see in your baby in the three- to six-month range and how you can encourage and help your baby learn. Topics include: • three to six months • language and communication • social and emotional milestones • cognitive milestones • development • normal expected age ranges • infant milestones • movement milestones • physical development • baby’s personality • interacting with baby.
URL:https://772foryou.org/classes/infant-expectations-3-6-months-7/
ATTACH;FMTTYPE=image/jpeg:https://772foryou.org/wp-content/uploads/2022/09/3-6-months.jpg
END:VEVENT
BEGIN:VEVENT
DTSTART;TZID=America/New_York:20251016T110000
DTEND;TZID=America/New_York:20251016T120000
DTSTAMP:20260420T104523
CREATED:20250925T212411Z
LAST-MODIFIED:20251001T141538Z
UID:10006898-1760612400-1760616000@772foryou.org
SUMMARY:Entendiendo La Lactancia
DESCRIPTION:
URL:https://772foryou.org/classes/entendiendo-la-lactancia/
ATTACH;FMTTYPE=image/png:https://772foryou.org/wp-content/uploads/2024/09/Comenzando-La-Lactancia.png
END:VEVENT
BEGIN:VEVENT
DTSTART;TZID=America/New_York:20251015T140000
DTEND;TZID=America/New_York:20251015T150000
DTSTAMP:20260420T104523
CREATED:20250925T211445Z
LAST-MODIFIED:20250925T211445Z
UID:10006897-1760536800-1760540400@772foryou.org
SUMMARY:Premature Infant Milestones
DESCRIPTION:Learn how to track developmental milestones for premature babies using corrected age\, and understand how these milestones differ from those of full-term infants. This lesson covers key milestones from 4 weeks to 2 years—like smiling\, rolling\, and walking—and offers practical tips to support your preemie’s growth through activities such as tummy time\, reading\, and interactive play. It also emphasizes the importance of well-child visits\, limiting screen time\, and knowing when to seek professional guidance. Finally\, gain strategies to manage stress\, avoid comparisons\, and celebrate your baby’s unique progress. Topics Include: Development · NICU · Prematurity · Bonding · Preemie ·Neonatal · Infant health · Tummy Time · Milestones
URL:https://772foryou.org/classes/premature-infant-milestones/
END:VEVENT
BEGIN:VEVENT
DTSTART;TZID=America/New_York:20251015T123000
DTEND;TZID=America/New_York:20251015T133000
DTSTAMP:20260420T104523
CREATED:20250925T210510Z
LAST-MODIFIED:20250925T210510Z
UID:10006895-1760531400-1760535000@772foryou.org
SUMMARY:Postpartum
DESCRIPTION:Postpartum: This final session will instruct you on the postpartum period (after birth). You’ll learn what to expect in the hospital or birthing center in the hours and days following birth\, and what you can expect in the first few weeks at home. Real moms also offer tips and share about the things they wish they had done differently or had known about after labor and delivery. You’ll finish this class feeling excited and ready to meet your baby and be empowered to have the best birth possible.
URL:https://772foryou.org/classes/postpartum-5/
ATTACH;FMTTYPE=image/jpeg:https://772foryou.org/wp-content/uploads/2022/09/March-of-Dimes-postpartum-care.jpg
END:VEVENT
BEGIN:VEVENT
DTSTART;TZID=America/New_York:20251015T103000
DTEND;TZID=America/New_York:20251015T113000
DTSTAMP:20260420T104523
CREATED:20250925T210247Z
LAST-MODIFIED:20250925T210247Z
UID:10006894-1760524200-1760527800@772foryou.org
SUMMARY:Entendiendo Procedimientos Clínicos
DESCRIPTION:
URL:https://772foryou.org/classes/entendiendo-procedimientos-clinicos/
ATTACH;FMTTYPE=image/jpeg:https://772foryou.org/wp-content/uploads/2022/11/Cesarean.jpg
END:VEVENT
BEGIN:VEVENT
DTSTART;TZID=America/New_York:20251014T173000
DTEND;TZID=America/New_York:20251014T190000
DTSTAMP:20260420T104523
CREATED:20250925T205407Z
LAST-MODIFIED:20250925T205407Z
UID:10006893-1760463000-1760468400@772foryou.org
SUMMARY:Healthy Start-Laboring\, Breathing\, Positioning\, Pushing & Birth
DESCRIPTION:From informed  decision making\, interventions and pain management options and breathing practice…This workshop will help you prepare!
URL:https://772foryou.org/classes/healthy-start-laboring-breathing-positioning-pushing-birth-21/
ATTACH;FMTTYPE=image/jpeg:https://772foryou.org/wp-content/uploads/2022/09/Laboring-Breathing-Pushing.jpeg
END:VEVENT
BEGIN:VEVENT
DTSTART;TZID=America/New_York:20251014T143000
DTEND;TZID=America/New_York:20251014T153000
DTSTAMP:20260420T104523
CREATED:20250925T205136Z
LAST-MODIFIED:20250925T205136Z
UID:10006892-1760452200-1760455800@772foryou.org
SUMMARY:B.R.A.I.N & Decision Making
DESCRIPTION:B.R.A.I.N & Decision Making: You may be faced with difficult decisions during birth. Labor may not be progressing as quickly as your doctor would like. Or what do you do if pain medicine is offered that wasn’t part of your birth plan? What if your doctor recommends a cesarean? Making important decisions is tough\, and having the right tool to help you do it is important. Cue the B.R.A.I.N. method. This five-part decision-making tool will help you narrow down the information you need during labor to make the best well-informed decision for you and your baby. \nSpace is limited.
URL:https://772foryou.org/classes/b-r-a-i-n-decision-making-3/
ATTACH;FMTTYPE=image/jpeg:https://772foryou.org/wp-content/uploads/2024/07/L-D-Medical-Pain-Relief-Interventions.jpg
END:VEVENT
BEGIN:VEVENT
DTSTART;TZID=America/New_York:20251014T110000
DTEND;TZID=America/New_York:20251014T120000
DTSTAMP:20260420T104523
CREATED:20250925T204855Z
LAST-MODIFIED:20250925T204855Z
UID:10006891-1760439600-1760443200@772foryou.org
SUMMARY:Entrenando A Tu Entrenador De Parto
DESCRIPTION:Tener un bebé es algo ENORME… y probablemente no es algo que quieras hacer sola. Las investigaciones han demostrado que cuando tienes a una o dos personas de apoyo a tu lado\, es más probable que sigas tu plan de parto y tengas menos intervenciones. Y es agradable tener a alguien allí para ayudar. En este video\, hablaremos sobre lo que hace un asesor de parto\, a quién elegir y cómo capacitarlo para que tengas la mejor experiencia de parto posible.
URL:https://772foryou.org/classes/entrenando-a-tu-entrenador-de-parto-2/
ATTACH;FMTTYPE=image/webp:https://772foryou.org/wp-content/uploads/2024/12/Entrenando-A-Tu-Entrenador-De-Parto.webp
END:VEVENT
BEGIN:VEVENT
DTSTART;TZID=America/New_York:20251013T150000
DTEND;TZID=America/New_York:20251013T160000
DTSTAMP:20260420T104523
CREATED:20250925T204523Z
LAST-MODIFIED:20250925T204523Z
UID:10006890-1760367600-1760371200@772foryou.org
SUMMARY:Your First Trimester
DESCRIPTION:You’re pregnant\, and you’re wondering\, now what? There is a lot to know about pregnancy\, your changing body\, and your developing baby. So much happens in that first trimester! You will experience changes in your body\, your emotions\, and your lifestyle. Your baby also goes through a lot of growth\, developing into the little person you soon will see in less than nine months! This video takes a look at pregnancy in the first trimester and also talks about your baby’s journey in development.
URL:https://772foryou.org/classes/your-first-trimester-28/
ATTACH;FMTTYPE=image/jpeg:https://772foryou.org/wp-content/uploads/2022/09/1st-Trimester-1.jpg
END:VEVENT
BEGIN:VEVENT
DTSTART;TZID=America/New_York:20251013T133000
DTEND;TZID=America/New_York:20251013T143000
DTSTAMP:20260420T104523
CREATED:20250925T204247Z
LAST-MODIFIED:20250925T204247Z
UID:10006889-1760362200-1760365800@772foryou.org
SUMMARY:Expectativas Sobre El Parto
DESCRIPTION:¡Ellos lo hicieron! ¡Las parejas Laila y Joseph\, Mikayla y Kyle\, y Mariah y Tyler tuvieron sus bebés! ¡Apuesto a que no puedes esperar a ver cómo resulta todo en este video final! Únase a estas tres parejas cuando sus embarazos lleguen a su fin y experimenten el trabajo de parto y el parto con ellos mientras tienen a sus bebés.
URL:https://772foryou.org/classes/expectativas-sobre-el-parto-4/
ATTACH;FMTTYPE=image/jpeg:https://772foryou.org/wp-content/uploads/2022/09/Natural-labor.jpg
END:VEVENT
BEGIN:VEVENT
DTSTART;TZID=America/New_York:20251013T110000
DTEND;TZID=America/New_York:20251013T120000
DTSTAMP:20260420T104524
CREATED:20250925T203942Z
LAST-MODIFIED:20250925T203942Z
UID:10006888-1760353200-1760356800@772foryou.org
SUMMARY:Su Primer Trimestre
DESCRIPTION:Ya estás embarazada y te preguntas\, ¿y ahora qué? Hay mucho por saber acerca del embarazo\, los cambios que se producen en el cuerpo y el bebé en crecimiento. ¡Pasan muchas cosas durante el primer trimestre! Sentirás cambios en el cuerpo\, en tus emociones y estilo de vida. ¡Tu bebé también empieza a crecer y se convertirá en el pequeño que tendrás en menos de nueve meses! Este video desarrolla el primer trimestre del embarazo y también habla sobre los cambios del bebé durante su desarrollo. 
URL:https://772foryou.org/classes/su-primer-trimestre-28/
ATTACH;FMTTYPE=image/jpeg:https://772foryou.org/wp-content/uploads/2022/09/1st-Trimester-1.jpg
END:VEVENT
BEGIN:VEVENT
DTSTART;TZID=America/New_York:20251012T160000
DTEND;TZID=America/New_York:20251012T173000
DTSTAMP:20260420T104524
CREATED:20250925T202559Z
LAST-MODIFIED:20250925T202559Z
UID:10006882-1760284800-1760290200@772foryou.org
SUMMARY:Dad Up (Sundays)
DESCRIPTION:Dad Up: Empowering Fathers\, Strengthening Families \nDad Up is a powerful fatherhood initiative designed to help dads build\, rebuild\, and strengthen the connection with their children. This free weekly group offers essential information\, resources\, and services tailored to both expectant and new dads\, providing the tools to be a confident and involved father. \nEach week\, Dad Up covers topics like child development\, parenting strategies\, and strengthening relationships\, while offering access to a network of community resources. No two sessions are the same\, ensuring fresh insights and discussions each time. \nDon’t miss this opportunity to improve your family’s future — Dad Up and watch the benefits grow! \nIf you have any questions\, please call or text Joe at (772) 257-5390.
URL:https://772foryou.org/classes/dad-up-sundays-34/
ATTACH;FMTTYPE=image/png:https://772foryou.org/wp-content/uploads/2024/09/Dad-Up-on-Sundays.png
END:VEVENT
BEGIN:VEVENT
DTSTART;TZID=America/New_York:20251011T093000
DTEND;TZID=America/New_York:20251011T110000
DTSTAMP:20260420T104524
CREATED:20250925T202208Z
LAST-MODIFIED:20250925T202208Z
UID:10006879-1760175000-1760180400@772foryou.org
SUMMARY:Dad Up (Saturday)
DESCRIPTION:Dad Up: Empowering Fathers\, Strengthening Families \nDad Up is a powerful fatherhood initiative designed to help dads build\, rebuild\, and strengthen the connection with their children. This free weekly group offers essential information\, resources\, and services tailored to both expectant and new dads\, providing the tools to be a confident and involved father. \nEach week\, Dad Up covers topics like child development\, parenting strategies\, and strengthening relationships\, while offering access to a network of community resources. No two sessions are the same\, ensuring fresh insights and discussions each time. \nDon’t miss this opportunity to improve your family’s future — Dad Up and watch the benefits grow! \nIf you have any questions\, please call or text Joe at (772) 257-5390.
URL:https://772foryou.org/classes/dad-up-saturday-34/
ATTACH;FMTTYPE=image/png:https://772foryou.org/wp-content/uploads/2024/09/Dad-Up-Saturdays.png
END:VEVENT
BEGIN:VEVENT
DTSTART;TZID=America/New_York:20251010T140000
DTEND;TZID=America/New_York:20251010T150000
DTSTAMP:20260420T104524
CREATED:20250924T191703Z
LAST-MODIFIED:20250930T182026Z
UID:10006871-1760104800-1760108400@772foryou.org
SUMMARY:Prenatal Exercise With Callie
DESCRIPTION:
URL:https://772foryou.org/classes/prenatal-exercise-with-callie-4/
ATTACH;FMTTYPE=image/jpeg:https://772foryou.org/wp-content/uploads/2024/08/Prenatal-Stretching-with-Callie.jpg
END:VEVENT
BEGIN:VEVENT
DTSTART;TZID=America/New_York:20251010T130000
DTEND;TZID=America/New_York:20251010T140000
DTSTAMP:20260420T104524
CREATED:20250923T223055Z
LAST-MODIFIED:20250923T223055Z
UID:10006864-1760101200-1760104800@772foryou.org
SUMMARY:First Time Moms (Pregnant)
DESCRIPTION:Led by Casey\, this support group combines the best of the two worlds of education and emotional wellness. Participants will be journaling on prompts together\, working through a pregnancy milestone log book and learning together as a first time moms. This is a support group with an educational emphasis on self-care.  All supplies will be provided. \nSpace is limited.
URL:https://772foryou.org/classes/first-time-moms-pregnant-37/
ATTACH;FMTTYPE=image/png:https://772foryou.org/wp-content/uploads/2022/08/Ultrasound-Copy-5.png
END:VEVENT
BEGIN:VEVENT
DTSTART;TZID=America/New_York:20251009T170000
DTEND;TZID=America/New_York:20251009T180000
DTSTAMP:20260420T104524
CREATED:20250925T210758Z
LAST-MODIFIED:20250925T210758Z
UID:10006896-1760029200-1760032800@772foryou.org
SUMMARY:Sleeping\, Bedtime & Mornings
DESCRIPTION:You put them to bed\, and they’re back up again. Hungry\, thirsty\, lonely\, not tired…how do you keep them in bed? Toddlers don’t want to miss out on anything and often naps and bedtimes become a class of wills. You can lead a toddler to bed\, but how do you make them stay there? How much sleep do they need\, and how many naps must they take? What does a good sleep schedule look like\, and how do you achieve it? This video answers these questions and offers solutions for some of the most common sleep challenges a toddler has so that everyone gets a blissful night’s rest! Topics include: •Toddler •Bedtime •Sleep Schedule •Nighttime Sleep • Daily Naps •Routines
URL:https://772foryou.org/classes/sleeping-bedtime-mornings-4/
END:VEVENT
BEGIN:VEVENT
DTSTART;TZID=America/New_York:20251009T143000
DTEND;TZID=America/New_York:20251009T153000
DTSTAMP:20260420T104524
CREATED:20250925T201919Z
LAST-MODIFIED:20250925T201919Z
UID:10006878-1760020200-1760023800@772foryou.org
SUMMARY:Mother & Newborn Care
DESCRIPTION:
URL:https://772foryou.org/classes/mother-newborn-care-2/
ATTACH;FMTTYPE=image/jpeg:https://772foryou.org/wp-content/uploads/2024/06/Mother-Newborn-Care-original.jpg
END:VEVENT
BEGIN:VEVENT
DTSTART;TZID=America/New_York:20251009T110000
DTEND;TZID=America/New_York:20251009T120000
DTSTAMP:20260420T104524
CREATED:20250925T201612Z
LAST-MODIFIED:20250925T201612Z
UID:10006877-1760007600-1760011200@772foryou.org
SUMMARY:El Cuidado De La Madre Y El Recién Nacido
DESCRIPTION:
URL:https://772foryou.org/classes/el-cuidado-de-la-madre-y-el-recien-nacido-2/
ATTACH;FMTTYPE=image/jpeg:https://772foryou.org/wp-content/uploads/2024/06/El-Cuidado-De-La-Madre-Y-El-Recien-Nacido-original.jpg
END:VEVENT
BEGIN:VEVENT
DTSTART;TZID=America/New_York:20251008T140000
DTEND;TZID=America/New_York:20251008T150000
DTSTAMP:20260420T104524
CREATED:20250925T201315Z
LAST-MODIFIED:20250925T201315Z
UID:10006876-1759932000-1759935600@772foryou.org
SUMMARY:12-15 Months Milestones
DESCRIPTION:Your busy toddler is quickly learning new skills in the areas of cognitive development\, language and communication development\, social and emotional development\, and physical development. Every month brings exciting new advances to what they can do. These videos cover the milestones your child will be hitting between 12 – 15 months\, the abilities they will be acquiring as they move toward independence\, and when to call your medical provider. Topics include: •Milestones •12-15 Months •Cognitive Development •Language Development •Speech Development •Social Development •Emotional Development •Physical Development •Gross Motor Skills •Fine Motor Skills •Toddler •Crawl •Mobile Skills •Self
URL:https://772foryou.org/classes/12-15-months-milestones-2/
ATTACH;FMTTYPE=image/jpeg:https://772foryou.org/wp-content/uploads/2022/10/12-15.cognitive.jpg
END:VEVENT
BEGIN:VEVENT
DTSTART;TZID=America/New_York:20251008T123000
DTEND;TZID=America/New_York:20251008T133000
DTSTAMP:20260420T104524
CREATED:20250925T183051Z
LAST-MODIFIED:20250925T183051Z
UID:10006875-1759926600-1759930200@772foryou.org
SUMMARY:Infant Expectations
DESCRIPTION:In this video\, we talk about the development you’ll see in your baby in the three- to six-month range and how you can encourage and help your baby learn. Topics include: • three to six months • language and communication • social and emotional milestones • cognitive milestones • development • normal expected age ranges • infant milestones • movement milestones • physical development • baby’s personality • interacting with baby. \nSpace is limited.
URL:https://772foryou.org/classes/infant-expectations-11/
ATTACH;FMTTYPE=image/jpeg:https://772foryou.org/wp-content/uploads/2024/07/Infant-Expectations.jpg
END:VEVENT
BEGIN:VEVENT
DTSTART;TZID=America/New_York:20251008T103000
DTEND;TZID=America/New_York:20251008T113000
DTSTAMP:20260420T104524
CREATED:20250925T182748Z
LAST-MODIFIED:20250925T182748Z
UID:10006874-1759919400-1759923000@772foryou.org
SUMMARY:Expectativas Infantiles
DESCRIPTION:Las primeras horas\, días y semanas con su bebé recién nacido pueden ser agotante. ¡Hay tanto que aprender y conocer! ¿Cómo lucirá mi bebé? ¿Qué es normal? ¿Qué tipo de comportamientos debe esperar? ¿Es normal que mi bebé duerma tanto? ¿Por qué mi bebé llora tanto? ¿Tiene un cólico? ¿Qué pasa si se presentan complicaciones? ¿Cuál es el tratamiento adecuado? Este video ayudará a las madres primerizas a saber que esperar con respecto a sus recién nacidos y le brindará las armas para realizar la transición desde el embarazo a la maternidad de un recién nacido.
URL:https://772foryou.org/classes/expectativas-infantiles-9/
ATTACH;FMTTYPE=image/jpeg:https://772foryou.org/wp-content/uploads/2024/07/Expectativas-Infantiles.jpg
END:VEVENT
BEGIN:VEVENT
DTSTART;TZID=America/New_York:20251007T173000
DTEND;TZID=America/New_York:20251007T190000
DTSTAMP:20260420T104524
CREATED:20250925T182534Z
LAST-MODIFIED:20250925T182534Z
UID:10006873-1759858200-1759863600@772foryou.org
SUMMARY:Healthy Start-Labor Signs & Is It Time?
DESCRIPTION:Let’s discuss signs of labor and birthing your baby! Planning and preparation for the big day will alleviate anxiety and contribute to a a more positive birth experience. We will highlight the important role of a support person\, practice breathing and more
URL:https://772foryou.org/classes/healthy-start-labor-signs-is-it-time-19/
ATTACH;FMTTYPE=image/jpeg:https://772foryou.org/wp-content/uploads/2024/06/Healthy-Start-Labor-Signs-Is-It-Time.jpg
END:VEVENT
END:VCALENDAR