BEGIN:VCALENDAR
VERSION:2.0
PRODID:-//A Caring Center For Women - ECPv6.15.20//NONSGML v1.0//EN
CALSCALE:GREGORIAN
METHOD:PUBLISH
X-ORIGINAL-URL:https://772foryou.org
X-WR-CALDESC:Events for A Caring Center For Women
REFRESH-INTERVAL;VALUE=DURATION:PT1H
X-Robots-Tag:noindex
X-PUBLISHED-TTL:PT1H
BEGIN:VTIMEZONE
TZID:America/New_York
BEGIN:DAYLIGHT
TZOFFSETFROM:-0500
TZOFFSETTO:-0400
TZNAME:EDT
DTSTART:20240310T070000
END:DAYLIGHT
BEGIN:STANDARD
TZOFFSETFROM:-0400
TZOFFSETTO:-0500
TZNAME:EST
DTSTART:20241103T060000
END:STANDARD
BEGIN:DAYLIGHT
TZOFFSETFROM:-0500
TZOFFSETTO:-0400
TZNAME:EDT
DTSTART:20250309T070000
END:DAYLIGHT
BEGIN:STANDARD
TZOFFSETFROM:-0400
TZOFFSETTO:-0500
TZNAME:EST
DTSTART:20251102T060000
END:STANDARD
BEGIN:DAYLIGHT
TZOFFSETFROM:-0500
TZOFFSETTO:-0400
TZNAME:EDT
DTSTART:20260308T070000
END:DAYLIGHT
BEGIN:STANDARD
TZOFFSETFROM:-0400
TZOFFSETTO:-0500
TZNAME:EST
DTSTART:20261101T060000
END:STANDARD
END:VTIMEZONE
BEGIN:VTIMEZONE
TZID:UTC
BEGIN:STANDARD
TZOFFSETFROM:+0000
TZOFFSETTO:+0000
TZNAME:UTC
DTSTART:20240101T000000
END:STANDARD
END:VTIMEZONE
BEGIN:VEVENT
DTSTART;TZID=America/New_York:20251106T143000
DTEND;TZID=America/New_York:20251106T153000
DTSTAMP:20260420T054953
CREATED:20251031T151911Z
LAST-MODIFIED:20251031T161101Z
UID:10006936-1762439400-1762443000@772foryou.org
SUMMARY:Toddler Accidents
DESCRIPTION:This video looks at the many ways a toddler can get hurt and how your first-aid and loving hugs will save the day! Topics include: • toddler • accidents • exploring • playing • discovering • first aid • childproof home • choking hazards • falls • burns and scalds • bites and stings • poisoning • car crashes • sun safety • CPR • bruises and cuts • concussion.
URL:https://772foryou.org/classes/toddler-accidents-4/
ATTACH;FMTTYPE=image/png:https://772foryou.org/wp-content/uploads/2024/09/Toddler-Accidents.png
END:VEVENT
BEGIN:VEVENT
DTSTART;TZID=America/New_York:20251106T113000
DTEND;TZID=America/New_York:20251106T123000
DTSTAMP:20260420T054953
CREATED:20251031T151544Z
LAST-MODIFIED:20251031T160615Z
UID:10006937-1762428600-1762432200@772foryou.org
SUMMARY:Hitos De: 15-18 Meses
DESCRIPTION:Su ocupado niño está aprendiendo rápidamente nuevas habilidades en las áreas de desarrollo cognitivo\, desarrollo del lenguaje y la comunicación\, desarrollo social y emocional y desarrollo físico. Cada mes trae nuevos y emocionantes avances en lo que puede hacer. Este video cubre los hitos que alcanzará un niño entre los 15 y los 18 meses\, las habilidades que adquirirá a medida que avanza hacia la independencia y cuándo llamar a su proveedor médico.
URL:https://772foryou.org/classes/hitos-de-15-18-meses/
ATTACH;FMTTYPE=image/jpeg:https://772foryou.org/wp-content/uploads/2022/10/12-15.cognitive.jpg
END:VEVENT
BEGIN:VEVENT
DTSTART;TZID=America/New_York:20251106T100000
DTEND;TZID=America/New_York:20251106T110000
DTSTAMP:20260420T054953
CREATED:20251031T154523Z
LAST-MODIFIED:20251031T160614Z
UID:10006939-1762423200-1762426800@772foryou.org
SUMMARY:First Time Moms (Pregnant)
DESCRIPTION:Led by Denice\, this support group combines the best of the two worlds of education and emotional wellness. Participants will be journaling on prompts together\, working through a pregnancy milestone log book and learning together as a first time moms. This is a support group with an educational emphasis on self-care.  All supplies will be provided. \nSpace is limited.
URL:https://772foryou.org/classes/first-time-moms-pregnant-39/
ATTACH;FMTTYPE=image/png:https://772foryou.org/wp-content/uploads/2022/08/Ultrasound-Copy-5.png
END:VEVENT
BEGIN:VEVENT
DTSTART;TZID=America/New_York:20251105T140000
DTEND;TZID=America/New_York:20251105T150000
DTSTAMP:20260420T054953
CREATED:20251031T145912Z
LAST-MODIFIED:20251031T160608Z
UID:10006934-1762351200-1762354800@772foryou.org
SUMMARY:Toddler Milestones: 15-18 Months
DESCRIPTION:These videos cover the milestones your child will be hitting between fifteen and eighteen months\, the abilities he will be acquiring as he moves toward independence\, and when to call your medical provider if problems occur. Topics include: • milestones • 15–18 months • cognitive development • language development • speech development • social development • emotional development • physical development • toddler • critical thinking • toddler’s personality • big movement skills • fine movements.
URL:https://772foryou.org/classes/toddler-milestones-15-18-months/
END:VEVENT
BEGIN:VEVENT
DTSTART;TZID=America/New_York:20251105T123000
DTEND;TZID=America/New_York:20251105T133000
DTSTAMP:20260420T054953
CREATED:20251031T145354Z
LAST-MODIFIED:20251031T160604Z
UID:10006933-1762345800-1762349400@772foryou.org
SUMMARY:Simple Infant Care
DESCRIPTION:This video will provide mothers with information on a variety of less-common subjects that are important to the well-being of their children. Some of these include how to hold a newborn\, techniques for soothing a crying baby\, bed sharing\, burping\, infant walkers\, pacifiers\, and more. Each section is based on research and professional recommendations by leading medical organizations. After watching this video\, new parents will be able to make informed and study-based choices in each subject for the care of their newborns. Topics include: newborn • bed-sharing • co-sleeping • SIDS • sudden infant death syndrome • room-sharing • crying • crying checklist • crying spells • soothing • swaddling • skin-to-skin • pacifier • burping • spit up • vomiting • holding • supporting neck • infant carriers • check carrier • back carrier • car seat carriers • infant walkers • dressing infant.
URL:https://772foryou.org/classes/simple-infant-care-13/
ATTACH;FMTTYPE=image/jpeg:https://772foryou.org/wp-content/uploads/2024/07/Simple-Infant-Care.jpg
END:VEVENT
BEGIN:VEVENT
DTSTART;TZID=America/New_York:20251105T103000
DTEND;TZID=America/New_York:20251105T113000
DTSTAMP:20260420T054953
CREATED:20251031T144329Z
LAST-MODIFIED:20251031T160603Z
UID:10006932-1762338600-1762342200@772foryou.org
SUMMARY:Cuidado Infantil Simple
DESCRIPTION:Este video le proporcionará a las madres la información correspondiente a una variedad de asuntos poco habituales que son relevantes para el bienestar del niño. Algunos de estos incluyen cómo sostener a un recién nacido\, técnicas para calmar al bebé cuando llora\, colecho\, sacar eructos\, andadores\, chupones y más. Cada sección se basa en investigaciones y recomendaciones profesionales realizadas por destacadas organizaciones médicas. Luego de observar este video\, los padres primerizos serán capaces de tomar decisiones informadas con conocimiento de causa respecto a cada asunto relacionado al cuidado de sus recién nacidos.
URL:https://772foryou.org/classes/cuidado-infantil-simple-10/
ATTACH;FMTTYPE=image/jpeg:https://772foryou.org/wp-content/uploads/2024/07/Cuidado-Infantil-Simple.jpg
END:VEVENT
BEGIN:VEVENT
DTSTART;TZID=America/New_York:20251104T173000
DTEND;TZID=America/New_York:20251104T190000
DTSTAMP:20260420T054953
CREATED:20251031T144701Z
LAST-MODIFIED:20251031T160613Z
UID:10006930-1762277400-1762282800@772foryou.org
SUMMARY:Healthy Start-Labor Signs & Is It Time?
DESCRIPTION:Let’s discuss signs of labor and birthing your baby! Planning and preparation for the big day will alleviate anxiety and contribute to a a more positive birth experience. We will highlight the important role of a support person\, practice breathing and more
URL:https://772foryou.org/classes/healthy-start-labor-signs-is-it-time-20/
ATTACH;FMTTYPE=image/jpeg:https://772foryou.org/wp-content/uploads/2024/06/Healthy-Start-Labor-Signs-Is-It-Time.jpg
END:VEVENT
BEGIN:VEVENT
DTSTART;TZID=America/New_York:20251104T143000
DTEND;TZID=America/New_York:20251104T153000
DTSTAMP:20260420T054953
CREATED:20251031T155005Z
LAST-MODIFIED:20251031T160551Z
UID:10006940-1762266600-1762270200@772foryou.org
SUMMARY:Salud Oral De Tu Pequeño
DESCRIPTION:Su niño tiene una boca llena de bonitos dientes blancos. Pueden morder\, masticar y sonreír de una manera que derrite su corazón. Pero\, ¿cómo mantener sus dientes sanos? ¿Es realmente importante hacerlo? Después de todo\, van a a perderlos. En este vídeo veremos por qué la salud bucodental de su hijo es importante para su salud general\, cómo enseñarle buenos hábitos de cepillado de dientes\, cuándo acudir al dentista y qué hacer si tu hijo tiene un problema dental.
URL:https://772foryou.org/classes/salud-oral-de-tu-pequeno-4/
ATTACH;FMTTYPE=image/webp:https://772foryou.org/wp-content/uploads/2024/12/Salud-Oral-De-Tus-Pequenos.webp
END:VEVENT
BEGIN:VEVENT
DTSTART;TZID=America/New_York:20251104T110000
DTEND;TZID=America/New_York:20251104T120000
DTSTAMP:20260420T054953
CREATED:20251031T144129Z
LAST-MODIFIED:20251104T171342Z
UID:10006931-1762254000-1762257600@772foryou.org
SUMMARY:Hitos de 12-15 Meses
DESCRIPTION:Su ocupado niño está aprendiendo rápidamente nuevas habilidades en las áreas de desarrollo cognitivo\, desarrollo del lenguaje y la comunicación\, desarrollo social y emocional y desarrollo físico. Cada mes trae nuevos y emocionantes avances en lo que puede hacer. Este video cubre los hitos que alcanzará un niño entre los 12 y los 15 meses\, las habilidades que adquirirá a medida que avanza hacia la independencia y cuando llamar a su proveedor médico.
URL:https://772foryou.org/classes/hitos-de-12-15-meses-2/
ATTACH;FMTTYPE=image/jpeg:https://772foryou.org/wp-content/uploads/2022/10/12-15.cognitive.jpg
END:VEVENT
BEGIN:VEVENT
DTSTART;TZID=UTC:20251103T150000
DTEND;TZID=UTC:20251103T160000
DTSTAMP:20260420T054953
CREATED:20251031T143349Z
LAST-MODIFIED:20251031T160539Z
UID:10006929-1762182000-1762185600@772foryou.org
SUMMARY:Your Ultrasound Appointment
DESCRIPTION:Your Ultrasound Appointment \nThis video will discuss what to expect at an ultrasound appointment and give an incredible glimpse of your unborn baby’s world. Topics include: sound waves • transvaginal • transabdominal • 2D • 3D • gestational sac • ectopic • genetic disorder • nuchal translucency
URL:https://772foryou.org/classes/your-ultrasound-appointment-5/
END:VEVENT
BEGIN:VEVENT
DTSTART;TZID=UTC:20251103T133000
DTEND;TZID=UTC:20251103T143000
DTSTAMP:20260420T054953
CREATED:20251031T143139Z
LAST-MODIFIED:20251031T160535Z
UID:10006928-1762176600-1762180200@772foryou.org
SUMMARY:Bonding with Your Unborn Baby
DESCRIPTION:Bonding with Your Unborn Baby \nFrom conception to birth\, your baby embarks on an incredible nine-month journey. She is developing and growing from her own genetic blueprints. Even though you haven’t met her yet\, you can start bonding with her while she is still growing in your womb. Learn about her incredible journey and how you and she are connected and explore the incredible masterpiece that is your son or daughter. Topics include: • pregnancy • conception • first trimester • fetal development • second trimester • third trimester • connection • bonding • ultrasound • unborn baby.
URL:https://772foryou.org/classes/bonding-with-your-unborn-baby-6/
END:VEVENT
BEGIN:VEVENT
DTSTART;TZID=America/New_York:20251102T160000
DTEND;TZID=America/New_York:20251102T173000
DTSTAMP:20260420T054953
CREATED:20251024T181735Z
LAST-MODIFIED:20251031T155515Z
UID:10006925-1762099200-1762104600@772foryou.org
SUMMARY:DadUp (Sundays)
DESCRIPTION:DadUp: Empowering Fathers\, Strengthening Families \nDadUp is a powerful fatherhood initiative designed to help dads build\, rebuild\, and strengthen the connection with their children. This free weekly group offers essential information\, resources\, and services tailored to both expectant and new dads\, providing the tools to be a confident and involved father. \nEach week\, DadUp covers topics like child development\, parenting strategies\, and strengthening relationships\, while offering access to a network of community resources. No two sessions are the same\, ensuring fresh insights and discussions each time. \nDon’t miss this opportunity to improve your family’s future — DadUp and watch the benefits grow! \nIf you have any questions\, please call or text Joe at (772) 257-5390.
URL:https://772foryou.org/classes/dad-up-sundays-37/
ATTACH;FMTTYPE=image/png:https://772foryou.org/wp-content/uploads/2024/09/Dad-Up-on-Sundays.png
END:VEVENT
BEGIN:VEVENT
DTSTART;TZID=America/New_York:20251101T093000
DTEND;TZID=America/New_York:20251101T110000
DTSTAMP:20260420T054953
CREATED:20251024T181202Z
LAST-MODIFIED:20251031T155537Z
UID:10006924-1761989400-1761994800@772foryou.org
SUMMARY:DadUp (Saturday)
DESCRIPTION:DadUp: Empowering Fathers\, Strengthening Families \nDadUp is a powerful fatherhood initiative designed to help dads build\, rebuild\, and strengthen the connection with their children. This free weekly group offers essential information\, resources\, and services tailored to both expectant and new dads\, providing the tools to be a confident and involved father. \nEach week\, DadUp covers topics like child development\, parenting strategies\, and strengthening relationships\, while offering access to a network of community resources. No two sessions are the same\, ensuring fresh insights and discussions each time. \nDon’t miss this opportunity to improve your family’s future — DadUp and watch the benefits grow! \nIf you have any questions\, please call or text Joe at (772) 257-5390.
URL:https://772foryou.org/classes/dad-up-saturday-37/
ATTACH;FMTTYPE=image/png:https://772foryou.org/wp-content/uploads/2024/09/Dad-Up-Saturdays.png
END:VEVENT
BEGIN:VEVENT
DTSTART;TZID=America/New_York:20251031T130000
DTEND;TZID=America/New_York:20251031T140000
DTSTAMP:20260420T054953
CREATED:20250925T203431Z
LAST-MODIFIED:20251031T154653Z
UID:10006887-1761915600-1761919200@772foryou.org
SUMMARY:First Time Moms (After Pregnancy)
DESCRIPTION:Led by Denice\, this support group combines the best of the two worlds of education and emotional wellness. Participants will be journaling on prompts together\, working through infants and toddlers milestones and learning together as a first time moms! \nSpace is limited.
URL:https://772foryou.org/classes/first-time-moms-after-pregnancy-41/
ATTACH;FMTTYPE=image/jpeg:https://772foryou.org/wp-content/uploads/2022/08/sling.jpeg
END:VEVENT
BEGIN:VEVENT
DTSTART;TZID=America/New_York:20251030T160000
DTEND;TZID=America/New_York:20251030T170000
DTSTAMP:20260420T054953
CREATED:20250925T224239Z
LAST-MODIFIED:20250925T224239Z
UID:10006923-1761840000-1761843600@772foryou.org
SUMMARY:Comiendo Por Dos
DESCRIPTION:Cuando estás embarazada\, tú y tu bebé necesitan nutrirse para estar sanos. ¿Pero\, qué significa realmente “comer por dos”? ¿Significa que puedes comer una galleta y luego otra para el bebé? ¿Y que debes duplicar las porciones? En este video veremos la dieta que deberían consumir las embarazadas y cuántas calorías adicionales necesitan para llevar adelante un embarazo saludable. También\, hablaremos sobre qué alimentos son saludables\, cuáles evitar y cómo manejar esos antojos que enloquecen.
URL:https://772foryou.org/classes/comiendo-por-dos/
END:VEVENT
BEGIN:VEVENT
DTSTART;TZID=America/New_York:20251030T143000
DTEND;TZID=America/New_York:20251030T153000
DTSTAMP:20260420T054953
CREATED:20250925T223842Z
LAST-MODIFIED:20250925T223842Z
UID:10006922-1761834600-1761838200@772foryou.org
SUMMARY:Prenatal Care
DESCRIPTION:You’re pregnant\, and you have a lot to consider\, including car seats\, the nursery\, baby clothes\, and what brand of diapers you want to use. But the most important consideration right now is how you can take the best care of yourself and your developing baby. Your first step is setting up your prenatal care. In this video\, we will discuss prenatal care\, what you should expect at your prenatal checkups\, and why they are so important to keeping you and your baby healthy. Topics include: health conditions • gestational diabetes • blood pressure • OB-GYN • midwife and folic acid.
URL:https://772foryou.org/classes/prenatal-care-5/
ATTACH;FMTTYPE=image/jpeg:https://772foryou.org/wp-content/uploads/2022/09/1st-Trimester-1.jpg
END:VEVENT
BEGIN:VEVENT
DTSTART;TZID=America/New_York:20251030T110000
DTEND;TZID=America/New_York:20251030T120000
DTSTAMP:20260420T054953
CREATED:20250925T223611Z
LAST-MODIFIED:20250925T223611Z
UID:10006921-1761822000-1761825600@772foryou.org
SUMMARY:Cuidado Prenatal
DESCRIPTION:Si estás embarazada\, debes tener en cuenta muchos factores­. Los asientos del automóvil\, la habitación del bebé\, su ropa y la marca de pañales que debes utilizar… Pero lo más importante en este momento es que sepas cómo cuidar de ti y el bebé en crecimiento de la mejor manera. El primer paso es establecer la atención prenatal. En este video\, hablaremos sobre la atención prenatal\, lo que sucederá durante los chequeos y su importancia para preservar tu salud y la del bebé.
URL:https://772foryou.org/classes/cuidado-prenatal-2/
ATTACH;FMTTYPE=image/jpeg:https://772foryou.org/wp-content/uploads/2022/09/prenatal-care.jpeg
END:VEVENT
BEGIN:VEVENT
DTSTART;TZID=America/New_York:20251029T140000
DTEND;TZID=America/New_York:20251029T150000
DTSTAMP:20260420T054953
CREATED:20250925T223330Z
LAST-MODIFIED:20250925T223330Z
UID:10006920-1761746400-1761750000@772foryou.org
SUMMARY:Emotions Of Pregnancy
DESCRIPTION:This video covers the physiological factors behind pregnancy mood swings and emotions\, all the other factors that may affect a woman’s thoughts and feelings while she is pregnant\, including depression\, and survival tips to get a woman through the rough patches. Topics include: hormones • exercise • fluctuations • hCG • progesterone • dizziness • nausea • stress • negative feelings • temperament • depression • sleep • talk • eating.
URL:https://772foryou.org/classes/emotions-of-pregnancy-8/
ATTACH;FMTTYPE=image/jpeg:https://772foryou.org/wp-content/uploads/2024/03/Emotions-Of-Pregnancy.jpg
END:VEVENT
BEGIN:VEVENT
DTSTART;TZID=America/New_York:20251029T123000
DTEND;TZID=America/New_York:20251029T133000
DTSTAMP:20260420T054953
CREATED:20250925T223113Z
LAST-MODIFIED:20250925T223113Z
UID:10006919-1761741000-1761744600@772foryou.org
SUMMARY:Infant Expectations: 9-12 Months
DESCRIPTION:It’s hard to believe that your baby is getting ready to hit their first birthday! That’s epic! They have changed so much from when they were first born! Soon you’ll have a toddler to chase after! And with this comes a bit of independence that can create a little bit of insecurity for both you and your baby. In this video\, we talk about those milestones your baby will be hit by one year and the things you can do to help your child adjust to their new-found independence.
URL:https://772foryou.org/classes/infant-expectations-9-12-months-4/
ATTACH;FMTTYPE=image/jpeg:https://772foryou.org/wp-content/uploads/2024/07/Infant-Expectations-9-12-Months.jpg
END:VEVENT
BEGIN:VEVENT
DTSTART;TZID=America/New_York:20251029T103000
DTEND;TZID=America/New_York:20251029T113000
DTSTAMP:20260420T054953
CREATED:20250925T222833Z
LAST-MODIFIED:20250925T222833Z
UID:10006918-1761733800-1761737400@772foryou.org
SUMMARY:Expectativas Sobre El Nino:9-12 Meses
DESCRIPTION:¡Es difícil creer que su bebé se está preparando para festejar su primer cumpleaños! ¡Épico! ¡Ha cambiado mucho desde que nació! ¡Usted pronto deberá correr detrás de un niño! Y con esto llega un poco de independencia que puede crear algo de inseguridad para usted y su bebé. En este video hablaremos de los logros que su bebé alcanzará al llegar al año y lo que puede hacer para ayudarlo a adaptarse a su independencia recientemente descubierta.
URL:https://772foryou.org/classes/expectativas-sobre-el-nino9-12-meses-3/
ATTACH;FMTTYPE=image/jpeg:https://772foryou.org/wp-content/uploads/2024/07/Expectativas-Sobre-El-Nino-9-12-Meses.jpg
END:VEVENT
BEGIN:VEVENT
DTSTART;TZID=America/New_York:20251028T173000
DTEND;TZID=America/New_York:20251028T190000
DTSTAMP:20260420T054953
CREATED:20250925T222320Z
LAST-MODIFIED:20250925T222320Z
UID:10006917-1761672600-1761678000@772foryou.org
SUMMARY:Healthy Start-Baby's Here! What's Normal & What's Not? Basics Of Infant CPR
DESCRIPTION:Practice and learn the basics of CPR. Then\, let’s talk about what’s normal for newborns and mamas in the immediate postpartum period. Know what to expect\, warnings signs\, infant cues and review basic infant  and self care. \nSpace is limited.
URL:https://772foryou.org/classes/healthy-start-babys-here-whats-normal-whats-not-basics-of-infant-cpr-25/
ATTACH;FMTTYPE=image/jpeg:https://772foryou.org/wp-content/uploads/2024/06/Healthy-Start-Babys-Here-Whats-Normal-Whats-Not-Basics-Of-Infant-CPR.jpg
END:VEVENT
BEGIN:VEVENT
DTSTART;TZID=America/New_York:20251028T143000
DTEND;TZID=America/New_York:20251028T153000
DTSTAMP:20260420T054953
CREATED:20250925T222040Z
LAST-MODIFIED:20250925T222040Z
UID:10006916-1761661800-1761665400@772foryou.org
SUMMARY:L & D: Training Your Birth Coach
DESCRIPTION:Having a baby is huge . . . and likely not something you want to do alone. Research has shown that when you have one or two support people by your side\, you are more likely to stick to your birth plan and have fewer interventions. And it’s just nice having someone there to help. In this video\, we’ll talk about what a birth coach does\, whom to choose\, and how to train them so you have the best birth experience possible. Topics include: • birth coach • delivery • labor • support • birth plan • support person • emotional support • communicator • your partner • doula • friends • family • flexible • patient • encourager • childbirth classes.
URL:https://772foryou.org/classes/l-d-training-your-birth-coach-5/
ATTACH;FMTTYPE=image/webp:https://772foryou.org/wp-content/uploads/2024/12/L-D-Training-Your-Birth-Coach.webp
END:VEVENT
BEGIN:VEVENT
DTSTART;TZID=America/New_York:20251028T110000
DTEND;TZID=America/New_York:20251028T120000
DTSTAMP:20260420T054953
CREATED:20250925T221809Z
LAST-MODIFIED:20250925T221809Z
UID:10006915-1761649200-1761652800@772foryou.org
SUMMARY:Técnicas Reconfortantes
DESCRIPTION:En este video hablaremos de la importancia de una persona de apoyo durante el parto\, de probar diferentes posiciones y técnicas de respiración que le ayudarán con el dolor de parto\, también escuchar música o usar imágenes para distraerse y relajarse. Algunas mujeres usan el agua o hidroterapia. \n 
URL:https://772foryou.org/classes/tecnicas-reconfortantes-2/
ATTACH;FMTTYPE=image/jpeg:https://772foryou.org/wp-content/uploads/2024/08/Entendiendo-El-Parto-De-Brandy-Tecnicas-Reconfortantes.jpg
END:VEVENT
BEGIN:VEVENT
DTSTART;TZID=UTC:20251027T150000
DTEND;TZID=UTC:20251027T160000
DTSTAMP:20260420T054953
CREATED:20250925T221346Z
LAST-MODIFIED:20250925T221346Z
UID:10006914-1761577200-1761580800@772foryou.org
SUMMARY:Eating for Two
DESCRIPTION:Eating for Two \nIn this video\, we will look at the diet a pregnant mom should consume and how many extra calories are needed to support a healthy pregnancy. We’ll also talk about what foods are healthy\, which ones to avoid\, and how to manage those cravings that can drive you crazy! Topics include: weight gain • overeating • nutrition • fruits • vegetables • grains • proteins • dairy • fats • oils • meals • snacks • sugars • caffeine • fish • listeria • unpasteurized dairy • cravings • pica • obesity • underweight. www.truetolifeproductions.com.
URL:https://772foryou.org/classes/eating-for-two-2/
END:VEVENT
BEGIN:VEVENT
DTSTART;TZID=America/New_York:20251027T133000
DTEND;TZID=America/New_York:20251027T143000
DTSTAMP:20260420T054953
CREATED:20250925T221132Z
LAST-MODIFIED:20250925T221132Z
UID:10006913-1761571800-1761575400@772foryou.org
SUMMARY:Your Third Trimester
DESCRIPTION:In this video\, we’ll talk about your changing body\, what you might be feeling\, your baby’s journey in development\, and what you can expect in your third trimester. Topics include: shortness of breath • heartburn • swelling • hemorrhoids • constipation • leg cramps • stretch marks • tender breasts • belly button • insomnia • baby dropping • Braxton-Hicks • emotions • exercise • fever and chills • bleeding • labor • mucus plug • ruptured amniotic sac • signs of labor • fetal movement.
URL:https://772foryou.org/classes/your-third-trimester-24/
ATTACH;FMTTYPE=image/jpeg:https://772foryou.org/wp-content/uploads/2022/08/3rd-Trimester.jpeg
END:VEVENT
BEGIN:VEVENT
DTSTART;TZID=America/New_York:20251027T110000
DTEND;TZID=America/New_York:20251027T120000
DTSTAMP:20260420T054953
CREATED:20250925T220927Z
LAST-MODIFIED:20250925T220927Z
UID:10006912-1761562800-1761566400@772foryou.org
SUMMARY:Su Tercer Trimestre
DESCRIPTION:Te estás aproximando al tercer trimestre y te sientes MUY embarazada. El bebé se agranda y puedes sentir cómo se mueve y patea. ¿Qué sucede ahí adentro? A medida que tu cuerpo cambia para acomodarse al bebé en crecimiento\, tienes más probabilidades de sentirte más cansada\, pero a la vez\, sorpresivamente\, más enérgica.­ ¡¡Tu bebé nacerá pronto!! En este video\, hablaremos sobre los cambios en tu cuerpo\, lo que puede que estés sintiendo\, el camino del desarrollo del bebé y lo que sucederá en el tercer trimestre.
URL:https://772foryou.org/classes/su-tercer-trimestre-28/
ATTACH;FMTTYPE=image/jpeg:https://772foryou.org/wp-content/uploads/2022/08/3rd-Trimester.jpeg
END:VEVENT
BEGIN:VEVENT
DTSTART;TZID=America/New_York:20251026T160000
DTEND;TZID=America/New_York:20251026T173000
DTSTAMP:20260420T054953
CREATED:20250925T203002Z
LAST-MODIFIED:20251031T155609Z
UID:10006884-1761494400-1761499800@772foryou.org
SUMMARY:DadUp (Sundays)
DESCRIPTION:DadUp: Empowering Fathers\, Strengthening Families \nDadUp is a powerful fatherhood initiative designed to help dads build\, rebuild\, and strengthen the connection with their children. This free weekly group offers essential information\, resources\, and services tailored to both expectant and new dads\, providing the tools to be a confident and involved father. \nEach week\, DadUp covers topics like child development\, parenting strategies\, and strengthening relationships\, while offering access to a network of community resources. No two sessions are the same\, ensuring fresh insights and discussions each time. \nDon’t miss this opportunity to improve your family’s future — DadUp and watch the benefits grow! \nIf you have any questions\, please call or text Joe at (772) 257-5390.
URL:https://772foryou.org/classes/dad-up-sundays-36/
ATTACH;FMTTYPE=image/png:https://772foryou.org/wp-content/uploads/2024/09/Dad-Up-on-Sundays.png
END:VEVENT
BEGIN:VEVENT
DTSTART;TZID=America/New_York:20251025T093000
DTEND;TZID=America/New_York:20251025T110000
DTSTAMP:20260420T054953
CREATED:20250925T202451Z
LAST-MODIFIED:20251031T155638Z
UID:10006881-1761384600-1761390000@772foryou.org
SUMMARY:DadUp (Saturday)
DESCRIPTION:DadUp: Empowering Fathers\, Strengthening Families \nDadUp is a powerful fatherhood initiative designed to help dads build\, rebuild\, and strengthen the connection with their children. This free weekly group offers essential information\, resources\, and services tailored to both expectant and new dads\, providing the tools to be a confident and involved father. \nEach week\, DadUp covers topics like child development\, parenting strategies\, and strengthening relationships\, while offering access to a network of community resources. No two sessions are the same\, ensuring fresh insights and discussions each time. \nDon’t miss this opportunity to improve your family’s future — DadUp and watch the benefits grow! \nIf you have any questions\, please call or text Joe at (772) 257-5390.
URL:https://772foryou.org/classes/dad-up-saturday-36/
ATTACH;FMTTYPE=image/png:https://772foryou.org/wp-content/uploads/2024/09/Dad-Up-Saturdays.png
END:VEVENT
BEGIN:VEVENT
DTSTART;TZID=America/New_York:20251024T130000
DTEND;TZID=America/New_York:20251024T140000
DTSTAMP:20260420T054953
CREATED:20250925T203207Z
LAST-MODIFIED:20250925T203207Z
UID:10006885-1761310800-1761314400@772foryou.org
SUMMARY:First Time Moms (Pregnant)
DESCRIPTION:Led by Casey\, this support group combines the best of the two worlds of education and emotional wellness. Participants will be journaling on prompts together\, working through a pregnancy milestone log book and learning together as a first time moms. This is a support group with an educational emphasis on self-care.  All supplies will be provided. \nSpace is limited.
URL:https://772foryou.org/classes/first-time-moms-pregnant-38/
ATTACH;FMTTYPE=image/png:https://772foryou.org/wp-content/uploads/2022/08/Ultrasound-Copy-5.png
END:VEVENT
BEGIN:VEVENT
DTSTART;TZID=America/New_York:20251023T170000
DTEND;TZID=America/New_York:20251023T180000
DTSTAMP:20260420T054953
CREATED:20250925T220540Z
LAST-MODIFIED:20250925T220540Z
UID:10006911-1761238800-1761242400@772foryou.org
SUMMARY:Infant Expectations: 6-9  Months
DESCRIPTION:You have brains in your head and feet in your shoes. You can steer yourself in any direction you choose. And just as Dr. Seuss suggests\, your baby is discovering their mobility! They’re beginning to move around on their own and interact with their family and other familiar people in their lives. Their brains are developing so quickly\, and they’re learning so much! In this video\, we talk about your baby’s brain development and the milestones you’ll see them hitting by nine months!
URL:https://772foryou.org/classes/infant-expectations-6-9-months-4/
ATTACH;FMTTYPE=image/jpeg:https://772foryou.org/wp-content/uploads/2024/07/Infant-Expectations-6-9-Months.jpg
END:VEVENT
END:VCALENDAR