BEGIN:VCALENDAR
VERSION:2.0
PRODID:-//A Caring Center For Women - ECPv6.15.20//NONSGML v1.0//EN
CALSCALE:GREGORIAN
METHOD:PUBLISH
X-WR-CALNAME:A Caring Center For Women
X-ORIGINAL-URL:https://772foryou.org
X-WR-CALDESC:Events for A Caring Center For Women
REFRESH-INTERVAL;VALUE=DURATION:PT1H
X-Robots-Tag:noindex
X-PUBLISHED-TTL:PT1H
BEGIN:VTIMEZONE
TZID:America/New_York
BEGIN:DAYLIGHT
TZOFFSETFROM:-0500
TZOFFSETTO:-0400
TZNAME:EDT
DTSTART:20240310T070000
END:DAYLIGHT
BEGIN:STANDARD
TZOFFSETFROM:-0400
TZOFFSETTO:-0500
TZNAME:EST
DTSTART:20241103T060000
END:STANDARD
BEGIN:DAYLIGHT
TZOFFSETFROM:-0500
TZOFFSETTO:-0400
TZNAME:EDT
DTSTART:20250309T070000
END:DAYLIGHT
BEGIN:STANDARD
TZOFFSETFROM:-0400
TZOFFSETTO:-0500
TZNAME:EST
DTSTART:20251102T060000
END:STANDARD
BEGIN:DAYLIGHT
TZOFFSETFROM:-0500
TZOFFSETTO:-0400
TZNAME:EDT
DTSTART:20260308T070000
END:DAYLIGHT
BEGIN:STANDARD
TZOFFSETFROM:-0400
TZOFFSETTO:-0500
TZNAME:EST
DTSTART:20261101T060000
END:STANDARD
END:VTIMEZONE
BEGIN:VEVENT
DTSTART;TZID=America/New_York:20251210T123000
DTEND;TZID=America/New_York:20251210T133000
DTSTAMP:20260419T194855
CREATED:20251118T233724Z
LAST-MODIFIED:20251118T233724Z
UID:10007014-1765369800-1765373400@772foryou.org
SUMMARY:Eye Contact Means Love
DESCRIPTION:Eye contact is considerably more important to us throughout our lives than we may imagine. Even as infants\, it is key to the process of establishing emotional bonds with family. This video explores the development that is supported and the bonding that is encouraged through the intentional use of up-close eye contact. Topics include: • eye contact • communication • emotional needs • love • disapproval • failure-to-thrive syndrome • learning • newborn • visual development • brain coupling • developmental disability • social skills • bonding • connection
URL:https://772foryou.org/classes/eye-contact-means-love/
ATTACH;FMTTYPE=image/jpeg:https://772foryou.org/wp-content/uploads/2024/07/Eye-Contact-Means-Love.jpg
END:VEVENT
BEGIN:VEVENT
DTSTART;TZID=America/New_York:20251210T103000
DTEND;TZID=America/New_York:20251210T113000
DTSTAMP:20260419T194855
CREATED:20251118T233503Z
LAST-MODIFIED:20251118T233503Z
UID:10007013-1765362600-1765366200@772foryou.org
SUMMARY:Contacto Visual Significa Amor
DESCRIPTION:El contacto visual es mucho más importante para nosotros a lo largo de nuestra vida de lo que podemos imaginar. Incluso cuando somos bebés\, es clave en el proceso de establecer vínculos emocionales con la familia. Este video explora el desarrollo que se favorece y el vínculo que se fomenta mediante el uso intencionado del contacto visual cercano.
URL:https://772foryou.org/classes/contacto-visual-significa-amor-5/
ATTACH;FMTTYPE=image/jpeg:https://772foryou.org/wp-content/uploads/2024/07/Contacto-Visual-El-Lenguaje-del-Amor.jpg
END:VEVENT
BEGIN:VEVENT
DTSTART;TZID=America/New_York:20251209T173000
DTEND;TZID=America/New_York:20251209T190000
DTSTAMP:20260419T194855
CREATED:20251118T231716Z
LAST-MODIFIED:20251118T231716Z
UID:10007012-1765301400-1765306800@772foryou.org
SUMMARY:Healthy Start-Labor Signs & Is It Time?
DESCRIPTION:Let’s discuss signs of labor and birthing your baby! Planning and preparation for the big day will alleviate anxiety and contribute to a a more positive birth experience. We will highlight the important role of a support person\, practice breathing and more
URL:https://772foryou.org/classes/healthy-start-labor-signs-is-it-time/
ATTACH;FMTTYPE=image/jpeg:https://772foryou.org/wp-content/uploads/2024/06/Healthy-Start-Labor-Signs-Is-It-Time.jpg
END:VEVENT
BEGIN:VEVENT
DTSTART;TZID=America/New_York:20251209T143000
DTEND;TZID=America/New_York:20251209T143000
DTSTAMP:20260419T194855
CREATED:20251118T231537Z
LAST-MODIFIED:20251118T231537Z
UID:10007011-1765290600-1765290600@772foryou.org
SUMMARY:Tantrums
DESCRIPTION:Nothing says membership to the Mommy Club more than watching another mom struggle through a tantrum with her toddler. Every parent will eventually experience meltdowns in their children as they move through toddlerhood. What really causes tantrums? What can you do to help your child through this stage? How do you stop them\, or better yet\, can you prevent them altogether? And is this a normal phase of life or just bad behavior? This video will answer these questions\, as well as give parents tips on how to cope when the going gets tough. Topics include: • toddler • meltdowns • bad behavior • feeling overwhelmed • strong-willed children • crying • screaming.
URL:https://772foryou.org/classes/tantrums-3/
END:VEVENT
BEGIN:VEVENT
DTSTART;TZID=America/New_York:20251209T113000
DTEND;TZID=America/New_York:20251209T123000
DTSTAMP:20260419T194855
CREATED:20251118T231247Z
LAST-MODIFIED:20251118T231247Z
UID:10007010-1765279800-1765283400@772foryou.org
SUMMARY:Berrinches
DESCRIPTION:Nada indica más que tienes la membresía al Club de Mamás que ver a otra madre luchar con una rabieta con su niño pequeño. Todos los padres experimentarán crisis en sus hijos eventualmente a medida que avanzan en la niñez. ¿Qué causa realmente las rabietas? ¿Qué puede hacer para ayudar a su hijo en esta etapa? ¿Cómo los detiene\, o mejor aún\, puede prevenirlos por completo? ¿Y es esta una fase normal de la vida o simplemente un mal comportamiento? Este video responderá estas preguntas y les dará a los padres algunos consejos sobre cómo hacer frente cuando las cosas se pongan difíciles.
URL:https://772foryou.org/classes/berrinches-3/
ATTACH;FMTTYPE=image/jpeg:https://772foryou.org/wp-content/uploads/2022/09/Tantrums.jpeg
END:VEVENT
BEGIN:VEVENT
DTSTART;TZID=America/New_York:20251209T100000
DTEND;TZID=America/New_York:20251209T110000
DTSTAMP:20260419T194855
CREATED:20251118T230330Z
LAST-MODIFIED:20251118T230330Z
UID:10007006-1765274400-1765278000@772foryou.org
SUMMARY:First Time Moms (Pregnant)
DESCRIPTION:Led by Denice\, this support group combines the best of the two worlds of education and emotional wellness. Participants will be journaling on prompts together\, working through a pregnancy milestone log book and learning together as a first time moms. This is a support group with an educational emphasis on self-care.  All supplies will be provided. \nSpace is limited.
URL:https://772foryou.org/classes/first-time-moms-pregnant/
ATTACH;FMTTYPE=image/png:https://772foryou.org/wp-content/uploads/2022/08/Ultrasound-Copy-5.png
END:VEVENT
BEGIN:VEVENT
DTSTART;TZID=America/New_York:20251208T150000
DTEND;TZID=America/New_York:20251208T160000
DTSTAMP:20260419T194855
CREATED:20251118T230052Z
LAST-MODIFIED:20251118T230052Z
UID:10007005-1765206000-1765209600@772foryou.org
SUMMARY:Second Trimester Expectations
DESCRIPTION:Pregnancy is a unique nine-month experience. Second-Trimester Expectations continues with the stories of Mariah and Tyler\, Laila and Joseph\, and Mikayla and Kyle as they experience their pregnancies in their own unique life situations. You are invited to be a part of their stories as you journey with them and gain new insight about pregnancy from these real-life perspectives. Topics Include: Mariah • Tyler • Laila • Joseph • Mikayla • Kyle • worries • symptoms • medical concerns • moods • worries.
URL:https://772foryou.org/classes/second-trimester-expectations/
ATTACH;FMTTYPE=image/jpeg:https://772foryou.org/wp-content/uploads/2024/06/Second-Trimester-Expectations.jpg
END:VEVENT
BEGIN:VEVENT
DTSTART;TZID=America/New_York:20251208T133000
DTEND;TZID=America/New_York:20251208T143000
DTSTAMP:20260419T194855
CREATED:20251118T225822Z
LAST-MODIFIED:20251118T225822Z
UID:10007004-1765200600-1765204200@772foryou.org
SUMMARY:Expectativas del Segundo Trimestre
DESCRIPTION:El embarazo es una experiencia única de nueve meses. Las Expectativas del Segundo trimestre continúan con las historias de Mariah y Tyler\, Laila y Joseph\, y Mikayla y Kyle mientras experimentan sus embarazos en sus propias situaciones de vida únicas. Estás invitada a ser parte de sus historias mientras viajas con ellos y obtienes una idea del embarazo desde estas perspectivas de la vida real.
URL:https://772foryou.org/classes/expectativas-del-segundo-trimestre/
ATTACH;FMTTYPE=image/jpeg:https://772foryou.org/wp-content/uploads/2022/11/second-trimester.jpg
END:VEVENT
BEGIN:VEVENT
DTSTART;TZID=America/New_York:20251208T110000
DTEND;TZID=America/New_York:20251208T120000
DTSTAMP:20260419T194855
CREATED:20251118T224722Z
LAST-MODIFIED:20251118T224722Z
UID:10007003-1765191600-1765195200@772foryou.org
SUMMARY:Moonshot Families - Play Group
DESCRIPTION:Join the moonshot families team for a read\, talk\, play\, sing and create engagement. Engage with your child through music and movement in a fun engaging environment. \nUnase al equipo de familias Moonshot para leer\, hablar\, jugar\, cantar y generar participación. Interactúe con su hijo a través de la música y el movimiento en un ambiente divertido y atractivo.
URL:https://772foryou.org/classes/moonshot-families-play-group-8/
ATTACH;FMTTYPE=image/png:https://772foryou.org/wp-content/uploads/2024/08/Moonshot-Families.png
END:VEVENT
BEGIN:VEVENT
DTSTART;TZID=America/New_York:20251207T160000
DTEND;TZID=America/New_York:20251207T173000
DTSTAMP:20260419T194855
CREATED:20251117T194330Z
LAST-MODIFIED:20251117T194330Z
UID:10007002-1765123200-1765128600@772foryou.org
SUMMARY:DadUp (Sundays)
DESCRIPTION:DadUp: Empowering Fathers\, Strengthening Families \nDadUp is a powerful fatherhood initiative designed to help dads build\, rebuild\, and strengthen the connection with their children. This free weekly group offers essential information\, resources\, and services tailored to both expectant and new dads\, providing the tools to be a confident and involved father. \nEach week\, DadUp covers topics like child development\, parenting strategies\, and strengthening relationships\, while offering access to a network of community resources. No two sessions are the same\, ensuring fresh insights and discussions each time. \nDon’t miss this opportunity to improve your family’s future — DadUp and watch the benefits grow! \nIf you have any questions\, please call or text Joe at (772) 257-5390.
URL:https://772foryou.org/classes/dadup-sundays-4/
ATTACH;FMTTYPE=image/png:https://772foryou.org/wp-content/uploads/2024/09/Dad-Up-on-Sundays.png
END:VEVENT
BEGIN:VEVENT
DTSTART;TZID=America/New_York:20251206T093000
DTEND;TZID=America/New_York:20251206T110000
DTSTAMP:20260419T194855
CREATED:20251117T193706Z
LAST-MODIFIED:20251117T193706Z
UID:10007001-1765013400-1765018800@772foryou.org
SUMMARY:DadUp (Saturday)
DESCRIPTION:DadUp: Empowering Fathers\, Strengthening Families \nDadUp is a powerful fatherhood initiative designed to help dads build\, rebuild\, and strengthen the connection with their children. This free weekly group offers essential information\, resources\, and services tailored to both expectant and new dads\, providing the tools to be a confident and involved father. \nEach week\, DadUp covers topics like child development\, parenting strategies\, and strengthening relationships\, while offering access to a network of community resources. No two sessions are the same\, ensuring fresh insights and discussions each time. \nDon’t miss this opportunity to improve your family’s future — DadUp and watch the benefits grow! \nIf you have any questions\, please call or text Joe at (772) 257-5390.
URL:https://772foryou.org/classes/dadup-saturday-4/
ATTACH;FMTTYPE=image/png:https://772foryou.org/wp-content/uploads/2024/09/Dad-Up-Saturdays.png
END:VEVENT
BEGIN:VEVENT
DTSTART;TZID=America/New_York:20251205T140000
DTEND;TZID=America/New_York:20251205T150000
DTSTAMP:20260419T194855
CREATED:20251117T190950Z
LAST-MODIFIED:20251117T190950Z
UID:10007000-1764943200-1764946800@772foryou.org
SUMMARY:Caring For Yourself While You Care For Others
DESCRIPTION:Learn essential self-care techniques in ‘Caring for Yourself While You Care for Others.’ Explore the importance of setting emotional and relational boundaries\, and discover effective strategies for managing situations where boundaries are tested. From understanding self-care practices to cultivating balance and joy\, this lesson empowers you to prioritize your well-being without guilt while navigating the demands of caregiving. Topics include: • boundaries • perfection • caring • self-care • caregivers • imbalance • irritability • hopelessness • relationships
URL:https://772foryou.org/classes/caring-for-yourself-while-you-care-for-others/
END:VEVENT
BEGIN:VEVENT
DTSTART;TZID=America/New_York:20251204T160000
DTEND;TZID=America/New_York:20251204T170000
DTSTAMP:20260419T194855
CREATED:20251117T190357Z
LAST-MODIFIED:20251117T190357Z
UID:10006999-1764864000-1764867600@772foryou.org
SUMMARY:Higiene Infantil
DESCRIPTION:El cuidado de un bebé no requiere de una gran capacidad o de un título avanzado. El cuidado de un bebé sólo requiere de un padre dedicado dispuesto a responder a las necesidades del niño de manera apropiada. Este video proporciona técnicas convencionales de cuidado que ayudarán a los padres a cubrir las necesidades diarias de higiene de sus hijos.
URL:https://772foryou.org/classes/higiene-infantil-7/
ATTACH;FMTTYPE=image/jpeg:https://772foryou.org/wp-content/uploads/2022/09/teething-time.jpeg
END:VEVENT
BEGIN:VEVENT
DTSTART;TZID=America/New_York:20251204T143000
DTEND;TZID=America/New_York:20251204T153000
DTSTAMP:20260419T194855
CREATED:20251117T185505Z
LAST-MODIFIED:20251117T185505Z
UID:10006998-1764858600-1764862200@772foryou.org
SUMMARY:The Final Stretch
DESCRIPTION:On your mark\, get set\, GO! The end of your pregnancy feels like one hundred days packed into one long month that oddly doesn’t seem long enough to get everything done to bring your baby home. There is so much to do and keep track of before birth! In this video we talk about the things in your pregnancy that you need to keep a close eye on\, the things you need to prepare for\, and how to recognize the important signs of labor. Phew! Hang in there! You really are on the final stretch! Topics Include: 3rd-trimester •Monitoring fetal movement •kick count •Braxton Hicks •birth plan •home help •baby items •crib •bassinette •car seat •travel •diaper bag •mucus plug •effacement •dilation •rupturing membranes •leaking water •bleeding •decreased fetal movement •contractions •early labor •active labor •
URL:https://772foryou.org/classes/the-final-stretch-10/
ATTACH;FMTTYPE=image/jpeg:https://772foryou.org/wp-content/uploads/2024/07/The-Final-Stretch.jpg
END:VEVENT
BEGIN:VEVENT
DTSTART;TZID=America/New_York:20251204T110000
DTEND;TZID=America/New_York:20251204T120000
DTSTAMP:20260419T194855
CREATED:20251117T184851Z
LAST-MODIFIED:20251117T184851Z
UID:10006997-1764846000-1764849600@772foryou.org
SUMMARY:Temperamento Infantil
DESCRIPTION:Las necesidades básicas de la mayoría de los bebés son las mismas\, pero cada bebé tiene un temperamento único. Este video analiza los diferentes tipos de temperamento y le ayuda a comprender las diferencias naturales que se pueden apreciar en cada niño. Los temas incluyen: • temperamento • ambiente del hogar • emociones • lectura de señales del bebé • cólicos • desarrollo del cerebro.
URL:https://772foryou.org/classes/temperamento-infantil-5/
ATTACH;FMTTYPE=image/jpeg:https://772foryou.org/wp-content/uploads/2022/09/infant-temperament.jpg
END:VEVENT
BEGIN:VEVENT
DTSTART;TZID=America/New_York:20251203T140000
DTEND;TZID=America/New_York:20251203T150000
DTSTAMP:20260419T194855
CREATED:20251117T184606Z
LAST-MODIFIED:20251117T184606Z
UID:10006996-1764770400-1764774000@772foryou.org
SUMMARY:Crying
DESCRIPTION:We love our babies\, but we HATE their crying. Especially the inconsolable crying that you can’t fix! It’s hard to listen to\, and it makes us so EMOTIONAL! It evokes feelings from deep within! You may be wondering\, “Is this normal?” “Am I doing something wrong?” Or worse\, “Is there something wrong with my baby?” There may even be a niggling little voice inside wondering\, “Am I a bad parent?” This video answers all those questions and talks about ways you can soothe your baby and what to do if you can’t stop the crying!
URL:https://772foryou.org/classes/crying-4/
ATTACH;FMTTYPE=image/jpeg:https://772foryou.org/wp-content/uploads/2024/07/Crying.jpg
END:VEVENT
BEGIN:VEVENT
DTSTART;TZID=America/New_York:20251203T123000
DTEND;TZID=America/New_York:20251203T133000
DTSTAMP:20260419T194855
CREATED:20251117T184344Z
LAST-MODIFIED:20251117T184344Z
UID:10006995-1764765000-1764768600@772foryou.org
SUMMARY:Understanding Your Infant
DESCRIPTION:In this video\, we discuss how you can understand your baby’s needs and how they communicate\, their personality\, and how they learn and grow. We’ll also talk about how you can take great care of yourself and line up the support you need. Topics include: • newborn • baby’s needs • crying • baby’s personality • developmental milestones • cognitive milestones • social and emotional milestones • movement milestones • language milestones • moodiness • understand my baby • growing up • temperament.
URL:https://772foryou.org/classes/understanding-your-infant-6/
ATTACH;FMTTYPE=image/jpeg:https://772foryou.org/wp-content/uploads/2024/07/Understanding-Your-Infant.jpg
END:VEVENT
BEGIN:VEVENT
DTSTART;TZID=America/New_York:20251203T103000
DTEND;TZID=America/New_York:20251203T113000
DTSTAMP:20260419T194855
CREATED:20251117T183823Z
LAST-MODIFIED:20251117T183823Z
UID:10006994-1764757800-1764761400@772foryou.org
SUMMARY:Entender A Su Hijo
DESCRIPTION:Quizás una de las cosas que más miedo dan en la vida es traer a su recién nacido por primera vez a casa y darse cuenta de que: “¡NO SÉ LO QUE ESTOY HACIENDO REALMENTE!” Bueno\, no sea tan duro consigo mismo\, ¡porque la mayoría de los padres se siente así! Después de todo\, los bebés no pueden decirle en verdad lo que necesitan… ¿o sí? En este video hablaremos sobre entender las necesidades de su bebé y cómo se comunica\, su personalidad y cómo aprende y crece. También hablaremos sobre entender cómo puede cuidarse mucho a usted mismo y preparar la ayuda que necesita.
URL:https://772foryou.org/classes/entender-a-su-hijo-3/
ATTACH;FMTTYPE=image/jpeg:https://772foryou.org/wp-content/uploads/2024/07/Understanding-Your-Infant.jpg
END:VEVENT
BEGIN:VEVENT
DTSTART;TZID=America/New_York:20251202T173000
DTEND;TZID=America/New_York:20251202T190000
DTSTAMP:20260419T194855
CREATED:20251117T164624Z
LAST-MODIFIED:20251117T164624Z
UID:10006992-1764696600-1764702000@772foryou.org
SUMMARY:Healthy Start-Baby's Here! What's Normal & What's Not? Basics Of Infant CPR
DESCRIPTION:Practice and learn the basics of CPR. Then\, let’s talk about what’s normal for newborns and mamas in the immediate postpartum period. Know what to expect\, warnings signs\, infant cues and review basic infant  and self care. \nSpace is limited.
URL:https://772foryou.org/classes/healthy-start-babys-here-whats-normal-whats-not-basics-of-infant-cpr-27/
ATTACH;FMTTYPE=image/jpeg:https://772foryou.org/wp-content/uploads/2024/06/Healthy-Start-Babys-Here-Whats-Normal-Whats-Not-Basics-Of-Infant-CPR.jpg
END:VEVENT
BEGIN:VEVENT
DTSTART;TZID=America/New_York:20251202T143000
DTEND;TZID=America/New_York:20251202T153000
DTSTAMP:20260419T194855
CREATED:20251117T163637Z
LAST-MODIFIED:20251117T163637Z
UID:10006990-1764685800-1764689400@772foryou.org
SUMMARY:Your Body & Birth
DESCRIPTION:SENSITIVE MATERIAL Your body was designed to give birth. In lesson two\, you’ll learn how your anatomy works with hormones to move your baby from your uterus\, through the birth canal\, and into your arms. This happens in four stages\, called the stages of labor.
URL:https://772foryou.org/classes/your-body-birth-10/
ATTACH;FMTTYPE=image/jpeg:https://772foryou.org/wp-content/uploads/2024/08/Your-Body-Birth.jpg
END:VEVENT
BEGIN:VEVENT
DTSTART;TZID=America/New_York:20251202T113000
DTEND;TZID=America/New_York:20251202T123000
DTSTAMP:20260419T194855
CREATED:20251117T163341Z
LAST-MODIFIED:20251117T163341Z
UID:10006989-1764675000-1764678600@772foryou.org
SUMMARY:LAbor De Parto y Nacimiento: Preparativos
DESCRIPTION:En este video\, hablaremos de tres cosas importantes que debe saber a medida que se acerca al nacimiento de su bebé: \n\nCómo funciona el parto\, incluido por qué tiene dolor durante el trabajo de parto.\nLas cinco pistas que le indican que el parto está aquí.\nLas cuatro etapas del trabajo de parto y qué esperar en cada una.\n\n¡Puedes hacer esto y te ayudaremos! Y cuando todo haya terminado\, estarás muy orgullosa de lo que has logrado al dar a luz. Los temas incluyen: • Dolor • Parto • Signos del trabajo de parto • Aligeramiento • Tapón mucoso suelto• Ruptura de agua • Dolor lumbar y abdominal • Contracciones del trabajo de parto • Tiempo de contracciones • Trabajo de parto prematuro • Etapas del parto • Fase temprana o latente • coronamiento• Activa Fase • Fase de transición • Empujar y dar a luz • Expulsar la placenta • Período posparto • Braxton Hicks
URL:https://772foryou.org/classes/labor-de-parto-y-nacimiento-preparativos-2/
END:VEVENT
BEGIN:VEVENT
DTSTART;TZID=America/New_York:20251202T100000
DTEND;TZID=America/New_York:20251202T110000
DTSTAMP:20260419T194855
CREATED:20251117T163036Z
LAST-MODIFIED:20251117T163036Z
UID:10006988-1764669600-1764673200@772foryou.org
SUMMARY:First Time Moms (After Pregnancy)
DESCRIPTION:Led by Denice\, this support group combines the best of the two worlds of education and emotional wellness. Participants will be journaling on prompts together\, working through infants and toddlers milestones and learning together as a first time moms! \nSpace is limited.
URL:https://772foryou.org/classes/first-time-moms-after-pregnancy-43/
ATTACH;FMTTYPE=image/jpeg:https://772foryou.org/wp-content/uploads/2022/08/sling.jpeg
END:VEVENT
BEGIN:VEVENT
DTSTART;TZID=America/New_York:20251201T150000
DTEND;TZID=America/New_York:20251201T160000
DTSTAMP:20260419T194855
CREATED:20251117T162555Z
LAST-MODIFIED:20251117T162555Z
UID:10006987-1764601200-1764604800@772foryou.org
SUMMARY:Labor Expectations
DESCRIPTION:They did it! Couples Laila and Joseph\, Mikayla and Kyle\, and Mariah and Tyler each had their babies! I bet you can’t wait to see how it all turned out in this final video! Join these three couples as their pregnancies come to an end and experience labor and delivery with them as they have their babies. Topics include: • Mariah • Tyler • Laila • Joseph • Mikayla • Kyle • labor • contractions • pushing • epidural • pitocin.
URL:https://772foryou.org/classes/labor-expectations-7/
ATTACH;FMTTYPE=image/jpeg:https://772foryou.org/wp-content/uploads/2024/07/Labor-Expectations.jpg
END:VEVENT
BEGIN:VEVENT
DTSTART;TZID=America/New_York:20251201T133000
DTEND;TZID=America/New_York:20251201T143000
DTSTAMP:20260419T194855
CREATED:20251117T162303Z
LAST-MODIFIED:20251122T190425Z
UID:10006986-1764595800-1764599400@772foryou.org
SUMMARY:First Trimester Expectations
DESCRIPTION:Pregnancy is a nine-month unique experience. First Trimester Expectations introduces three couples as they figure out how their unplanned pregnancies fit into their lives. You are invited to journey with Mariah and Tyler\, Laila and Joseph\, and Mikayla and Kyle as they share their first trimester in their own words and experiences. Topics Include: Mariah •Tyler •Laila •Joseph •Mikayla •Kyle •Worries •Symptoms •medical concerns •moods •worries
URL:https://772foryou.org/classes/first-trimester-expectations-3/
ATTACH;FMTTYPE=image/jpeg:https://772foryou.org/wp-content/uploads/2022/09/1st-Trimester-1.jpg
END:VEVENT
BEGIN:VEVENT
DTSTART;TZID=America/New_York:20251201T110000
DTEND;TZID=America/New_York:20251201T120000
DTSTAMP:20260419T194855
CREATED:20251117T161925Z
LAST-MODIFIED:20251117T161925Z
UID:10006985-1764586800-1764590400@772foryou.org
SUMMARY:Expectativas Del Primer Trimestre
DESCRIPTION:El embarazo es una experiencia única de nueve meses. Expectativas del Primer Trimes-tre presenta a tres parejas mientras descu-bren cómo sus embarazos no planificados se ajustan a sus vidas. Estás invitado a viajar con Mariah y Tyler\, Laila y Joseph\, y Mikayla y Kyle mientras comparten su primer trimestre en sus propias palabras y experiencias.
URL:https://772foryou.org/classes/expectativas-del-primer-trimestre-2/
ATTACH;FMTTYPE=image/jpeg:https://772foryou.org/wp-content/uploads/2022/09/1st-Trimester-1.jpg
END:VEVENT
BEGIN:VEVENT
DTSTART;TZID=America/New_York:20251130T160000
DTEND;TZID=America/New_York:20251130T173000
DTSTAMP:20260419T194855
CREATED:20251106T234051Z
LAST-MODIFIED:20251106T234051Z
UID:10006984-1764518400-1764523800@772foryou.org
SUMMARY:DadUp (Sundays)
DESCRIPTION:DadUp: Empowering Fathers\, Strengthening Families \nDadUp is a powerful fatherhood initiative designed to help dads build\, rebuild\, and strengthen the connection with their children. This free weekly group offers essential information\, resources\, and services tailored to both expectant and new dads\, providing the tools to be a confident and involved father. \nEach week\, DadUp covers topics like child development\, parenting strategies\, and strengthening relationships\, while offering access to a network of community resources. No two sessions are the same\, ensuring fresh insights and discussions each time. \nDon’t miss this opportunity to improve your family’s future — DadUp and watch the benefits grow! \nIf you have any questions\, please call or text Joe at (772) 257-5390.
URL:https://772foryou.org/classes/dadup-sundays-3/
ATTACH;FMTTYPE=image/png:https://772foryou.org/wp-content/uploads/2024/09/Dad-Up-on-Sundays.png
END:VEVENT
BEGIN:VEVENT
DTSTART;TZID=America/New_York:20251129T093000
DTEND;TZID=America/New_York:20251129T110000
DTSTAMP:20260419T194855
CREATED:20251106T233741Z
LAST-MODIFIED:20251106T233741Z
UID:10006983-1764408600-1764414000@772foryou.org
SUMMARY:DadUp (Saturday)
DESCRIPTION:DadUp: Empowering Fathers\, Strengthening Families \nDadUp is a powerful fatherhood initiative designed to help dads build\, rebuild\, and strengthen the connection with their children. This free weekly group offers essential information\, resources\, and services tailored to both expectant and new dads\, providing the tools to be a confident and involved father. \nEach week\, DadUp covers topics like child development\, parenting strategies\, and strengthening relationships\, while offering access to a network of community resources. No two sessions are the same\, ensuring fresh insights and discussions each time. \nDon’t miss this opportunity to improve your family’s future — DadUp and watch the benefits grow! \nIf you have any questions\, please call or text Joe at (772) 257-5390.
URL:https://772foryou.org/classes/dadup-saturday-3/
ATTACH;FMTTYPE=image/png:https://772foryou.org/wp-content/uploads/2024/09/Dad-Up-Saturdays.png
END:VEVENT
BEGIN:VEVENT
DTSTART;TZID=America/New_York:20251126T140000
DTEND;TZID=America/New_York:20251126T150000
DTSTAMP:20260419T194855
CREATED:20251106T233548Z
LAST-MODIFIED:20251106T233548Z
UID:10006982-1764165600-1764169200@772foryou.org
SUMMARY:Teething Time
DESCRIPTION:Most babies will develop teeth between six and twelve months of age. Teeth are an important part of a child’s health and development. In this lesson\, you will learn the physical effects of teething. We will discuss teething and breastfeeding and the do’s and don’ts of soothing a child during this phase. Topics include: • teething • teething necklaces • teething bracelets • teething beads • teething rings • benzocaine • belladonna • breastfeeding • soothing teething pain • drooling • fussiness • fever • loss of appetite.
URL:https://772foryou.org/classes/teething-time-4/
ATTACH;FMTTYPE=image/jpeg:https://772foryou.org/wp-content/uploads/2022/09/teething-time.jpeg
END:VEVENT
BEGIN:VEVENT
DTSTART;TZID=America/New_York:20251126T123000
DTEND;TZID=America/New_York:20251126T133000
DTSTAMP:20260419T194855
CREATED:20251106T231743Z
LAST-MODIFIED:20251106T231743Z
UID:10006981-1764160200-1764163800@772foryou.org
SUMMARY:Understanding Baby's Cry-Part 2
DESCRIPTION:
URL:https://772foryou.org/classes/understanding-babys-cry-part-2/
END:VEVENT
BEGIN:VEVENT
DTSTART;TZID=America/New_York:20251126T103000
DTEND;TZID=America/New_York:20251126T113000
DTSTAMP:20260419T194855
CREATED:20251106T231111Z
LAST-MODIFIED:20251122T180756Z
UID:10006980-1764153000-1764156600@772foryou.org
SUMMARY:Entendiendo El Llanto Del Bebe-Parte 2
DESCRIPTION:
URL:https://772foryou.org/classes/entendiendo-el-llanto-del-bebe-parte-2/
END:VEVENT
END:VCALENDAR