BEGIN:VCALENDAR
VERSION:2.0
PRODID:-//A Caring Center For Women - ECPv6.15.20//NONSGML v1.0//EN
CALSCALE:GREGORIAN
METHOD:PUBLISH
X-WR-CALNAME:A Caring Center For Women
X-ORIGINAL-URL:https://772foryou.org
X-WR-CALDESC:Events for A Caring Center For Women
REFRESH-INTERVAL;VALUE=DURATION:PT1H
X-Robots-Tag:noindex
X-PUBLISHED-TTL:PT1H
BEGIN:VTIMEZONE
TZID:America/New_York
BEGIN:DAYLIGHT
TZOFFSETFROM:-0500
TZOFFSETTO:-0400
TZNAME:EDT
DTSTART:20240310T070000
END:DAYLIGHT
BEGIN:STANDARD
TZOFFSETFROM:-0400
TZOFFSETTO:-0500
TZNAME:EST
DTSTART:20241103T060000
END:STANDARD
BEGIN:DAYLIGHT
TZOFFSETFROM:-0500
TZOFFSETTO:-0400
TZNAME:EDT
DTSTART:20250309T070000
END:DAYLIGHT
BEGIN:STANDARD
TZOFFSETFROM:-0400
TZOFFSETTO:-0500
TZNAME:EST
DTSTART:20251102T060000
END:STANDARD
BEGIN:DAYLIGHT
TZOFFSETFROM:-0500
TZOFFSETTO:-0400
TZNAME:EDT
DTSTART:20260308T070000
END:DAYLIGHT
BEGIN:STANDARD
TZOFFSETFROM:-0400
TZOFFSETTO:-0500
TZNAME:EST
DTSTART:20261101T060000
END:STANDARD
BEGIN:DAYLIGHT
TZOFFSETFROM:-0500
TZOFFSETTO:-0400
TZNAME:EDT
DTSTART:20270314T070000
END:DAYLIGHT
BEGIN:STANDARD
TZOFFSETFROM:-0400
TZOFFSETTO:-0500
TZNAME:EST
DTSTART:20271107T060000
END:STANDARD
END:VTIMEZONE
BEGIN:VEVENT
DTSTART;TZID=America/New_York:20260108T170000
DTEND;TZID=America/New_York:20260108T180000
DTSTAMP:20260419T111203
CREATED:20251222T170325Z
LAST-MODIFIED:20251222T170325Z
UID:10007070-1767891600-1767895200@772foryou.org
SUMMARY:Toddler Milestones: 24-36 Months
DESCRIPTION:This video covers the milestones a child will be hitting between twenty-four and thirty-six months\, the abilities he will be acquiring as he moves toward independence\, and when to call your medical provider. Topics include: • milestones • 24–36 months • cognitive development • language development • speech development • social development • emotional development • physical development • character traits • tantrums • toddlers • big movement • fine movement • potty training.
URL:https://772foryou.org/classes/toddler-milestones-24-36-months/
ATTACH;FMTTYPE=image/png:https://772foryou.org/wp-content/uploads/2024/09/Hitos-De-Ninos-24-36-Meses.png
END:VEVENT
BEGIN:VEVENT
DTSTART;TZID=America/New_York:20260108T143000
DTEND;TZID=America/New_York:20260108T153000
DTSTAMP:20260419T111203
CREATED:20251222T170134Z
LAST-MODIFIED:20251222T170134Z
UID:10007069-1767882600-1767886200@772foryou.org
SUMMARY:Creando Lazos Con Tu Pequeno
DESCRIPTION:Criar niños felices y seguros de sí mismos es un trabajo muy duro! Y aunque los padres no siempre hacen todo bien\, lo fundamental es el vínculo que forjan con sus hijos. Comienza temprano en la infancia y crece a lo largo de la vida. ¿Pero cómo lo hace? En este video\, hablaremos sobre lo que significa vincularse con su hijo y por qué es crucial que todos los padres trabajen en ello. También le mostraremos cuatro formas sencillas de ayudar a desarrollar esta relación y algunas cosas divertidas que todos los padres pueden hacer para acercarse a su niño pequeño.
URL:https://772foryou.org/classes/creando-lazos-con-tu-pequeno-4/
ATTACH;FMTTYPE=image/jpeg:https://772foryou.org/wp-content/uploads/2024/08/Creando-Lazos-Con-Tu-Pequeno.jpg
END:VEVENT
BEGIN:VEVENT
DTSTART;TZID=America/New_York:20260108T110000
DTEND;TZID=America/New_York:20260108T120000
DTSTAMP:20260419T111203
CREATED:20251222T165850Z
LAST-MODIFIED:20251222T165850Z
UID:10007068-1767870000-1767873600@772foryou.org
SUMMARY:Hitos De Niños: 24-36 Meses
DESCRIPTION:Tu ocupado niño está aprendiendo rápidamente nuevas habilidades en las áreas de desarrollo cognitivo\, desarrollo del lenguaje y comunicación\, desarrollo social y emocional y desarrollo físico. Cada mes aporta nuevos y emocionantes avances en lo que puede hacer. Este vídeo cubre de los hitos que el niño alcanzará entre los 24 y los 36 meses\, las habilidades que irá adquiriendo a medida que avanza hacia la independencia y cuándo debes llamar a su médico.
URL:https://772foryou.org/classes/hitos-de-ninos-24-36-meses-4/
ATTACH;FMTTYPE=image/png:https://772foryou.org/wp-content/uploads/2024/09/Hitos-De-Ninos-24-36-Meses.png
END:VEVENT
BEGIN:VEVENT
DTSTART;TZID=America/New_York:20260107T140000
DTEND;TZID=America/New_York:20260107T150000
DTSTAMP:20260419T111203
CREATED:20251222T165641Z
LAST-MODIFIED:20251222T165641Z
UID:10007067-1767794400-1767798000@772foryou.org
SUMMARY:Potty Training
DESCRIPTION:This video shows the basics of potty training\, including how to know when to start potty training; preparation for the big day; the “how to’s” of potty training; rewards and encouragement; dealing with disappointment; tips for boys; tips for girls. Topics include: • potty training • toddler • developmental skills • potty chair • wet diaper • underwear • bathroom • toilet training.
URL:https://772foryou.org/classes/potty-training/
ATTACH;FMTTYPE=image/jpeg:https://772foryou.org/wp-content/uploads/2022/09/potty-training.jpeg
END:VEVENT
BEGIN:VEVENT
DTSTART;TZID=America/New_York:20260107T123000
DTEND;TZID=America/New_York:20260107T133000
DTSTAMP:20260419T111203
CREATED:20251222T165421Z
LAST-MODIFIED:20251222T165421Z
UID:10007066-1767789000-1767792600@772foryou.org
SUMMARY:Breastfeeding Your Baby: Getting Started
DESCRIPTION:Lesson one of our breastfeeding series provides the important information needed to prepare yourself for the wonderful world of breastfeeding. You’ll hear from medical experts and experienced moms on what to expect and why breastfeeding is a great choice for both mom and baby. The great news is that your body and your baby already know what to do! We will simply help you to understand how to get started and provides some great tips on the breastfeeding experience. Topics include: breastfeeding\, mother’s milk\, natural\, biological\, supplementing\, nursing\, immune system\, probiotics\, bonding\, nutrition
URL:https://772foryou.org/classes/breastfeeding-your-baby-getting-started-3/
ATTACH;FMTTYPE=image/png:https://772foryou.org/wp-content/uploads/2024/09/Breastfeeding-Your-Baby-Getting-Started.png
END:VEVENT
BEGIN:VEVENT
DTSTART;TZID=America/New_York:20260107T103000
DTEND;TZID=America/New_York:20260107T113000
DTSTAMP:20260419T111203
CREATED:20251222T163802Z
LAST-MODIFIED:20251222T163802Z
UID:10007065-1767781800-1767785400@772foryou.org
SUMMARY:Comenzando La Lactancia
DESCRIPTION:La primera lección de nuestra serie de lactancia materna proporciona la información importante necesaria para prepararse para el maravilloso mundo de la lactancia materna. Escuchará a expertos médicos y madres experimentadas sobre qué esperar y por qué la lactancia materna es una excelente opción tanto para la madre como para el bebé. ¡La buena noticia es que tu cuerpo y tu bebé ya saben qué hacer! Simplemente le ayudaremos a entender cómo comenzar y le proporcionaremos algunos consejos excelentes sobre la experiencia de la lactancia materna. Los temas incluyen: lactancia materna\, leche materna\, natural\, biológico\, suplementos\, lactancia\, sistema inmunológico\, probióticos\, vinculación\, nutrición
URL:https://772foryou.org/classes/comenzando-la-lactancia-3/
ATTACH;FMTTYPE=image/png:https://772foryou.org/wp-content/uploads/2024/09/Comenzando-La-Lactancia.png
END:VEVENT
BEGIN:VEVENT
DTSTART;TZID=America/New_York:20260106T173000
DTEND;TZID=America/New_York:20260106T190000
DTSTAMP:20260419T111203
CREATED:20251222T163452Z
LAST-MODIFIED:20251222T163452Z
UID:10007064-1767720600-1767726000@772foryou.org
SUMMARY:Healthy Start-Labor Signs & Is It Time?
DESCRIPTION:Let’s discuss signs of labor and birthing your baby! Planning and preparation for the big day will alleviate anxiety and contribute to a a more positive birth experience. We will highlight the important role of a support person\, practice breathing and more
URL:https://772foryou.org/classes/healthy-start-labor-signs-is-it-time-4/
ATTACH;FMTTYPE=image/jpeg:https://772foryou.org/wp-content/uploads/2024/06/Healthy-Start-Labor-Signs-Is-It-Time.jpg
END:VEVENT
BEGIN:VEVENT
DTSTART;TZID=America/New_York:20260106T143000
DTEND;TZID=America/New_York:20260106T153000
DTSTAMP:20260419T111203
CREATED:20251222T163319Z
LAST-MODIFIED:20251222T163319Z
UID:10007063-1767709800-1767713400@772foryou.org
SUMMARY:18-24 Months Milestones
DESCRIPTION:Your busy toddler is quickly learning new skills in the areas of cognitive development\, language and communication development\, social and emotional development\, and physical development. Every month brings exciting\, new advancements in what he can do. These videos cover the milestones your child will be hitting between eighteen and twenty-four months\, the abilities he will be acquiring as he moves toward independence\, and when to call your medical provider if problems occur. Topics include: • milestones • 18–24 months • cognitive development • language development • speech development • social development • emotional development • physical development • toddlers • thought process • language skills • vocabulary • big emotions • big movement • fine movement • toilet training.
URL:https://772foryou.org/classes/18-24-months-milestones/
ATTACH;FMTTYPE=image/jpeg:https://772foryou.org/wp-content/uploads/2022/11/toddler-milestones-18-24months.jpg
END:VEVENT
BEGIN:VEVENT
DTSTART;TZID=America/New_York:20260106T113000
DTEND;TZID=America/New_York:20260106T123000
DTSTAMP:20260419T111203
CREATED:20251222T163042Z
LAST-MODIFIED:20251222T163042Z
UID:10007062-1767699000-1767702600@772foryou.org
SUMMARY:Hitos De 18-24 Meses
DESCRIPTION:Tu pequeño y activo niño está aprendiendo rápidamente nuevas habilidades en las áreas de desarrollo cognitivo\, desarrollo del lenguaje y la comunicación\, desarrollo social y emocional\, y desarrollo físico. Cada mes trae avances emocionantes y nuevos en lo que puede hacer. Estos videos cubren los hitos que tu hijo alcanzará entre los dieciocho y veinticuatro meses\, las habilidades que irá adquiriendo a medida que avanza hacia la independencia\, y cuándo debes contactar a tu proveedor médico si surgen problemas. \nTemas incluidos:• hitos del desarrollo • 18–24 meses • desarrollo cognitivo • desarrollo del lenguaje • desarrollo del habla • desarrollo social • desarrollo emocional • desarrollo físico • niños pequeños • procesos de pensamiento • habilidades lingüísticas • vocabulario • emociones intensas • grandes movimientos • movimientos finos • entrenamiento para ir al baño
URL:https://772foryou.org/classes/hitos-de-18-24-meses-4/
ATTACH;FMTTYPE=image/jpeg:https://772foryou.org/wp-content/uploads/2022/11/toddler-milestones-18-24months.jpg
END:VEVENT
BEGIN:VEVENT
DTSTART;TZID=America/New_York:20260106T100000
DTEND;TZID=America/New_York:20260106T110000
DTSTAMP:20260419T111203
CREATED:20251222T162812Z
LAST-MODIFIED:20251222T162812Z
UID:10007061-1767693600-1767697200@772foryou.org
SUMMARY:First Time Moms (Pregnant)
DESCRIPTION:Led by Denice\, this support group combines the best of the two worlds of education and emotional wellness. Participants will be journaling on prompts together\, working through a pregnancy milestone log book and learning together as a first time moms. This is a support group with an educational emphasis on self-care.  All supplies will be provided. \nSpace is limited.
URL:https://772foryou.org/classes/first-time-moms-pregnant-3/
ATTACH;FMTTYPE=image/png:https://772foryou.org/wp-content/uploads/2022/08/Ultrasound-Copy-5.png
END:VEVENT
BEGIN:VEVENT
DTSTART;TZID=America/New_York:20260105T150000
DTEND;TZID=America/New_York:20260105T160000
DTSTAMP:20260419T111203
CREATED:20251218T225556Z
LAST-MODIFIED:20251218T225556Z
UID:10007060-1767625200-1767628800@772foryou.org
SUMMARY:Your First Trimester
DESCRIPTION:You’re pregnant\, and you’re wondering\, now what? There is a lot to know about pregnancy\, your changing body\, and your developing baby. So much happens in that first trimester! You will experience changes in your body\, your emotions\, and your lifestyle. Your baby also goes through a lot of growth\, developing into the little person you soon will see in less than nine months! This video takes a look at pregnancy in the first trimester and also talks about your baby’s journey in development.
URL:https://772foryou.org/classes/your-first-trimester/
ATTACH;FMTTYPE=image/jpeg:https://772foryou.org/wp-content/uploads/2022/09/1st-Trimester-1.jpg
END:VEVENT
BEGIN:VEVENT
DTSTART;TZID=America/New_York:20260105T133000
DTEND;TZID=America/New_York:20260105T143000
DTSTAMP:20260419T111203
CREATED:20251218T224855Z
LAST-MODIFIED:20251218T224855Z
UID:10007059-1767619800-1767623400@772foryou.org
SUMMARY:Emociones del Embarazo
DESCRIPTION:El embarazo puede ser un periodo confuso en lo que respecta a emociones. Un minutos estás feliz y encantada\, y al próximo puede que sientas tristeza o irritación. Y luego antes de que lo notes\, ¡tu humor ya está cambiando de nuevo! Antes de quedar embarazada\, tus emociones tendían a tener un nivel más estable. ¡Pero ahora\, ten cuidado! De vez en cuando\, puedes sentirte como un barco a la deriva en medio de una marea agitada. ¿Te estás volviendo loca? ¿Hay algo malo? No. Sólo estás embarazada. Este video abarca los factores psicológicos detrás de los cambios de humor y emociones en el embarazo\, y todos los demás factores que pueden incidir en los sentimientos y pensamientos de una mujer embarazada\, inclusive la depresión. Por último\, este video ofrece algunos consejos de supervivencia para que una mujer logre atravesar tales momentos difíciles.
URL:https://772foryou.org/classes/emociones-del-embarazo/
ATTACH;FMTTYPE=image/jpeg:https://772foryou.org/wp-content/uploads/2024/03/Emociones-del-Embarazo.jpg
END:VEVENT
BEGIN:VEVENT
DTSTART;TZID=America/New_York:20260105T110000
DTEND;TZID=America/New_York:20260105T120000
DTSTAMP:20260419T111203
CREATED:20251218T224424Z
LAST-MODIFIED:20251218T224424Z
UID:10007058-1767610800-1767614400@772foryou.org
SUMMARY:Su Primer Trimestre
DESCRIPTION:Ya estás embarazada y te preguntas\, ¿y ahora qué? Hay mucho por saber acerca del embarazo\, los cambios que se producen en el cuerpo y el bebé en crecimiento. ¡Pasan muchas cosas durante el primer trimestre! Sentirás cambios en el cuerpo\, en tus emociones y estilo de vida. ¡Tu bebé también empieza a crecer y se convertirá en el pequeño que tendrás en menos de nueve meses! Este video desarrolla el primer trimestre del embarazo y también habla sobre los cambios del bebé durante su desarrollo. 
URL:https://772foryou.org/classes/su-primer-trimestre/
ATTACH;FMTTYPE=image/jpeg:https://772foryou.org/wp-content/uploads/2022/09/1st-Trimester-1.jpg
END:VEVENT
BEGIN:VEVENT
DTSTART;TZID=America/New_York:20260104T160000
DTEND;TZID=America/New_York:20260104T173000
DTSTAMP:20260419T111203
CREATED:20251218T224123Z
LAST-MODIFIED:20260127T233616Z
UID:10007057-1767542400-1767547800@772foryou.org
SUMMARY:DadUp (Sundays)
DESCRIPTION:DadUp: Empowering Fathers\, Strengthening Families \nDadUp is a powerful fatherhood initiative designed to help dads build\, rebuild\, and strengthen the connection with their children. This free weekly group offers essential information\, resources\, and services tailored to both expectant and new dads\, providing the tools to be a confident and involved father. \nEach week\, DadUp covers topics like child development\, parenting strategies\, and strengthening relationships\, while offering access to a network of community resources. No two sessions are the same\, ensuring fresh insights and discussions each time. \nDon’t miss this opportunity to improve your family’s future — DadUp and watch the benefits grow! \nIf you have any questions\, please call or text Dave at (321) 366-0670.
URL:https://772foryou.org/classes/dadup-sundays-8/
ATTACH;FMTTYPE=image/png:https://772foryou.org/wp-content/uploads/2024/09/Dad-Up-on-Sundays.png
END:VEVENT
BEGIN:VEVENT
DTSTART;TZID=America/New_York:20260103T093000
DTEND;TZID=America/New_York:20260103T110000
DTSTAMP:20260419T111203
CREATED:20251124T211552Z
LAST-MODIFIED:20260127T233659Z
UID:10007039-1767432600-1767438000@772foryou.org
SUMMARY:DadUp (Saturday)
DESCRIPTION:DadUp: Empowering Fathers\, Strengthening Families \nDadUp is a powerful fatherhood initiative designed to help dads build\, rebuild\, and strengthen the connection with their children. This free weekly group offers essential information\, resources\, and services tailored to both expectant and new dads\, providing the tools to be a confident and involved father. \nEach week\, DadUp covers topics like child development\, parenting strategies\, and strengthening relationships\, while offering access to a network of community resources. No two sessions are the same\, ensuring fresh insights and discussions each time. \nDon’t miss this opportunity to improve your family’s future — DadUp and watch the benefits grow! \nIf you have any questions\, please call or text Dave at (321) 366-0670.
URL:https://772foryou.org/classes/dadup-saturday-8/
ATTACH;FMTTYPE=image/png:https://772foryou.org/wp-content/uploads/2024/09/Dad-Up-Saturdays.png
END:VEVENT
BEGIN:VEVENT
DTSTART;TZID=America/New_York:20260102T140000
DTEND;TZID=America/New_York:20260102T150000
DTSTAMP:20260419T111203
CREATED:20251218T223824Z
LAST-MODIFIED:20251223T171625Z
UID:10007056-1767362400-1767366000@772foryou.org
SUMMARY:Understanding Compassion\, Fatigue And Burnout
DESCRIPTION:Discover the nuances of Compassion Fatigue and Burnout in this course\, in Beyond Caring: Understanding Compassion Fatigue and Burnout we delve into their definitions\, historical context\, and onset. Learn the distinctions between these phenomena and explore their impact on caregivers\, parents facing challenges\, and individuals in helping professions or volunteer roles. Recognize the warning signs\, both physical and emotional\, and uncover red flags within your relationships to better navigate and address these issues. Topics include: • compassion fatigue • burnout • relationships •tired •exhausted •caregivers •parents • caring • limits •boundaries • drained • stress • self-care • emotions •stomachache
URL:https://772foryou.org/classes/understanding-compassion-fatigue-and-burnout/
ATTACH;FMTTYPE=image/webp:https://772foryou.org/wp-content/uploads/2025/12/Understanding-Compassion-Fatigue-And-Burnout.webp
END:VEVENT
BEGIN:VEVENT
DTSTART;TZID=America/New_York:20251231T090000
DTEND;TZID=America/New_York:20251231T170000
DTSTAMP:20260419T111203
CREATED:20251201T182638Z
LAST-MODIFIED:20251201T182638Z
UID:10007055-1767171600-1767200400@772foryou.org
SUMMARY:NO CLASSES TODAY
DESCRIPTION:
URL:https://772foryou.org/classes/no-classes-today-5/
ATTACH;FMTTYPE=image/webp:https://772foryou.org/wp-content/uploads/2025/03/No-Classes-Today.webp
END:VEVENT
BEGIN:VEVENT
DTSTART;TZID=America/New_York:20251230T173000
DTEND;TZID=America/New_York:20251230T190000
DTSTAMP:20260419T111203
CREATED:20251201T181159Z
LAST-MODIFIED:20251201T181159Z
UID:10007054-1767115800-1767121200@772foryou.org
SUMMARY:Healthy Start-El Parto\, Personal De Apoyo Y Nacimiento
DESCRIPTION:Desde tomar decisiones informadas durante el parto\, intervenciones y opciones para el manejo del dolor de parto\, hasta posiciones y práctica de respiración… ¡Esta clase la ayudará a prepararse! \nEl cupo es limitado.
URL:https://772foryou.org/classes/healthy-start-el-parto-personal-de-apoyo-y-nacimiento-5/
ATTACH;FMTTYPE=image/webp:https://772foryou.org/wp-content/uploads/2023/09/Healthy-Start-El-Parto-Personal-De-Apoyo-Y-Nacimiento.webp
END:VEVENT
BEGIN:VEVENT
DTSTART;TZID=America/New_York:20251230T143000
DTEND;TZID=America/New_York:20251230T153000
DTSTAMP:20260419T111203
CREATED:20251201T180758Z
LAST-MODIFIED:20251201T180758Z
UID:10007053-1767105000-1767108600@772foryou.org
SUMMARY:Pain & Natural Birth
DESCRIPTION:An unmedicated birth may not be for every mom\, or you might change your mind as labor progresses. Even if you plan for an all-natural birth\, some medical situations may come up that need to be addressed. This lesson will cover the various medical pain relief options—from taking the edge off to removing most of the pain\, and the various medical interventions and procedures you might encounter during labor.
URL:https://772foryou.org/classes/pain-natural-birth-2/
ATTACH;FMTTYPE=image/jpeg:https://772foryou.org/wp-content/uploads/2024/08/Pain-Natural-Birth.jpg
END:VEVENT
BEGIN:VEVENT
DTSTART;TZID=America/New_York:20251230T113000
DTEND;TZID=America/New_York:20251230T123000
DTSTAMP:20260419T111203
CREATED:20251126T201925Z
LAST-MODIFIED:20251126T201925Z
UID:10007052-1767094200-1767097800@772foryou.org
SUMMARY:Procedimientos
DESCRIPTION:Procedimientos \nEn este video\, hablamos sobre tus opciones médicas para aliviar el dolor\, las intervenciones a las que conducen y algunos de los procedimientos médicos que podrías enfrentar durante el parto. Te mostraremos cómo tomar grandes decisiones en este momento utilizando el método B.R.A.I.N. para que tengas la mejor experiencia de parto posible.
URL:https://772foryou.org/classes/procedimientos/
ATTACH;FMTTYPE=image/webp:https://772foryou.org/wp-content/uploads/2023/09/Labor-De-Parto-y-Nacimiento-Procedimientos.webp
END:VEVENT
BEGIN:VEVENT
DTSTART;TZID=America/New_York:20251230T100000
DTEND;TZID=America/New_York:20251230T110000
DTSTAMP:20260419T111203
CREATED:20251118T230730Z
LAST-MODIFIED:20251118T230730Z
UID:10007009-1767088800-1767092400@772foryou.org
SUMMARY:First Time Moms (After Pregnancy)
DESCRIPTION:Led by Denice\, this support group combines the best of the two worlds of education and emotional wellness. Participants will be journaling on prompts together\, working through infants and toddlers milestones and learning together as a first time moms! \nSpace is limited.
URL:https://772foryou.org/classes/first-time-moms-after-pregnancy-2/
ATTACH;FMTTYPE=image/jpeg:https://772foryou.org/wp-content/uploads/2022/08/sling.jpeg
END:VEVENT
BEGIN:VEVENT
DTSTART;TZID=America/New_York:20251229T150000
DTEND;TZID=America/New_York:20251229T160000
DTSTAMP:20260419T111203
CREATED:20251125T235211Z
LAST-MODIFIED:20251125T235211Z
UID:10007051-1767020400-1767024000@772foryou.org
SUMMARY:Prenatal Care
DESCRIPTION:You’re pregnant\, and you have a lot to consider\, including car seats\, the nursery\, baby clothes\, and what brand of diapers you want to use. But the most important consideration right now is how you can take the best care of yourself and your developing baby. Your first step is setting up your prenatal care. In this video\, we will discuss prenatal care\, what you should expect at your prenatal checkups\, and why they are so important to keeping you and your baby healthy. Topics include: health conditions • gestational diabetes • blood pressure • OB-GYN • midwife and folic acid.
URL:https://772foryou.org/classes/prenatal-care-6/
ATTACH;FMTTYPE=image/jpeg:https://772foryou.org/wp-content/uploads/2022/09/1st-Trimester-1.jpg
END:VEVENT
BEGIN:VEVENT
DTSTART;TZID=America/New_York:20251229T133000
DTEND;TZID=America/New_York:20251229T143000
DTSTAMP:20260419T111203
CREATED:20251125T235041Z
LAST-MODIFIED:20251125T235041Z
UID:10007050-1767015000-1767018600@772foryou.org
SUMMARY:Getting Ready: Nesting
DESCRIPTION:In this video\, we will look at what nesting is and why it happens. Does it lead to labor\, or is it just an old wives’ tale? Before you get out your broom and mop\, let’s examine some safe ways to get your nesting mojo on—and when that mojo goes too far. Topics include: third trimester • nesting • energy levels • cleaning • organizing • cautions • baby’s room • baby equipment • making meals ahead • contact list • packing a hospital bag • overnight bag • longer-term bag • car seat.
URL:https://772foryou.org/classes/getting-ready-nesting-4/
ATTACH;FMTTYPE=image/jpeg:https://772foryou.org/wp-content/uploads/2022/10/pregnancy-nesting-.jpg
END:VEVENT
BEGIN:VEVENT
DTSTART;TZID=America/New_York:20251229T110000
DTEND;TZID=America/New_York:20251229T120000
DTSTAMP:20260419T111203
CREATED:20251125T234832Z
LAST-MODIFIED:20251125T234832Z
UID:10007049-1767006000-1767009600@772foryou.org
SUMMARY:Cómo Preparar El Nido
DESCRIPTION:Como Preparar El Nido: ¿Preparar el nido es un instinto animal demostrado por la ciencia o es solo un gran momento eureka que sientes en el vientre? Durante el último mes o las últimas semanas del embarazo\, las mujeres suelen experimentar arrebatos de energía\, a veces a una velocidad frenética\, cuando se preparan para la llegada del nuevo bebé. En este video\, veremos lo que es preparar el nido y por qué sucede. ¿Realmente lleva al parto o es solo una vieja superstición? Antes de que vayas a buscar la escoba y la trapeadora\, veamos algunas maneras seguras de preparar el nido\, sin ir demasiado lejos.
URL:https://772foryou.org/classes/como-preparar-el-nido-3/
ATTACH;FMTTYPE=image/png:https://772foryou.org/wp-content/uploads/2024/09/Expectativa-Sobre-El-Parto-Como-Preparar-El-Nido.png
END:VEVENT
BEGIN:VEVENT
DTSTART;TZID=America/New_York:20251228T160000
DTEND;TZID=America/New_York:20251228T173000
DTSTAMP:20260419T111203
CREATED:20251124T211343Z
LAST-MODIFIED:20251217T155757Z
UID:10007038-1766937600-1766943000@772foryou.org
SUMMARY:DadUp (Sundays) - CANCELED TODAY
DESCRIPTION:DadUp: Empowering Fathers\, Strengthening Families \nDadUp is a powerful fatherhood initiative designed to help dads build\, rebuild\, and strengthen the connection with their children. This free weekly group offers essential information\, resources\, and services tailored to both expectant and new dads\, providing the tools to be a confident and involved father. \nEach week\, DadUp covers topics like child development\, parenting strategies\, and strengthening relationships\, while offering access to a network of community resources. No two sessions are the same\, ensuring fresh insights and discussions each time. \nDon’t miss this opportunity to improve your family’s future — DadUp and watch the benefits grow! \nIf you have any questions\, please call or text Joe at (772) 257-5390.
URL:https://772foryou.org/classes/dadup-sundays-7/
ATTACH;FMTTYPE=image/png:https://772foryou.org/wp-content/uploads/2024/09/Dad-Up-on-Sundays.png
END:VEVENT
BEGIN:VEVENT
DTSTART;TZID=America/New_York:20251227T093000
DTEND;TZID=America/New_York:20251227T110000
DTSTAMP:20260419T111203
CREATED:20251124T211236Z
LAST-MODIFIED:20251217T155710Z
UID:10007037-1766827800-1766833200@772foryou.org
SUMMARY:DadUp (Saturday) - CANCELED TODAY
DESCRIPTION:DadUp: Empowering Fathers\, Strengthening Families \nDadUp is a powerful fatherhood initiative designed to help dads build\, rebuild\, and strengthen the connection with their children. This free weekly group offers essential information\, resources\, and services tailored to both expectant and new dads\, providing the tools to be a confident and involved father. \nEach week\, DadUp covers topics like child development\, parenting strategies\, and strengthening relationships\, while offering access to a network of community resources. No two sessions are the same\, ensuring fresh insights and discussions each time. \nDon’t miss this opportunity to improve your family’s future — DadUp and watch the benefits grow! \nIf you have any questions\, please call or text Joe at (772) 257-5390.
URL:https://772foryou.org/classes/dadup-saturday-7/
ATTACH;FMTTYPE=image/png:https://772foryou.org/wp-content/uploads/2024/09/Dad-Up-Saturdays.png
END:VEVENT
BEGIN:VEVENT
DTSTART;VALUE=DATE:20251226
DTEND;VALUE=DATE:20251227
DTSTAMP:20260419T111203
CREATED:20251125T234557Z
LAST-MODIFIED:20251125T234557Z
UID:10007048-1766707200-1766793599@772foryou.org
SUMMARY:Closed Today
DESCRIPTION:
URL:https://772foryou.org/classes/closed-today/
ATTACH;FMTTYPE=image/webp:https://772foryou.org/wp-content/uploads/2025/03/No-Classes-Today.webp
END:VEVENT
BEGIN:VEVENT
DTSTART;TZID=America/New_York:20251225T090000
DTEND;TZID=America/New_York:20251225T190000
DTSTAMP:20260419T111203
CREATED:20251125T234222Z
LAST-MODIFIED:20251223T174640Z
UID:10007047-1766653200-1766689200@772foryou.org
SUMMARY:Closed For Christmas
DESCRIPTION:
URL:https://772foryou.org/classes/closed-for-christmas/
ATTACH;FMTTYPE=image/jpeg:https://772foryou.org/wp-content/uploads/2025/11/download.jpg
END:VEVENT
BEGIN:VEVENT
DTSTART;TZID=America/New_York:20251224T090000
DTEND;TZID=America/New_York:20251224T170000
DTSTAMP:20260419T111203
CREATED:20251125T233433Z
LAST-MODIFIED:20251125T233433Z
UID:10007046-1766566800-1766595600@772foryou.org
SUMMARY:NO CLASSES TODAY
DESCRIPTION:
URL:https://772foryou.org/classes/no-classes-today-4/
ATTACH;FMTTYPE=image/webp:https://772foryou.org/wp-content/uploads/2025/03/No-Classes-Today.webp
END:VEVENT
BEGIN:VEVENT
DTSTART;TZID=America/New_York:20251223T170000
DTEND;TZID=America/New_York:20251223T180000
DTSTAMP:20260419T111203
CREATED:20251124T214643Z
LAST-MODIFIED:20251223T174519Z
UID:10007045-1766509200-1766512800@772foryou.org
SUMMARY:Domestic Family Violence
DESCRIPTION:Family violence is about power and control. And\, the members of a household with the least power – the children – are often the ones most harmed\, even if they aren’t the direct target of the attack. This video program examines family violence and its impact on children. It defines\, explains\, and suggests prevention\, response\, and treatment approaches
URL:https://772foryou.org/classes/domestic-family-violence/
ATTACH;FMTTYPE=image/webp:https://772foryou.org/wp-content/uploads/2025/11/Domestic-Family-Violence.webp
END:VEVENT
END:VCALENDAR