BEGIN:VCALENDAR
VERSION:2.0
PRODID:-//A Caring Center For Women - ECPv6.15.20//NONSGML v1.0//EN
CALSCALE:GREGORIAN
METHOD:PUBLISH
X-ORIGINAL-URL:https://772foryou.org
X-WR-CALDESC:Events for A Caring Center For Women
REFRESH-INTERVAL;VALUE=DURATION:PT1H
X-Robots-Tag:noindex
X-PUBLISHED-TTL:PT1H
BEGIN:VTIMEZONE
TZID:America/New_York
BEGIN:DAYLIGHT
TZOFFSETFROM:-0500
TZOFFSETTO:-0400
TZNAME:EDT
DTSTART:20230312T070000
END:DAYLIGHT
BEGIN:STANDARD
TZOFFSETFROM:-0400
TZOFFSETTO:-0500
TZNAME:EST
DTSTART:20231105T060000
END:STANDARD
BEGIN:DAYLIGHT
TZOFFSETFROM:-0500
TZOFFSETTO:-0400
TZNAME:EDT
DTSTART:20240310T070000
END:DAYLIGHT
BEGIN:STANDARD
TZOFFSETFROM:-0400
TZOFFSETTO:-0500
TZNAME:EST
DTSTART:20241103T060000
END:STANDARD
BEGIN:DAYLIGHT
TZOFFSETFROM:-0500
TZOFFSETTO:-0400
TZNAME:EDT
DTSTART:20250309T070000
END:DAYLIGHT
BEGIN:STANDARD
TZOFFSETFROM:-0400
TZOFFSETTO:-0500
TZNAME:EST
DTSTART:20251102T060000
END:STANDARD
END:VTIMEZONE
BEGIN:VEVENT
DTSTART;TZID=America/New_York:20240423T170000
DTEND;TZID=America/New_York:20240423T183000
DTSTAMP:20260425T203916
CREATED:20240325T160931Z
LAST-MODIFIED:20240422T174114Z
UID:10005888-1713891600-1713897000@772foryou.org
SUMMARY:DadUp
DESCRIPTION:DadUp is a fatherhood initiative that empowers fathers/father figures to establish\, re-establish or strengthen the relationship between their children and themselves. In addition to weekly group and one on one sessions\, DadUp offers free information\, resources and other support  services to expectant and new dads. \nWeekly session group starts 5:00pm-5:30pm refreshments served; 5:30pm-6:30pm group session. \nRSVP REQUIRED – To speak with the fatherhood program director\, Shamus Gordon\, text or call at 772-282-8407.
URL:https://772foryou.org/classes/dadup-7/
ATTACH;FMTTYPE=image/jpeg:https://772foryou.org/wp-content/uploads/2022/12/child-development-15-18-months.jpg
END:VEVENT
BEGIN:VEVENT
DTSTART;TZID=America/New_York:20240423T173000
DTEND;TZID=America/New_York:20240423T183000
DTSTAMP:20260425T203916
CREATED:20240328T165358Z
LAST-MODIFIED:20240422T174030Z
UID:10005919-1713893400-1713897000@772foryou.org
SUMMARY:Pregnancy Loss Support Group
DESCRIPTION:The goal of this group is to provide a safe and supportive space for those who have experienced the loss of a pregnancy\, either through a miscarriage or stillbirth. Attendees are welcome to share their stories\, feelings\, and fears with other who have been through a similar experiences and in doing so\, can feel less alone and more understood as they move forward in their healing process. This group is led by client advocate\, Erin.
URL:https://772foryou.org/classes/pregnancy-loss-support-group-15/
ATTACH;FMTTYPE=image/jpeg:https://772foryou.org/wp-content/uploads/2024/04/pregnancy-loss-support.jpg
END:VEVENT
BEGIN:VEVENT
DTSTART;TZID=America/New_York:20240423T173000
DTEND;TZID=America/New_York:20240423T190000
DTSTAMP:20260425T203916
CREATED:20240328T190155Z
LAST-MODIFIED:20240422T174233Z
UID:10005918-1713893400-1713898800@772foryou.org
SUMMARY:Healthy Start-Baby’s Here! What’s Normal & What’s Not? Basics Of CPR
DESCRIPTION:Practice and learn the basics of CPR. Then\, let’s talk about what’s normal for newborns and mamas in the immediate postpartum period. Know what to expect\, warning signs\, infant cues and review basic infant and selfcare.
URL:https://772foryou.org/classes/healthy-start-babys-here-whats-normal-whats-not-basics-of-cpr/
ATTACH;FMTTYPE=image/jpeg:https://772foryou.org/wp-content/uploads/2022/08/infant-cpr-Common-Injuries-Article.jpeg
END:VEVENT
BEGIN:VEVENT
DTSTART;TZID=America/New_York:20240424T103000
DTEND;TZID=America/New_York:20240424T113000
DTSTAMP:20260425T203916
CREATED:20240328T190434Z
LAST-MODIFIED:20240422T174314Z
UID:10005920-1713954600-1713958200@772foryou.org
SUMMARY:Prepararse Para Una Cesárea
DESCRIPTION:Cuando quedó embarazada\, quizás no pensó mucho en el nacimiento. Después de todo\, se siente como si hubiera sido hace cientos de años. Pero ahora que se acerca al final\, le pueden haber dicho que tendrá una cesárea o tal vez solo le preocupa que su parto pueda pasar a ser una cesárea al final. Y quizás se pregunte: “¿Cómo será?” En este video\, hablaremos sobre qué puede hacer a fin de prepararse para una cesárea\, que hará que curarse y cuidar a su bebé sea más fácil. ¡También hablaremos sobre el procedimiento para ayudarla a entender qué pasará el gran día!
URL:https://772foryou.org/classes/prepararse-para-una-cesarea-2/
ATTACH;FMTTYPE=image/jpeg:https://772foryou.org/wp-content/uploads/2022/11/Cesarean.jpg
END:VEVENT
BEGIN:VEVENT
DTSTART;TZID=America/New_York:20240424T123000
DTEND;TZID=America/New_York:20240424T133000
DTSTAMP:20260425T203916
CREATED:20240328T190730Z
LAST-MODIFIED:20240422T180227Z
UID:10005921-1713961800-1713965400@772foryou.org
SUMMARY:Preparing For A C-Section
DESCRIPTION:When you were first pregnant\, you may not have thought too much about the birth. After all\, it felt like it was a hundred years away. But now as you near the end\, you may have been told that you’re having a c-section\, or maybe you’re just concerned that your delivery could turn into a c-section in the end. And you may be wondering\, “What will it be like?” In this video\, we talk about the things you can do to prepare for having a c-section that will make healing and caring for your baby easier. We’ll also talk about the procedure to help you understand what will happen on the big day!
URL:https://772foryou.org/classes/preparing-for-a-c-section-4/
ATTACH;FMTTYPE=image/jpeg:https://772foryou.org/wp-content/uploads/2022/11/Cesarean.jpg
END:VEVENT
BEGIN:VEVENT
DTSTART;TZID=America/New_York:20240424T140000
DTEND;TZID=America/New_York:20240424T150000
DTSTAMP:20260425T203916
CREATED:20240328T191152Z
LAST-MODIFIED:20240422T182321Z
UID:10005922-1713967200-1713970800@772foryou.org
SUMMARY:Words Matter-Magic Words
DESCRIPTION:Imagine children as delicate\, vibrant blossoms in the garden of life\, each one unique and filled with endless potential. Just like flowers\, they need the nourishment of positivity and validation to truly flourish. But it’s not just about showering them with empty praise; it’s about using the magic of the right words to unlock their incredible growth. Discover how to use ‘magic words’ that penetrate their hearts\, fostering growth. These skills not only enhance your bond but also deftly resolve conflicts\, turning words into tools of connection and understanding. Topics include: •magic words •words •anger •emotions •feelimgs •validation •validating response •listen •hearing •acknowledge •fanciful response •silly response •emotional language •respect •setting boundaries •nonetheless
URL:https://772foryou.org/classes/words-matter-magic-words-2/
ATTACH;FMTTYPE=image/jpeg:https://772foryou.org/wp-content/uploads/2022/09/the-importance-of-words.jpeg
END:VEVENT
BEGIN:VEVENT
DTSTART;TZID=America/New_York:20240425T110000
DTEND;TZID=America/New_York:20240425T120000
DTSTAMP:20260425T203916
CREATED:20240328T191612Z
LAST-MODIFIED:20240422T180357Z
UID:10005923-1714042800-1714046400@772foryou.org
SUMMARY:Hermanos
DESCRIPTION:Crecen juntos\, viven la vida juntos y comparten a papá y mamá. A veces se pelean como perros y gatos\, o muestran una bondad y un sacrificio increíbles. Y a veces\, se pegan simplemente porque están aburridos. Son hermanos. Este video arroja luz sobre la relación única que tienen los hermanos mientras crecen juntos y elaboran las relaciones interpersonales\, la comunicación eficaz y el trabajo en equipo que les preparan para la edad adulta. Se dan consejos sobre como educar a los hijos para que establezcan vínculos fuertes y como gestionar la rivalidad entre hermanos.
URL:https://772foryou.org/classes/hermanos-2/
ATTACH;FMTTYPE=image/jpeg:https://772foryou.org/wp-content/uploads/2022/11/cultivating-kindness.jpg
END:VEVENT
BEGIN:VEVENT
DTSTART;TZID=America/New_York:20240425T130000
DTEND;TZID=America/New_York:20240425T143000
DTSTAMP:20260425T203916
CREATED:20240420T113651Z
LAST-MODIFIED:20240423T154953Z
UID:10005987-1714050000-1714055400@772foryou.org
SUMMARY:Healthy Start Moms Group-Village Of Support
DESCRIPTION:Free support group for expectant and current mothers every Thursday of the month from 1:00-2:00 pm. Takes place at A Caring Center For Women
URL:https://772foryou.org/classes/healthy-start-moms-group-village-of-support-30/
ATTACH;FMTTYPE=image/jpeg:https://772foryou.org/wp-content/uploads/2024/04/two-moms-with-daughters.jpeg
END:VEVENT
BEGIN:VEVENT
DTSTART;TZID=America/New_York:20240426T103000
DTEND;TZID=America/New_York:20240426T113000
DTSTAMP:20260425T203916
CREATED:20240328T192416Z
LAST-MODIFIED:20240422T181053Z
UID:10005925-1714127400-1714131000@772foryou.org
SUMMARY:Color Your Dreams-Stress Release Art For Moms W/ Katherine
DESCRIPTION:Create with Katherine as she leads a relaxing art-class for moms. All materials are provided and no experience is necessary. \n*This is your chance to enjoy a therapeutic class designed just for adults\, allowing you to focus fully on freeing yourself from stress.*
URL:https://772foryou.org/classes/color-your-dreams-stress-release-art-for-moms-w-katherine-14/
ATTACH;FMTTYPE=image/jpeg:https://772foryou.org/wp-content/uploads/2022/09/Color-your-dreams.jpeg
END:VEVENT
BEGIN:VEVENT
DTSTART;TZID=America/New_York:20240426T130000
DTEND;TZID=America/New_York:20240426T140000
DTSTAMP:20260425T203916
CREATED:20240328T193450Z
LAST-MODIFIED:20240422T181221Z
UID:10005926-1714136400-1714140000@772foryou.org
SUMMARY:First Time Moms (After Pregnancy)
DESCRIPTION:Led by Karina\, this support group combines the best of the two worlds of education and emotional wellness. Participants will be journaling on prompts together\, working through a pregnancy milestone log book and learning together as a first time moms. This is a support group with a educational emphasis on self care\, Karina will be making healthy snacks that are easy to make and tolerable for expectant moms! All supplies will be provided. \n***Please call the center at 772-257-5390 to RSVP\, limited seating***
URL:https://772foryou.org/classes/first-time-moms-after-pregnancy-18/
ATTACH;FMTTYPE=image/jpeg:https://772foryou.org/wp-content/uploads/2022/08/sling.jpeg
END:VEVENT
BEGIN:VEVENT
DTSTART;TZID=America/New_York:20240429T110000
DTEND;TZID=America/New_York:20240429T120000
DTSTAMP:20260425T203916
CREATED:20240328T194024Z
LAST-MODIFIED:20240422T181319Z
UID:10005927-1714388400-1714392000@772foryou.org
SUMMARY:Moonshot Families/ Familias de Moonshot
DESCRIPTION:Join the moonshot families team for a read\, talk\, play\, sing and create engagement. Engage with your child through music and movement in a fun engaging environment. \nÚnase al equipo de familias Moonshot para leer\, hablar\, jugar\, cantar y generar participación. Interactúe con su hijo a través de la música y el movimiento en un ambiente divertido y atractivo.
URL:https://772foryou.org/classes/moonshot-families-familias-de-moonshot/
ATTACH;FMTTYPE=image/jpeg:https://772foryou.org/wp-content/uploads/2022/08/Parenting-with-Respect.jpeg
END:VEVENT
BEGIN:VEVENT
DTSTART;TZID=America/New_York:20240429T150000
DTEND;TZID=America/New_York:20240429T160000
DTSTAMP:20260425T203916
CREATED:20240328T194451Z
LAST-MODIFIED:20240422T181446Z
UID:10005929-1714402800-1714406400@772foryou.org
SUMMARY:Preparing For A C-Section
DESCRIPTION:When you were first pregnant\, you might not have thought too much about the birth. After all\, it felt like it was a hundred years away. But now\, as you near the end\, you may have been told that you’re having a C-section\, or maybe you’re concerned that your delivery could turn into a C-section in the end. And you may be wondering\, What will it be like? In this video\, we talk about what you can do to prepare for a C-section that will make healing and caring for your baby easier. We’ll also talk about the procedure to help you understand what will happen on the big day! Topics include: • C-section • labor delivery • breech • surgery • anesthesia • birth plan • meals prepared ahead.
URL:https://772foryou.org/classes/preparing-for-a-c-section-5/
ATTACH;FMTTYPE=image/jpeg:https://772foryou.org/wp-content/uploads/2022/11/Cesarean.jpg
END:VEVENT
BEGIN:VEVENT
DTSTART;TZID=America/New_York:20240430T143000
DTEND;TZID=America/New_York:20240430T153000
DTSTAMP:20260425T203916
CREATED:20240328T224039Z
LAST-MODIFIED:20240422T181605Z
UID:10005931-1714487400-1714491000@772foryou.org
SUMMARY:Temperamento Infantil
DESCRIPTION:Las necesidades básicas de la mayoría de los bebés son las mismas\, pero cada bebé tiene un temperamento único. Este video analiza los diferentes tipos de temperamento y le ayuda a comprender las diferencias naturales que se pueden apreciar en cada niño. Los temas incluyen: • temperamento • ambiente del hogar • emociones • lectura de señales del bebé • cólicos • desarrollo del cerebro.
URL:https://772foryou.org/classes/temperamento-infantil/
ATTACH;FMTTYPE=image/jpeg:https://772foryou.org/wp-content/uploads/2022/09/infant-temperament.jpg
END:VEVENT
BEGIN:VEVENT
DTSTART;TZID=America/New_York:20240430T173000
DTEND;TZID=America/New_York:20240430T183000
DTSTAMP:20260425T203916
CREATED:20240328T224226Z
LAST-MODIFIED:20240422T181709Z
UID:10005932-1714498200-1714501800@772foryou.org
SUMMARY:Infant Temperament
DESCRIPTION:The basic needs of most babies are the same\, but each baby has a unique temperament. This video looks at the different types of temperament and helps you understand the natural differences that can be cherished in each child. Topics include: • temperament • home environment • emotions • reading baby signals • colic • brain development.
URL:https://772foryou.org/classes/infant-temperament-4/
ATTACH;FMTTYPE=image/jpeg:https://772foryou.org/wp-content/uploads/2022/09/infant-temperament.jpg
END:VEVENT
BEGIN:VEVENT
DTSTART;TZID=America/New_York:20240501T103000
DTEND;TZID=America/New_York:20240501T113000
DTSTAMP:20260425T203916
CREATED:20240410T151404Z
LAST-MODIFIED:20240422T181817Z
UID:10005935-1714559400-1714563000@772foryou.org
SUMMARY:Clase Cancelada-Higiene Infantil
DESCRIPTION:Disculpen la molestia\, pero la clase ha sido cancelada. Gracias por su entendimiento.
URL:https://772foryou.org/classes/higiene-infantil-3/
END:VEVENT
BEGIN:VEVENT
DTSTART;TZID=America/New_York:20240501T123000
DTEND;TZID=America/New_York:20240501T133000
DTSTAMP:20260425T203916
CREATED:20240410T151830Z
LAST-MODIFIED:20240422T181906Z
UID:10005936-1714566600-1714570200@772foryou.org
SUMMARY:Infant Hygiene
DESCRIPTION:Caring for an infant does not require vast amounts of training or an advanced degree. Caring for an infant simply requires a dedicated parent willing to respond to a child’s needs in appropriate ways. This video provides standard techniques of care that will help parents to provide for their infant’s day-to-day hygiene needs
URL:https://772foryou.org/classes/infant-hygiene-5/
ATTACH;FMTTYPE=image/jpeg:https://772foryou.org/wp-content/uploads/2022/09/teething-time.jpeg
END:VEVENT
BEGIN:VEVENT
DTSTART;TZID=America/New_York:20240501T140000
DTEND;TZID=America/New_York:20240501T150000
DTSTAMP:20260425T203916
CREATED:20240410T155556Z
LAST-MODIFIED:20240423T161233Z
UID:10005937-1714572000-1714575600@772foryou.org
SUMMARY:Infant Accidents
DESCRIPTION:In this video\, we discuss how to prevent and plan for childhood accidents\, as well as look at the most common accidents infants can have. We also talk about what to do if your baby gets hurt. Topics include: • infants • accidents • falls • scrapes • cuts and abrasions • bruises • bug bites • stings • prevention • head injuries • drowning • burns/scalds • choking and suffocation • poisoning.
URL:https://772foryou.org/classes/infant-accidents-5/
ATTACH;FMTTYPE=image/jpeg:https://772foryou.org/wp-content/uploads/2022/12/toddler-safety.jpg
END:VEVENT
BEGIN:VEVENT
DTSTART;TZID=America/New_York:20240502T100000
DTEND;TZID=America/New_York:20240502T120000
DTSTAMP:20260425T203916
CREATED:20240410T183020Z
LAST-MODIFIED:20240422T183822Z
UID:10005938-1714644000-1714651200@772foryou.org
SUMMARY:Sewing Class/ Clase de Costura
DESCRIPTION:Call the center to save your spot as this is a popular workshop and there are 6 sewing stations available. Come and enjoy two hours of learning how to sew and have fun. Materials will be provided. \nCome and enjoy a different day. Limited spots\, call the center at 772-257-5390 and reserve yours. \nVenga y disfrute de dos horas de aprendizaje de costura y pasar un buen rato agradable. Proveeremos los materiales. \nVenga y tenga un dia diferente. Cupo limitado\, llame al 772-257-5390 para reservar el suyo.
URL:https://772foryou.org/classes/sewing-class-clase-de-costura-26/
ATTACH;FMTTYPE=image/jpeg:https://772foryou.org/wp-content/uploads/2022/09/Sewing-Class.jpg
END:VEVENT
BEGIN:VEVENT
DTSTART;TZID=America/New_York:20240502T130000
DTEND;TZID=America/New_York:20240502T143000
DTSTAMP:20260425T203916
CREATED:20240410T183428Z
LAST-MODIFIED:20240422T183911Z
UID:10005939-1714654800-1714660200@772foryou.org
SUMMARY:Healthy Start Moms Group-Village Of Support
DESCRIPTION:Free support group for expectant and current mothers every Thursday of the month from 1:00-2:00 pm. Takes place at A Caring Center For Women
URL:https://772foryou.org/classes/healthy-start-moms-group-village-of-support-28/
ATTACH;FMTTYPE=image/jpeg:https://772foryou.org/wp-content/uploads/2024/04/two-moms-with-daughters.jpeg
END:VEVENT
BEGIN:VEVENT
DTSTART;TZID=America/New_York:20240502T160000
DTEND;TZID=America/New_York:20240502T170000
DTSTAMP:20260425T203916
CREATED:20240410T185652Z
LAST-MODIFIED:20240422T184107Z
UID:10005940-1714665600-1714669200@772foryou.org
SUMMARY:Entrenandolo Para Usar El Baño
DESCRIPTION:Tu pequeño está creciendo y aprendiendo tantas cosas nuevas. Quizá pudieras pensar que cada vez que parpadeas\, el cambia! Con tantos cambios tan repentinos\, el momento de empezar a entrenarle para que use el baño llegará sin que te des cuenta – y a la vez para algunos padres quizá les parezca que ese momento no llega lo suficientemente rápido! Este DVD repasa los puntos básicos de cómo entrenar a tu pequeño para que use el baño\, incluyendo puntos como: • Cómo saber cuando es tiempo de empezar el entrenamiento para usar el baño • Preparándonos para ese gran día • Los “Puntos Básicos” de cómo entrenarle para que use el baño • Recompensas y estímulos • Enfrentando las decepciones • Consejos para Niños\, Consejos para Niñas La información contenida en este DVD es simple y de fácil acceso.
URL:https://772foryou.org/classes/entrenandolo-para-usar-el-bano/
ATTACH;FMTTYPE=image/jpeg:https://772foryou.org/wp-content/uploads/2022/09/potty-training.jpeg
END:VEVENT
BEGIN:VEVENT
DTSTART;TZID=America/New_York:20240503T103000
DTEND;TZID=America/New_York:20240503T113000
DTSTAMP:20260425T203916
CREATED:20240410T190155Z
LAST-MODIFIED:20240422T185116Z
UID:10005941-1714732200-1714735800@772foryou.org
SUMMARY:Mommy & Me  Workout
DESCRIPTION:Join us for a small group 40 minutes full body workout session where you can bring your mini me and connect with other mom’s. No equipment is needed! Just bring a water bottle and your good vibes! Modification will be provided for each exercise to accommodate every mom.
URL:https://772foryou.org/classes/mommy-me-workout-3/
ATTACH;FMTTYPE=image/jpeg:https://772foryou.org/wp-content/uploads/2022/09/Mommy-me.jpg
END:VEVENT
BEGIN:VEVENT
DTSTART;TZID=America/New_York:20240503T130000
DTEND;TZID=America/New_York:20240503T140000
DTSTAMP:20260425T203916
CREATED:20240411T181105Z
LAST-MODIFIED:20240422T185423Z
UID:10005942-1714741200-1714744800@772foryou.org
SUMMARY:First Time Moms(Pregnant)
DESCRIPTION:Led by Karina\, this support group combines the best of both worlds of education and emotional wellness.\nParticipants will be journaling on prompts together\, working through a pregnancy milestone log book and ;earning together as a first time moms. This is a support group with an educational emphasis on selfcare\, KArina will be making healthy snacks that are easy to make and tolerable for expectant moms! All supplies will be provided. \n***Please call the center at 772-257-5390 to RSVP\, limited seating.***
URL:https://772foryou.org/classes/first-time-momspregnant/
ATTACH;FMTTYPE=image/png:https://772foryou.org/wp-content/uploads/2022/08/Ultrasound-Copy-5.png
END:VEVENT
BEGIN:VEVENT
DTSTART;TZID=America/New_York:20240506T113000
DTEND;TZID=America/New_York:20240506T123000
DTSTAMP:20260425T203916
CREATED:20240411T181353Z
LAST-MODIFIED:20240502T215111Z
UID:10005943-1714995000-1714998600@772foryou.org
SUMMARY:Su Primer Trimestre
DESCRIPTION:Ya estás embarazada y te preguntas\, ¿y ahora qué? Hay mucho por saber acerca del embarazo\, los cambios que se producen en el cuerpo y el bebé en crecimiento. ¡Pasan muchas cosas durante el primer trimestre! Sentirás cambios en el cuerpo\, en tus emociones y estilo de vida. ¡Tu bebé también empieza a crecer y se convertirá en el pequeño que tendrás en menos de nueve meses! Este video desarrolla el primer trimestre del embarazo y también habla sobre los cambios del bebé durante su desarrollo.
URL:https://772foryou.org/classes/su-primer-trimestre-15/
ATTACH;FMTTYPE=image/jpeg:https://772foryou.org/wp-content/uploads/2022/09/1st-Trimester-1.jpg
END:VEVENT
BEGIN:VEVENT
DTSTART;TZID=America/New_York:20240506T133000
DTEND;TZID=America/New_York:20240506T143000
DTSTAMP:20260425T203916
CREATED:20240411T181641Z
LAST-MODIFIED:20240422T185546Z
UID:10005944-1715002200-1715005800@772foryou.org
SUMMARY:Your First Trimester
DESCRIPTION:You’re pregnant\, and you’re wondering\, now what? There is a lot to know about pregnancy\, your changing body\, and your developing baby. So much happens in that first trimester! You will experience changes in your body\, your emotions\, and your lifestyle. Your baby also goes through a lot of growth\, developing into the little person you soon will see in less than nine months! This video takes a look at pregnancy in the first trimester and also talks about your baby’s journey in development.
URL:https://772foryou.org/classes/your-first-trimester-15/
ATTACH;FMTTYPE=image/jpeg:https://772foryou.org/wp-content/uploads/2022/09/1st-Trimester-1.jpg
END:VEVENT
BEGIN:VEVENT
DTSTART;TZID=America/New_York:20240507T173000
DTEND;TZID=America/New_York:20240507T190000
DTSTAMP:20260425T203916
CREATED:20240430T223935Z
LAST-MODIFIED:20240430T224030Z
UID:10005994-1715103000-1715108400@772foryou.org
SUMMARY:Healthy Start-Labor Signs & Is It Time?
DESCRIPTION:Let’s discuss signs of labor and birthing your baby! Planning and preparation for the big day will alleviate anxiety and contribute to a a more positive birth experience. We will highlight the important role of a support person\, practice breathing and more
URL:https://772foryou.org/classes/healthy-start-labor-signs-is-it-time-7/
END:VEVENT
BEGIN:VEVENT
DTSTART;TZID=America/New_York:20240508T103000
DTEND;TZID=America/New_York:20240508T113000
DTSTAMP:20260425T203916
CREATED:20240411T190342Z
LAST-MODIFIED:20240422T190239Z
UID:10005949-1715164200-1715167800@772foryou.org
SUMMARY:Expectativas  Del Niño De 15-18 Meses
DESCRIPTION:Su ocupado niño pequeño está aprendiendo rápidamente nuevas habilidades en las áreas de desarrollo cognitivo\, desarrollo del lenguaje y la comunicación\, desarrollo social y emocional y desarrollo físico. Cada mes trae nuevos y emocionantes avances en lo que pueden hacer. Estos videos cubren los hitos que su hijo alcanzará entre los 15 y los 18 meses\, las habilidades que adquirirá a medida que avance hacia la independencia y cuándo llamar a su proveedor médico. Los temas incluyen: •Hitos •15-18 meses •Desarrollo cognitivo •Desarrollo del lenguaje •Desarrollo del habla •Desarrollo social •Desarrollo emocional •Desarrollo físico •Niño pequeño •Pensamiento crítico •Personalidad del niño pequeño •Habilidades de grandes movimientos •Movimientos finos •
URL:https://772foryou.org/classes/expectativas-del-nino-de-15-18-meses/
ATTACH;FMTTYPE=image/jpeg:https://772foryou.org/wp-content/uploads/2022/12/child-development-15-18-months.jpg
END:VEVENT
BEGIN:VEVENT
DTSTART;TZID=America/New_York:20240508T123000
DTEND;TZID=America/New_York:20240508T133000
DTSTAMP:20260425T203916
CREATED:20240411T190556Z
LAST-MODIFIED:20240422T190315Z
UID:10005950-1715171400-1715175000@772foryou.org
SUMMARY:Toddler Expectations: 15-18  Months
DESCRIPTION:Your busy toddler is quickly learning new skills in the areas of cognitive development\, language and communication development\, social and emotional development\, and physical development. Every month brings exciting new advances to what they can do. These videos cover the milestones your child will be hitting between 15-18 months\, the abilities they will be acquiring as they move toward independence\, and when to call your medical provider. Topics include: •Milestones •15-18 Months •Cognitive Development •Language Development •Speech Development •Social Development •Emotional Development •Physical Development •Toddler •Critical Thinking •Toddler’s Personality •Big Movement Skills •Fine Movements •
URL:https://772foryou.org/classes/toddler-expectations-15-18-months/
ATTACH;FMTTYPE=image/jpeg:https://772foryou.org/wp-content/uploads/2022/12/child-development-15-18-months.jpg
END:VEVENT
BEGIN:VEVENT
DTSTART;TZID=America/New_York:20240510T103000
DTEND;TZID=America/New_York:20240510T113000
DTSTAMP:20260425T203916
CREATED:20240411T194300Z
LAST-MODIFIED:20240423T161120Z
UID:10005952-1715337000-1715340600@772foryou.org
SUMMARY:Infant Accidents
DESCRIPTION:Bringing a new baby home is exciting. But keeping her safe can be stressful! As she grows\, she begins to kick and push with her legs\, grab at things\, roll over\, and crawl. These exciting milestones can cause you lots of worries about keeping your baby safe. In this video\, we discuss how to prevent and plan for childhood accidents\, as well as look at the most common accidents infants can have. We also talk about what to do if your baby gets hurt. Topics include: • infants • accidents • falls • scrapes • cuts and abrasions • bruises • bug bites • stings • prevention • head injuries • drowning • burns/scalds • choking and suffocation • poisoning.
URL:https://772foryou.org/classes/infant-accidents-6/
ATTACH;FMTTYPE=image/jpeg:https://772foryou.org/wp-content/uploads/2022/12/toddler-safety.jpg
END:VEVENT
BEGIN:VEVENT
DTSTART;TZID=America/New_York:20240510T130000
DTEND;TZID=America/New_York:20240510T140000
DTSTAMP:20260425T203916
CREATED:20240411T195816Z
LAST-MODIFIED:20240422T190451Z
UID:10005953-1715346000-1715349600@772foryou.org
SUMMARY:First Time Moms (After Pregnancy)
DESCRIPTION:Led by Karina\, this support group combines the best of the two worlds of education and emotional wellness. Participants will be journaling on prompts together\, working through  infants and toddlers milestone and learning together as a first time moms. \n***Please call the center at 772-257-5390 to RSVP\, limited seating***
URL:https://772foryou.org/classes/first-time-moms-after-pregnancy-19/
ATTACH;FMTTYPE=image/jpeg:https://772foryou.org/wp-content/uploads/2022/08/sling.jpeg
END:VEVENT
BEGIN:VEVENT
DTSTART;TZID=America/New_York:20240513T113000
DTEND;TZID=America/New_York:20240513T123000
DTSTAMP:20260425T203916
CREATED:20240411T201928Z
LAST-MODIFIED:20240502T215146Z
UID:10005954-1715599800-1715603400@772foryou.org
SUMMARY:Su Segundo Trimestre
DESCRIPTION:El primer trimestre quedó atrás y ahora seguramente ya te sientes mejor. Puede que las náuseas matutinas hayan disminuido y que ahora pienses que ya tienes todo bajo control. El bebé está creciendo rápidamente y es probable que ya tengas una incipiente pancita de embarazada. ¡El segundo trimestre suele ser el periodo más cómodo del embarazo! A pesar de que todavía no sientes ni ves mucho de lo que sucede en tu vientre\, hay bastantes procesos que se están llevando a cabo. En este video\, hablaremos sobre los cambios en tu cuerpo\, el camino del desarrollo del bebé y lo que sucederá en el segundo trimestre.
URL:https://772foryou.org/classes/su-segundo-trimestre-16/
ATTACH;FMTTYPE=image/jpeg:https://772foryou.org/wp-content/uploads/2022/11/second-trimester.jpg
END:VEVENT
END:VCALENDAR