BEGIN:VCALENDAR
VERSION:2.0
PRODID:-//A Caring Center For Women - ECPv6.15.20//NONSGML v1.0//EN
CALSCALE:GREGORIAN
METHOD:PUBLISH
X-ORIGINAL-URL:https://772foryou.org
X-WR-CALDESC:Events for A Caring Center For Women
REFRESH-INTERVAL;VALUE=DURATION:PT1H
X-Robots-Tag:noindex
X-PUBLISHED-TTL:PT1H
BEGIN:VTIMEZONE
TZID:America/New_York
BEGIN:DAYLIGHT
TZOFFSETFROM:-0500
TZOFFSETTO:-0400
TZNAME:EDT
DTSTART:20230312T070000
END:DAYLIGHT
BEGIN:STANDARD
TZOFFSETFROM:-0400
TZOFFSETTO:-0500
TZNAME:EST
DTSTART:20231105T060000
END:STANDARD
BEGIN:DAYLIGHT
TZOFFSETFROM:-0500
TZOFFSETTO:-0400
TZNAME:EDT
DTSTART:20240310T070000
END:DAYLIGHT
BEGIN:STANDARD
TZOFFSETFROM:-0400
TZOFFSETTO:-0500
TZNAME:EST
DTSTART:20241103T060000
END:STANDARD
BEGIN:DAYLIGHT
TZOFFSETFROM:-0500
TZOFFSETTO:-0400
TZNAME:EDT
DTSTART:20250309T070000
END:DAYLIGHT
BEGIN:STANDARD
TZOFFSETFROM:-0400
TZOFFSETTO:-0500
TZNAME:EST
DTSTART:20251102T060000
END:STANDARD
END:VTIMEZONE
BEGIN:VEVENT
DTSTART;TZID=America/New_York:20240314T110000
DTEND;TZID=America/New_York:20240314T120000
DTSTAMP:20260425T142045
CREATED:20240220T175842Z
LAST-MODIFIED:20240220T175842Z
UID:10005864-1710414000-1710417600@772foryou.org
SUMMARY:How To Set Healthy Boundaries-CILO
DESCRIPTION:
URL:https://772foryou.org/classes/how-to-set-healthy-boundaries-cilo-2/
END:VEVENT
BEGIN:VEVENT
DTSTART;TZID=America/New_York:20240314T160000
DTEND;TZID=America/New_York:20240314T170000
DTSTAMP:20260425T142045
CREATED:20240220T180202Z
LAST-MODIFIED:20240220T180202Z
UID:10005865-1710432000-1710435600@772foryou.org
SUMMARY:Dormir\, Hora De Acostarse Y Dormir
DESCRIPTION:Los coloca en la cama y vuelven a levantarse. Hambriento\, sediento\, solo\, sin estar cansado… ¿cómo los mantiene en la cama? Los niños pequeños no quieren perderse nada y\, a menudo\, las siestas y la hora de dormir se convierten en un conflicto de voluntades. Puede llevar a un niño pequeño a la cama\, pero ¿cómo hacer para que se quede allí? ¿Cuánto sueño necesitan y cuántas siestas deben tomar? ¿Cuál es un buen horario de sueño y cómo lo logra? Este video responde a estas preguntas y ofrece soluciones para algunos de los desafíos de sueño más comunes que tiene un niño pequeño para que todos tengan una noche de descanso placentera.
URL:https://772foryou.org/classes/dormir-hora-de-acostarse-y-dormir/
END:VEVENT
BEGIN:VEVENT
DTSTART;TZID=America/New_York:20240314T173000
DTEND;TZID=America/New_York:20240314T183000
DTSTAMP:20260425T142045
CREATED:20240220T180441Z
LAST-MODIFIED:20240220T180441Z
UID:10005866-1710437400-1710441000@772foryou.org
SUMMARY:Sleeping\, Bedtime & Mornings
DESCRIPTION:You put them to bed\, and they’re back up again. Hungry\, thirsty\, lonely\, not tired…how do you keep them in bed? Toddlers don’t want to miss out on anything and often naps and bedtimes become a class of wills. You can lead a toddler to bed\, but how do you make them stay there? How much sleep do they need\, and how many naps must they take? What does a good sleep schedule look like\, and how do you achieve it? This video answers these questions and offers solutions for some of the most common sleep challenges a toddler has so that everyone gets a blissful night’s rest! Topics include: •Toddler •Bedtime •Sleep Schedule •Nighttime Sleep • Daily Naps •Routines
URL:https://772foryou.org/classes/sleeping-bedtime-mornings-3/
END:VEVENT
BEGIN:VEVENT
DTSTART;TZID=America/New_York:20240315T103000
DTEND;TZID=America/New_York:20240315T113000
DTSTAMP:20260425T142045
CREATED:20240220T180726Z
LAST-MODIFIED:20240220T180726Z
UID:10005867-1710498600-1710502200@772foryou.org
SUMMARY:Preventing Child Sexual Abuse
DESCRIPTION:This video answers these questions and takes a close look at what child sexual abuse is\, how to teach your children to be safe\, how parents can spot potentially unsafe situations for their children\, and what you should do if you suspect your child was abused. Topics include: • third trimester • any time after birth • laws • sexual fondling • oral sex • intercourse • peeping • flashing • pornography • ”stranger danger” • risks • dating • red flags • behavioral signs • grooming • communication • boundaries • secrets • sleepovers • reporting.
URL:https://772foryou.org/classes/preventing-child-sexual-abuse-5/
END:VEVENT
BEGIN:VEVENT
DTSTART;TZID=America/New_York:20240315T130000
DTEND;TZID=America/New_York:20240315T140000
DTSTAMP:20260425T142045
CREATED:20240220T191229Z
LAST-MODIFIED:20240220T191229Z
UID:10005868-1710507600-1710511200@772foryou.org
SUMMARY:First Time Moms (Pregnant)
DESCRIPTION:Led by Karina\, this support group combines the best of both worlds of education and emotional wellness. Participants will be journaling on prompts together\, working through a pregnancy milestone log book and learning together as a First Time Moms. This is a support group with an educational emphasis on self care\, Karina will be making healthy snacks that are easy to make and tolerable for expectant moms! All supplies will be provided. \n***Please call the center at 772-257-5390 to RSVP\, limited seating***
URL:https://772foryou.org/classes/first-time-moms-pregnant-16/
END:VEVENT
BEGIN:VEVENT
DTSTART;TZID=America/New_York:20240318T110000
DTEND;TZID=America/New_York:20240318T120000
DTSTAMP:20260425T142045
CREATED:20240220T192146Z
LAST-MODIFIED:20240220T192146Z
UID:10005869-1710759600-1710763200@772foryou.org
SUMMARY:Su Tercer Trimestre
DESCRIPTION:Te estás aproximando al tercer trimestre y te sientes MUY embarazada. El bebé se agranda y puedes sentir cómo se mueve y patea. ¿Qué sucede ahí adentro? A medida que tu cuerpo cambia para acomodarse al bebé en crecimiento\, tienes más probabilidades de sentirte más cansada\, pero a la vez\, sorpresivamente\, más enérgica.­ ¡¡Tu bebé nacerá pronto!! En este video\, hablaremos sobre los cambios en tu cuerpo\, lo que puede que estés sintiendo\, el camino del desarrollo del bebé y lo que sucederá en el tercer trimestre.
URL:https://772foryou.org/classes/su-tercer-trimestre-14/
END:VEVENT
BEGIN:VEVENT
DTSTART;TZID=America/New_York:20240318T133000
DTEND;TZID=America/New_York:20240318T143000
DTSTAMP:20260425T142045
CREATED:20240220T192423Z
LAST-MODIFIED:20240220T192423Z
UID:10005870-1710768600-1710772200@772foryou.org
SUMMARY:Your Third Trimester
DESCRIPTION:You are moving into your third trimester\, and you’re feeling VERY pregnant. Your baby is getting bigger\, and you can feel her moving and kicking. What is going on in there?! While your body is changing to accommodate your growing baby\, you are likely feeling more tired\, but also strangely energized. You have a baby coming soon!! In this video we’ll talk about your changing body\, what you might be feeling\, your baby’s journey in development\, and what you can expect in your third trimester.
URL:https://772foryou.org/classes/your-third-trimester-9/
END:VEVENT
BEGIN:VEVENT
DTSTART;TZID=America/New_York:20240318T150000
DTEND;TZID=America/New_York:20240318T160000
DTSTAMP:20260425T142045
CREATED:20240220T192744Z
LAST-MODIFIED:20240220T192744Z
UID:10005871-1710774000-1710777600@772foryou.org
SUMMARY:Words Matter-Silent Words
DESCRIPTION:Children see the world differently than adults. As parents\, we might think “the silent treatment” is just discipline. After all\, you’re not using hurtful words. But this is damaging to a child’s emotional well-being. This lesson describes the actions and their impact and gives helpful advice on better options. Topics include: •silent treatment • words • emotional tank • love • cooling off period • parenting skills
URL:https://772foryou.org/classes/words-matter-silent-words/
END:VEVENT
BEGIN:VEVENT
DTSTART;TZID=America/New_York:20240319T140000
DTEND;TZID=America/New_York:20240319T150000
DTSTAMP:20260425T142045
CREATED:20240220T195722Z
LAST-MODIFIED:20240220T195722Z
UID:10005873-1710856800-1710860400@772foryou.org
SUMMARY:Pumping $ Storing Mary Becker-IBCLC
DESCRIPTION:Led by lactation consultant\, Mary Becker IBCLC\, this is your change to get unfiltered answers to all the questions you have about breastfeeding. Mary is well known in our community for her work empowering women to breastfeed with confidence.  Our staff always loves when she is in the center\, you can expect lots of laughter and fun in this group center
URL:https://772foryou.org/classes/pumping-storing-mary-becker-ibclc/
END:VEVENT
BEGIN:VEVENT
DTSTART;TZID=America/New_York:20240319T173000
DTEND;TZID=America/New_York:20240319T190000
DTSTAMP:20260425T142045
CREATED:20240219T212228Z
LAST-MODIFIED:20240220T200521Z
UID:10005860-1710869400-1710874800@772foryou.org
SUMMARY:Healthy Start-Laboring\, Breathing\, Positioning\, Pushing & Birth
DESCRIPTION:From informed decision making\, interventions and pain management options and breathing practice…This workshop will help you prepare!
URL:https://772foryou.org/classes/healthy-start-laboring-breathing-positioning-pushing-birth-6/
END:VEVENT
BEGIN:VEVENT
DTSTART;TZID=America/New_York:20240320T103000
DTEND;TZID=America/New_York:20240320T113000
DTSTAMP:20260425T142045
CREATED:20240220T215437Z
LAST-MODIFIED:20240220T215437Z
UID:10005874-1710930600-1710934200@772foryou.org
SUMMARY:Medidas Naturales De Confort
DESCRIPTION:El dolor durante el parto puede ser bastante aterrador. Quizás te preguntes\, “¿Puedo manejarlo?\, ¡¿Y si no puedo?! ” En este video hablamos sobre cómo manejar el dolor de forma natural. Así es\, sin ningún analgésico. ¡Puedes hacerlo! Aprenderás sobre las tres R: Relajación\, Ritual y Ritmo para ayudarte a controlar el dolor. Luego\, discutimos varias técnicas de confort natural para ayudarte a disminuir la sensación de dolor. También discutimos los beneficios de un parto más natural y por qué aprenderlos es útil\, incluso si estás planeando tomar la epidural.
URL:https://772foryou.org/classes/medidas-naturales-de-confort/
END:VEVENT
BEGIN:VEVENT
DTSTART;TZID=America/New_York:20240320T123000
DTEND;TZID=America/New_York:20240320T133000
DTSTAMP:20260425T142045
CREATED:20240220T215828Z
LAST-MODIFIED:20240220T215828Z
UID:10005875-1710937800-1710941400@772foryou.org
SUMMARY:L & D: Natural Comfort  Measures
DESCRIPTION:Pain in childbirth can feel pretty scary. You might wonder\, “can I handle it?! What if I can’t?” In this video we talk all about managing pain the natural way. That’s right\, without any pain medication. You can do this! You’ll learn about the three Rs: relaxation\, ritual\, and rhythm to help you manage pain. Then we discuss various natural comfort techniques to help you lessen the sensation pain. We also discuss the benefits to a more natural birth\, and why learning them is helpful\, even if you’re planning on the epidural.
URL:https://772foryou.org/classes/l-d-natural-comfort-measures/
END:VEVENT
BEGIN:VEVENT
DTSTART;TZID=America/New_York:20240320T140000
DTEND;TZID=America/New_York:20240320T150000
DTSTAMP:20260425T142045
CREATED:20240220T220927Z
LAST-MODIFIED:20240220T220927Z
UID:10005876-1710943200-1710946800@772foryou.org
SUMMARY:Child Sexual Abuse & Neglect
DESCRIPTION:Give parents the tools they need to stem child abuse and neglect. In a modern\, to-the-point way\, young parents learn to deal with this devastating\, yet prevalent problem\, in the interest of the child. It addresses the following questions: “What if I think I am being abusive to my child?” “Could someone else be abusing my child?” “What do I do if I suspect my child is being abused?” “Where can I get help?” Topics include: • child abuse • physical abuse • emotional abuse • sexual abuse • child neglect • preventing abuse • stopping abuse • signs of emotional abuse • signs of sexual abuse • physical neglect • emotional neglect • medical neglect • educational neglect • drug and alcohol abuse • praise and positive parenting.
URL:https://772foryou.org/classes/child-sexual-abuse-neglect/
END:VEVENT
BEGIN:VEVENT
DTSTART;TZID=America/New_York:20240321T100000
DTEND;TZID=America/New_York:20240321T120000
DTSTAMP:20260425T142045
CREATED:20240220T232202Z
LAST-MODIFIED:20240220T232202Z
UID:10005877-1711015200-1711022400@772foryou.org
SUMMARY:Sewing Class/ Clase De Costura
DESCRIPTION:Call the center to save your spot as this is a popular workshop and there are 6 sewing stations available. Come and enjoy two hours of learning how to sew and have fun. Materials will be provided. Come and enjoy a different day. Limited spots\, call the center and reserve yours. \nVenga y disfrute de dos horas de aprendizaje de costura y pasar un buen rato agradable. Venga y tenga un dia diferente. Cupo limitado\, llame para reservar el suyo.
URL:https://772foryou.org/classes/sewing-class-clase-de-costura-23/
END:VEVENT
BEGIN:VEVENT
DTSTART;TZID=America/New_York:20240321T160000
DTEND;TZID=America/New_York:20240321T170000
DTSTAMP:20260425T142045
CREATED:20240220T232832Z
LAST-MODIFIED:20240220T232832Z
UID:10005878-1711036800-1711040400@772foryou.org
SUMMARY:Creando Lazos Con Tu Pequeno
DESCRIPTION:Criar niños felices y seguros de sí mismos es un trabajo muy duro! Y aunque los padres no siempre hacen todo bien\, lo fundamental es el vínculo que forjan con sus hijos. Comienza temprano en la infancia y crece a lo largo de la vida. ¿Pero cómo lo hace? En este video\, hablaremos sobre lo que significa vincularse con su hijo y por qué es crucial que todos los padres trabajen en ello. También le mostraremos cuatro formas sencillas de ayudar a desarrollar esta relación y algunas cosas divertidas que todos los padres pueden hacer para acercarse a su niño pequeño.
URL:https://772foryou.org/classes/creando-lazos-con-tu-pequeno/
END:VEVENT
BEGIN:VEVENT
DTSTART;TZID=America/New_York:20240322T103000
DTEND;TZID=America/New_York:20240322T113000
DTSTAMP:20260425T142045
CREATED:20240220T233257Z
LAST-MODIFIED:20240220T233257Z
UID:10005879-1711103400-1711107000@772foryou.org
SUMMARY:Color Your Dreams-Stress Release Art For Moms W/ Katherine
DESCRIPTION:Create with Katherine as she leads a relaxing art class for moms. All materials are provided and no experience is necessary. \n***Come and enjoy a therapeutic class that will free you from stress***
URL:https://772foryou.org/classes/color-your-dreams-stress-release-art-for-moms-w-katherine-13/
END:VEVENT
BEGIN:VEVENT
DTSTART;TZID=America/New_York:20240322T130000
DTEND;TZID=America/New_York:20240322T140000
DTSTAMP:20260425T142045
CREATED:20240220T233554Z
LAST-MODIFIED:20240220T234526Z
UID:10005880-1711112400-1711116000@772foryou.org
SUMMARY:First Time Moms (After Pregnancy)
DESCRIPTION:Led by Karina\, this support group combines the best of both worlds of education and emotional wellness. Participants will be journaling on prompts together\, working through a pregnancy milestone log book and learning together as a First Time Moms. This is a support group with and educational emphasis on self care\, Karina will be making healthy snacks that are to make and tolerable for expectant moms! All supplies will be provided. \n***Please call the center at 772-257-5390 to RSVP\, limited seating***
URL:https://772foryou.org/classes/first-time-moms-after-pregnancy-16/
END:VEVENT
BEGIN:VEVENT
DTSTART;TZID=America/New_York:20240325T110000
DTEND;TZID=America/New_York:20240325T120000
DTSTAMP:20260425T142045
CREATED:20240222T185808Z
LAST-MODIFIED:20240222T185808Z
UID:10005881-1711364400-1711368000@772foryou.org
SUMMARY:Salud Oral De Tu Pequeño
DESCRIPTION:Su niño tiene una boca llena de bonitos dientes blancos. Pueden morder\, masticar y sonreír de una manera que derrite su corazón. Pero\, ¿cómo mantener sus dientes sanos? ¿Es realmente importante hacerlo? Después de todo\, van a a perderlos. En este vídeo veremos por qué la salud bucodental de su hijo es importante para su salud general\, cómo enseñarle buenos hábitos de cepillado de dientes\, cuándo acudir al dentista y qué hacer si tu hijo tiene un problema dental.
URL:https://772foryou.org/classes/salud-oral-de-tu-pequeno/
END:VEVENT
BEGIN:VEVENT
DTSTART;TZID=America/New_York:20240325T133000
DTEND;TZID=America/New_York:20240325T143000
DTSTAMP:20260425T142045
CREATED:20240222T190124Z
LAST-MODIFIED:20240222T190124Z
UID:10005882-1711373400-1711377000@772foryou.org
SUMMARY:Toddler Oral Health
DESCRIPTION:Your toddler has mouth full of pretty white teeth. They can bite and chew and smile in a way that melts your heart. But how do you keep their teeth healthy\, and it is really important to? After all\, they are going to lose them. In this video we will look at why your child’s oral health IS important to their overall health\, how to teach them good teeth brushing habits\, when to see the dentist\, and what to do if your child has a dental problem. Topics include: Topics include:•Toddler•Oral Health•Baby Teeth•Brushing Habits •Flossing•Dental Visits•Preventing Decay•6 Month Old •
URL:https://772foryou.org/classes/toddler-oral-health-3/
END:VEVENT
BEGIN:VEVENT
DTSTART;TZID=America/New_York:20240325T150000
DTEND;TZID=America/New_York:20240325T160000
DTSTAMP:20260425T142045
CREATED:20240222T190443Z
LAST-MODIFIED:20240222T190443Z
UID:10005656-1711378800-1711382400@772foryou.org
SUMMARY:Simple Infant Care
DESCRIPTION:This video will provide mothers with information on a variety of less-common subjects that are important to the well-being of their children. Some of these include how to hold a newborn\, techniques for soothing a crying baby\, bed sharing\, burping\, infant walkers\, pacifiers\, and more. Each section is based on research and professional recommendations by leading medical organizations. After watching this video\, new parents will be able to make informed and study-based choices in each subject for the care of their newborns. Topics include: newborn • bed-sharing • co-sleeping • SIDS • sudden infant death syndrome • room-sharing • crying • crying checklist • crying spells • soothing • swaddling • skin-to-skin • pacifier • burping • spit up • vomiting • holding • supporting neck • infant carriers • check carrier • back carrier • car seat carriers • infant walkers • dressing infant.
URL:https://772foryou.org/classes/simple-infant-care-6/
END:VEVENT
BEGIN:VEVENT
DTSTART;TZID=America/New_York:20240326T110000
DTEND;TZID=America/New_York:20240326T120000
DTSTAMP:20260425T142045
CREATED:20240222T191057Z
LAST-MODIFIED:20240229T185036Z
UID:10005657-1711450800-1711454400@772foryou.org
SUMMARY:Moonshot Families Team
DESCRIPTION:Join the Moonshot Families Team for a read\, talk\, play\, sing and create engagement. Engage with your child through music and movement in a fun engaging environment. \nÚnase al equipo de Moonshot Families para leer\, hablar\, jugar\, cantar y generar participación. Interactúe con su hijo a través de la música y el movimiento en un ambiente divertido y atractivo.
URL:https://772foryou.org/classes/moonshot-families-team/
END:VEVENT
BEGIN:VEVENT
DTSTART;TZID=America/New_York:20240326T143000
DTEND;TZID=America/New_York:20240326T153000
DTSTAMP:20260425T142045
CREATED:20240222T191356Z
LAST-MODIFIED:20240222T191356Z
UID:10005658-1711463400-1711467000@772foryou.org
SUMMARY:Taking Care Of Yourself After Birth
DESCRIPTION:This video will share tips on what to expect after giving birth and how a postpartum woman can take great care of herself. Topics include: postpartum healing • vaginal discharge • postpartum contractions • sore muscles • hemorrhoids • breast leaking • breast engorgement • vaginal recovery • c-section recovery • caesarean recovery • rest • sleep • nutrition • constipation • postpartum exercise • Kegel exercises • emotions • PPD • postpartum depression • baby blues • returning to work.
URL:https://772foryou.org/classes/taking-care-of-yourself-after-birth-3/
END:VEVENT
BEGIN:VEVENT
DTSTART;TZID=America/New_York:20240326T173000
DTEND;TZID=America/New_York:20240326T183000
DTSTAMP:20260425T142045
CREATED:20240222T191706Z
LAST-MODIFIED:20240326T164519Z
UID:10005659-1711474200-1711477800@772foryou.org
SUMMARY:Toddler Play
DESCRIPTION:You may think it’s all just fun and games when you watch a toddler play. But really\, many of skills we need to be successful in life are learned in toddlerhood through play. We learn how to work with others\, to share\, to negotiate\, and to develop decision-making and problem-solving skills. And best of all\, we learn HOW to learn. Are you thinking\, WHAT? Well come along as we journey into the life of a toddler to discover how playing teaches them so much! Topics include: •Toddler•Play•Learning•Movement •Interaction•Not-So-Beneficial Play•TV Time•App Time•Toddler Media Usage
URL:https://772foryou.org/classes/toddler-play-6/
END:VEVENT
BEGIN:VEVENT
DTSTART;TZID=America/New_York:20240327T103000
DTEND;TZID=America/New_York:20240327T113000
DTSTAMP:20260425T142045
CREATED:20240222T191939Z
LAST-MODIFIED:20240229T185002Z
UID:10005660-1711535400-1711539000@772foryou.org
SUMMARY:Expectativas Sobre El Nino:9-12 Meses
DESCRIPTION:Expectativas sobre el niño: 9-12 meses ¡Es difícil creer que su bebé se está preparando para festejar su primer cumpleaños! ¡Épico! ¡Ha cambiado mucho desde que nació! ¡Usted pronto deberá correr detrás de un niño! Y con esto llega un poco de independencia que puede crear algo de inseguridad para usted y su bebé. En este video hablaremos de los logros que su bebé alcanzará al llegar al año y lo que puede hacer para ayudarlo a adaptarse a su independencia recientemente descubierta.
URL:https://772foryou.org/classes/expectativas-sobre-el-nino9-12-meses/
END:VEVENT
BEGIN:VEVENT
DTSTART;TZID=America/New_York:20240327T123000
DTEND;TZID=America/New_York:20240327T133000
DTSTAMP:20260425T142045
CREATED:20240222T192157Z
LAST-MODIFIED:20240222T192157Z
UID:10005661-1711542600-1711546200@772foryou.org
SUMMARY:Infant Expectations: 9-12 Months
DESCRIPTION:It’s hard to believe that your baby is getting ready to hit their first birthday! That’s epic! They have changed so much from when they were first born! Soon you’ll have a toddler to chase after! And with this comes a bit of independence that can create a little bit of insecurity for both you and your baby. In this video\, we talk about those milestones your baby will be hit by one year and the things you can do to help your child adjust to their new-found independence.
URL:https://772foryou.org/classes/infant-expectations-9-12-months-2/
END:VEVENT
BEGIN:VEVENT
DTSTART;TZID=America/New_York:20240327T140000
DTEND;TZID=America/New_York:20240327T150000
DTSTAMP:20260425T142045
CREATED:20240222T192607Z
LAST-MODIFIED:20240222T192607Z
UID:10005662-1711548000-1711551600@772foryou.org
SUMMARY:Words Matter-No Words
DESCRIPTION:Parenting is a delicate art\, where actions resonate louder than words. Children are like sponges\, absorbing life’s lessons by watching the adults around them. When a parent’s words align harmoniously with their actions\, it creates a powerful and lasting impact. Consistency and authenticity in behavior build trust\, making it easier for kids to follow the path set before them. Conversely\, when words contradict actions\, confusion reigns\, and the intended lessons lose their potency. Effective parenting blends role modeling\, open communication\, and positive reinforcement to instill values and behaviors that shape children into responsible and empathetic individuals\, poised for a bright future. Topics include: •No words •words •perception •vision •hearing •brain •daily word count •image processor •respect •actions •honesty •social learning theory •Bobo Doll Experiment
URL:https://772foryou.org/classes/words-matter-no-words-2/
END:VEVENT
BEGIN:VEVENT
DTSTART;TZID=America/New_York:20240328T110000
DTEND;TZID=America/New_York:20240328T120000
DTSTAMP:20260425T142045
CREATED:20240222T205823Z
LAST-MODIFIED:20240222T205823Z
UID:10005663-1711623600-1711627200@772foryou.org
SUMMARY:La Importancia De Las Palabras
DESCRIPTION:¡Sus palabras son increíblemente importantes para su hijo porque usted es increíblemente importante para él! Desafortunadamente\, ¡es difícil decir siempre las cosas correctas! Las palabras son PODEROSAS y pueden generar confianza y autoestima\, o en un momento acalorado\, derrumbar a su hijo. En este video\, le mostraremos cómo puede hacer crecer a su niño a través del poder de sus palabras\, cómo evitar decir las cosas que lo derriban y que hacer cuando se equivoca.
URL:https://772foryou.org/classes/la-importancia-de-las-palabras-2/
END:VEVENT
BEGIN:VEVENT
DTSTART;TZID=America/New_York:20240328T154500
DTEND;TZID=America/New_York:20240328T164500
DTSTAMP:20260425T142045
CREATED:20240222T233253Z
LAST-MODIFIED:20240222T233253Z
UID:10005664-1711640700-1711644300@772foryou.org
SUMMARY:Tiempo De Dentición
DESCRIPTION:La mayoría de los bebés desarrollan los dientes entre los 6 y los 12 meses. Los dientes son una parte importante de la salud y el desarrollo del niño. En esta lección\, aprenderá los efectos físicos de la dentición. Hablaremos de la dentición y la lactancia\, y de lo que se debe y no se debe hacer para calmar a un niño durante esta fase. Los temas incluyen: • dentición • collares de dentición • pulseras de dentición • cuentas de dentición • anillos de dentición • benzocaína • belladona • lactancia materna • dolor de dentición calmante • babeo • irritabilidad • fiebre • pérdida de apetito
URL:https://772foryou.org/classes/tiempo-de-denticion/
END:VEVENT
BEGIN:VEVENT
DTSTART;TZID=America/New_York:20240328T173000
DTEND;TZID=America/New_York:20240328T183000
DTSTAMP:20260425T142045
CREATED:20240229T160821Z
LAST-MODIFIED:20240229T160821Z
UID:10005665-1711647000-1711650600@772foryou.org
SUMMARY:Time With Your Toddler
DESCRIPTION:The time you spend with your toddler is so important\, and it is over so fast. Blink\, and they’ll be in preschool! It may feel like you spend most of your time taking care of their needs\, cleaning up their messes\, and kissing their boo-boos. But the time you spend with them\, even if you work outside the home\, gives them exactly what they need! In this video\, we talk about four important areas to develop in your parenting that will give you the most impact with the time you have. Topics include: • toddler • time • personality • emotional intensity • sensory reactivity • activity level • adaptability • persistence • independence • teaching • limits • new emotions.
URL:https://772foryou.org/classes/time-with-your-toddler-2/
END:VEVENT
BEGIN:VEVENT
DTSTART;TZID=America/New_York:20240401T133000
DTEND;TZID=America/New_York:20240401T143000
DTSTAMP:20260425T142045
CREATED:20240325T152917Z
LAST-MODIFIED:20240325T152917Z
UID:10005884-1711978200-1711981800@772foryou.org
SUMMARY:L & D: Medical Pain Relief\, Interventions
DESCRIPTION:Having a baby is hard work\, and choosing how you manage your pain is important. You get to choose! Do you want to take away some or most of the pain? You should know that choosing a medicated option will lead to certain other interventions and procedures. In this video\, we discuss your medical pain-relief options\, the interventions to which they lead\, and some of the medical procedures you might face in childbirth. We’ll show you how to make great decisions in the moment using the B.R.A.I.N. method so you have the best birth experience possible. Topics include: • B.R.A.I.N. • benefits • risks • alternatives • no • not now • medical pain relief • narcotics • epidural • spinal block • nitrous oxide • sterile water injections • medical procedures • interventions • induction • stripping membranes • pitocin • fetal monitoring • breaking bag of water • episiotomy • forceps • vacuum.
URL:https://772foryou.org/classes/l-d-medical-pain-relief-interventions/
END:VEVENT
END:VCALENDAR