BEGIN:VCALENDAR
VERSION:2.0
PRODID:-//A Caring Center For Women - ECPv6.15.20//NONSGML v1.0//EN
CALSCALE:GREGORIAN
METHOD:PUBLISH
X-WR-CALNAME:A Caring Center For Women
X-ORIGINAL-URL:https://772foryou.org
X-WR-CALDESC:Events for A Caring Center For Women
REFRESH-INTERVAL;VALUE=DURATION:PT1H
X-Robots-Tag:noindex
X-PUBLISHED-TTL:PT1H
BEGIN:VTIMEZONE
TZID:America/New_York
BEGIN:DAYLIGHT
TZOFFSETFROM:-0500
TZOFFSETTO:-0400
TZNAME:EDT
DTSTART:20230312T070000
END:DAYLIGHT
BEGIN:STANDARD
TZOFFSETFROM:-0400
TZOFFSETTO:-0500
TZNAME:EST
DTSTART:20231105T060000
END:STANDARD
BEGIN:DAYLIGHT
TZOFFSETFROM:-0500
TZOFFSETTO:-0400
TZNAME:EDT
DTSTART:20240310T070000
END:DAYLIGHT
BEGIN:STANDARD
TZOFFSETFROM:-0400
TZOFFSETTO:-0500
TZNAME:EST
DTSTART:20241103T060000
END:STANDARD
BEGIN:DAYLIGHT
TZOFFSETFROM:-0500
TZOFFSETTO:-0400
TZNAME:EDT
DTSTART:20250309T070000
END:DAYLIGHT
BEGIN:STANDARD
TZOFFSETFROM:-0400
TZOFFSETTO:-0500
TZNAME:EST
DTSTART:20251102T060000
END:STANDARD
END:VTIMEZONE
BEGIN:VTIMEZONE
TZID:UTC
BEGIN:STANDARD
TZOFFSETFROM:+0000
TZOFFSETTO:+0000
TZNAME:UTC
DTSTART:20230101T000000
END:STANDARD
END:VTIMEZONE
BEGIN:VEVENT
DTSTART;TZID=America/New_York:20240801T100000
DTEND;TZID=America/New_York:20240801T120000
DTSTAMP:20260419T175146
CREATED:20240716T162431Z
LAST-MODIFIED:20240716T162431Z
UID:10006162-1722506400-1722513600@772foryou.org
SUMMARY:Sewing Class/ Clase de Costura
DESCRIPTION:Call the center to save your spot as this is a popular workshop and there are 6 sewing stations available. Come and enjoy two hours of learning how to sew and have fun. Materials will be provided. \nCome and enjoy a different day. Limited spots\, call the center at 772-257-5390 and reserve yours. \nVenga y disfrute de dos horas de aprendizaje de costura y pasar un buen rato agradable. Proveeremos los materiales. \nVenga y tenga un dia diferente. Cupo limitado\, llame al 772-257-5390 para reservar el suyo.
URL:https://772foryou.org/classes/sewing-class-clase-de-costura-30/
ATTACH;FMTTYPE=image/jpeg:https://772foryou.org/wp-content/uploads/2022/09/Sewing-Class.jpg
END:VEVENT
BEGIN:VEVENT
DTSTART;TZID=America/New_York:20240801T130000
DTEND;TZID=America/New_York:20240801T143000
DTSTAMP:20260419T175146
CREATED:20240716T162712Z
LAST-MODIFIED:20240722T175244Z
UID:10006163-1722517200-1722522600@772foryou.org
SUMMARY:Healthy Start Moms Group - Village Of Support
DESCRIPTION:Free support group for expectant and current mothers every Thursday of the month from 1:00-2:00 pm. Takes place at A Caring Center For Women
URL:https://772foryou.org/classes/healthy-start-moms-group-village-of-support-40/
ATTACH;FMTTYPE=image/jpeg:https://772foryou.org/wp-content/uploads/2024/04/two-moms-with-daughters.jpeg
END:VEVENT
BEGIN:VEVENT
DTSTART;TZID=America/New_York:20240802T103000
DTEND;TZID=America/New_York:20240802T113000
DTSTAMP:20260419T175146
CREATED:20240716T190528Z
LAST-MODIFIED:20240722T175358Z
UID:10006165-1722594600-1722598200@772foryou.org
SUMMARY:Helping Children Process Change
DESCRIPTION:This video will help you talk through these hard issues with your children. Helping them sort through and understand their confusing feelings goes a long way. In this video\, you can learn to go further as you help them to process their emotions and to make healthy choices on how they express them. Give your child the tools she needs to understand what she is feeling and to work through those emotions to acceptance. Topics include: • helping children process change • moving • new baby • new marriage • new relationships • new schools • divorce • military deployment • anger • regression • prepare children in advance for change • talk and listen • support your child’s feelings • involve your child in decisions • stay connected • check out the new town • teach children to use words.
URL:https://772foryou.org/classes/helping-children-process-change/
ATTACH;FMTTYPE=image/jpeg:https://772foryou.org/wp-content/uploads/2024/07/Helping-Children-Process-Change.jpg
END:VEVENT
BEGIN:VEVENT
DTSTART;TZID=America/New_York:20240802T130000
DTEND;TZID=America/New_York:20240802T140000
DTSTAMP:20260419T175146
CREATED:20240716T190733Z
LAST-MODIFIED:20240716T190733Z
UID:10006166-1722603600-1722607200@772foryou.org
SUMMARY:First Time Moms (Pregnant)
DESCRIPTION:Led by Karina\, this support group combines the best of the two worlds of education and emotional wellness. Participants will be journaling on prompts together\, working through a pregnancy milestone log book and learning together as a first time moms. This is a support group with an educational emphasis on self-care\, Karina will be making healthy snacks that are easy to make and tolerable for expectant moms! All supplies will be provided. \n***Please call the center at 772-257-5390 to RSVP\, limited seating***
URL:https://772foryou.org/classes/first-time-moms-pregnant-24/
ATTACH;FMTTYPE=image/png:https://772foryou.org/wp-content/uploads/2022/08/Ultrasound-Copy-5.png
END:VEVENT
BEGIN:VEVENT
DTSTART;TZID=America/New_York:20240805T110000
DTEND;TZID=America/New_York:20240805T120000
DTSTAMP:20260419T175146
CREATED:20240716T191001Z
LAST-MODIFIED:20240722T175505Z
UID:10006167-1722855600-1722859200@772foryou.org
SUMMARY:Su Primer Trimestre
DESCRIPTION:You’re already pregnant and wondering\, what now? There’s a lot to know about pregnancy\, the changes that occur in your body and your growing baby. A lot happens during the first trimester! You’ll feel changes in your body\, emotions and lifestyle. Your baby is also starting to grow and will become the little one you will have in less than nine months! This video covers the first trimester of pregnancy and also talks about the changes in your baby as it develops.
URL:https://772foryou.org/classes/su-primer-trimestre-18/
ATTACH;FMTTYPE=image/jpeg:https://772foryou.org/wp-content/uploads/2022/09/1st-Trimester-1.jpg
END:VEVENT
BEGIN:VEVENT
DTSTART;TZID=America/New_York:20240805T133000
DTEND;TZID=America/New_York:20240805T143000
DTSTAMP:20260419T175146
CREATED:20240716T191125Z
LAST-MODIFIED:20240722T175649Z
UID:10006168-1722864600-1722868200@772foryou.org
SUMMARY:Your First Trimester
DESCRIPTION:You’re pregnant\, and you’re wondering\, now what? There is a lot to know about pregnancy\, your changing body\, and your developing baby. So much happens in that first trimester! You will experience changes in your body\, your emotions\, and your lifestyle. Your baby also goes through a lot of growth\, developing into the little person you soon will see in less than nine months! This video takes a look at pregnancy in the first trimester and also talks about your baby’s journey in development.
URL:https://772foryou.org/classes/your-first-trimester-18/
ATTACH;FMTTYPE=image/jpeg:https://772foryou.org/wp-content/uploads/2022/09/1st-Trimester-1.jpg
END:VEVENT
BEGIN:VEVENT
DTSTART;TZID=America/New_York:20240805T150000
DTEND;TZID=America/New_York:20240805T160000
DTSTAMP:20260419T175146
CREATED:20240716T191333Z
LAST-MODIFIED:20240722T175724Z
UID:10006169-1722870000-1722873600@772foryou.org
SUMMARY:Labor Expectations
DESCRIPTION:They did it! Couples Laila and Joseph\, Mikayla and Kyle\, and Mariah and Tyler each had their babies! I bet you can’t wait to see how it all turned out in this final video! Join these three couples as their pregnancies come to an end and experience labor and delivery with them as they have their babies. Topics include: • Mariah • Tyler • Laila • Joseph • Mikayla • Kyle • labor • contractions • pushing • epidural • pitocin.
URL:https://772foryou.org/classes/labor-expectations-3/
ATTACH;FMTTYPE=image/jpeg:https://772foryou.org/wp-content/uploads/2024/07/Labor-Expectations.jpg
END:VEVENT
BEGIN:VEVENT
DTSTART;TZID=America/New_York:20240806T110000
DTEND;TZID=America/New_York:20240806T123000
DTSTAMP:20260419T175146
CREATED:20240716T191809Z
LAST-MODIFIED:20240722T175805Z
UID:10006170-1722942000-1722947400@772foryou.org
SUMMARY:Healthy Start-Señales De Parto y El Proceso De Nacimiento
DESCRIPTION:HAblemos de los signos del trabajo de parto y del nacimiento de su bebé! La planificación y preparación para el gran dia aliviaran la ansiedad y contribuirán que la experiencia del parto sea mas positiva. Destacaremos el importante papel de una persona de apoyo\, practicaremos la respiración y mas! Se anima a las personas de apoyo a asistir!
URL:https://772foryou.org/classes/healthy-start-senales-de-parto-y-el-proceso-de-nacimiento-9/
ATTACH;FMTTYPE=image/jpeg:https://772foryou.org/wp-content/uploads/2022/09/Preparing-for-Labor-and-Delivery-e1719501616661.jpeg
END:VEVENT
BEGIN:VEVENT
DTSTART;TZID=America/New_York:20240806T173000
DTEND;TZID=America/New_York:20240806T190000
DTSTAMP:20260419T175146
CREATED:20240716T193520Z
LAST-MODIFIED:20240722T175901Z
UID:10006172-1722965400-1722970800@772foryou.org
SUMMARY:Healthy Start-Labor Signs & Is It Time?
DESCRIPTION:Let’s discuss signs of labor and birthing your baby! Planning and preparation for the big day will alleviate anxiety and contribute to a a more positive birth experience. We will highlight the important role of a support person\, practice breathing and more
URL:https://772foryou.org/classes/healthy-start-labor-signs-is-it-time-10/
ATTACH;FMTTYPE=image/jpeg:https://772foryou.org/wp-content/uploads/2024/06/Healthy-Start-Labor-Signs-Is-It-Time.jpg
END:VEVENT
BEGIN:VEVENT
DTSTART;TZID=UTC:20240807T140000
DTEND;TZID=UTC:20240807T150000
DTSTAMP:20260419T175146
CREATED:20240716T202736Z
LAST-MODIFIED:20240722T180133Z
UID:10006175-1723039200-1723042800@772foryou.org
SUMMARY:Childhood Nutrition (Babies)
DESCRIPTION:Childhood Nutrition (Babies)
URL:https://772foryou.org/classes/childhood-nutrition-babies-2/
ATTACH;FMTTYPE=image/jpeg:https://772foryou.org/wp-content/uploads/2022/11/infant-nutrition.jpg
END:VEVENT
BEGIN:VEVENT
DTSTART;TZID=America/New_York:20240808T130000
DTEND;TZID=America/New_York:20240808T143000
DTSTAMP:20260419T175146
CREATED:20240716T203219Z
LAST-MODIFIED:20240722T180250Z
UID:10006177-1723122000-1723127400@772foryou.org
SUMMARY:Healthy Start Moms Group - Village Of Support
DESCRIPTION:Free support group for expectant and current mothers every Thursday of the month from 1:00-2:30 pm. Takes place at A Caring Center For Women
URL:https://772foryou.org/classes/healthy-start-moms-group-village-of-support-41/
ATTACH;FMTTYPE=image/jpeg:https://772foryou.org/wp-content/uploads/2024/04/two-moms-with-daughters.jpeg
END:VEVENT
BEGIN:VEVENT
DTSTART;TZID=America/New_York:20240809T103000
DTEND;TZID=America/New_York:20240809T113000
DTSTAMP:20260419T175146
CREATED:20240716T210531Z
LAST-MODIFIED:20240716T210531Z
UID:10006182-1723199400-1723203000@772foryou.org
SUMMARY:First Time Moms (After Pregnancy)
DESCRIPTION:Led by Karina\, this support group combines the best of the two worlds of education and emotional wellness. Participants will be journaling on prompts together\, working through infants and toddlers milestones and learning together as a first time moms! \nPlease call the center to RSVP at 772-257-5390
URL:https://772foryou.org/classes/first-time-moms-after-pregnancy-24/
ATTACH;FMTTYPE=image/jpeg:https://772foryou.org/wp-content/uploads/2022/08/sling.jpeg
END:VEVENT
BEGIN:VEVENT
DTSTART;TZID=America/New_York:20240809T130000
DTEND;TZID=America/New_York:20240809T140000
DTSTAMP:20260419T175146
CREATED:20240716T214239Z
LAST-MODIFIED:20240722T180357Z
UID:10006188-1723208400-1723212000@772foryou.org
SUMMARY:Family Stability Inside Change
DESCRIPTION:It has been said that you should only undertake a single major event in any given year. Whoever said that was a bit out of touch with daily reality. Major events come and go\, including changing jobs\, moving homes\, adding to your family\, getting married\, or breaking up. These are major events\, and there needs to be a sense of who your family is and how you can keep them stable through these tumultuous times. This video can guide you and help you understand that change is what it is—but your family can weather it together! Topics include: • family stability inside change • change • family • new child • job loss • moving • broken relationships • death in family • focus on positives • identify fears • set good boundaries • self-care • routines • emotions • reactions • spiritual values • gratitude.
URL:https://772foryou.org/classes/family-stability-inside-change/
ATTACH;FMTTYPE=image/jpeg:https://772foryou.org/wp-content/uploads/2024/07/Family-Stability-Inside-Change.jpg
END:VEVENT
BEGIN:VEVENT
DTSTART;TZID=America/New_York:20240812T110000
DTEND;TZID=America/New_York:20240812T120000
DTSTAMP:20260419T175146
CREATED:20240716T214419Z
LAST-MODIFIED:20240722T180512Z
UID:10006189-1723460400-1723464000@772foryou.org
SUMMARY:Su Segundo Trimestre
DESCRIPTION:The first trimester is behind you and you’re probably feeling better now. Your morning sickness may have subsided and you may feel like you’ve got everything under control. Your baby is growing quickly and you’re probably already sporting a baby bump. The second trimester is often the most comfortable time of pregnancy! Even though you don’t feel or see much of what’s going on in your belly yet\, there are quite a few things going on. In this video\, we’ll talk about the changes in your body\, the path of your baby’s development\, and what to expect in the second trimester.
URL:https://772foryou.org/classes/su-segundo-trimestre-19/
ATTACH;FMTTYPE=image/jpeg:https://772foryou.org/wp-content/uploads/2022/11/second-trimester.jpg
END:VEVENT
BEGIN:VEVENT
DTSTART;TZID=America/New_York:20240812T133000
DTEND;TZID=America/New_York:20240812T143000
DTSTAMP:20260419T175146
CREATED:20240716T214522Z
LAST-MODIFIED:20240722T180605Z
UID:10006190-1723469400-1723473000@772foryou.org
SUMMARY:Your Second Trimester
DESCRIPTION:Your first trimester is now behind you and you are likely feeling better. Morning sickness may have eased up and you may be thinking\, “I’ve got this!” Your baby is growing rapidly\, and you might even be starting to sport a cute little baby bump. The second trimester is often the most comfortable time for a pregnant mom! While you still may not be feeling or seeing much yet\, there is a lot going on in your womb. In this video we’ll talk about how your body is changing\, your baby’s journey in development\, and what you can expect in your second trimester.
URL:https://772foryou.org/classes/your-second-trimester-19/
ATTACH;FMTTYPE=image/jpeg:https://772foryou.org/wp-content/uploads/2022/11/second-trimester.jpg
END:VEVENT
BEGIN:VEVENT
DTSTART;TZID=America/New_York:20240812T150000
DTEND;TZID=America/New_York:20240812T160000
DTSTAMP:20260419T175146
CREATED:20240716T221137Z
LAST-MODIFIED:20240722T180707Z
UID:10006191-1723474800-1723478400@772foryou.org
SUMMARY:Plagiocephaly (Flattening Of Head Prevention)
DESCRIPTION:Flat head Syndrome describes an atypical head shape that develops during baby’s first year of life. The medical terms ‘positional plagiocephaly’ and ‘brachycephaly’ describes the location of the flatness. \nLearn about Plagiocephaly (Flathead) prevention and all the information.
URL:https://772foryou.org/classes/plagiocephaly-flattening-of-head-prevention-6/
ATTACH;FMTTYPE=image/webp:https://772foryou.org/wp-content/uploads/2024/04/Plagiocephaly-picture.webp
END:VEVENT
BEGIN:VEVENT
DTSTART;TZID=America/New_York:20240813T143000
DTEND;TZID=America/New_York:20240813T153000
DTSTAMP:20260419T175146
CREATED:20240716T221737Z
LAST-MODIFIED:20240722T180810Z
UID:10006193-1723559400-1723563000@772foryou.org
SUMMARY:Teething Time
DESCRIPTION:Most babies will develop teeth between six and twelve months of age. Teeth are an important part of a child’s health and development. In this lesson\, you will learn the physical effects of teething. We will discuss teething and breastfeeding and the do’s and don’ts of soothing a child during this phase. Topics include: • teething • teething necklaces • teething bracelets • teething beads • teething rings • benzocaine • belladonna • breastfeeding • soothing teething pain • drooling • fussiness • fever • loss of appetite.
URL:https://772foryou.org/classes/teething-time-3/
ATTACH;FMTTYPE=image/jpeg:https://772foryou.org/wp-content/uploads/2022/09/teething-time.jpeg
END:VEVENT
BEGIN:VEVENT
DTSTART;TZID=America/New_York:20240813T173000
DTEND;TZID=America/New_York:20240813T190000
DTSTAMP:20260419T175146
CREATED:20240716T221841Z
LAST-MODIFIED:20240722T180839Z
UID:10006194-1723570200-1723575600@772foryou.org
SUMMARY:Healthy Start-Laboring\, Breathing\, Positioning\, Pushing & Birth
DESCRIPTION:From informed  decision making\, interventions and pain management options and breathing practice…This workshop will help you prepare!
URL:https://772foryou.org/classes/healthy-start-laboring-breathing-positioning-pushing-birth-11/
ATTACH;FMTTYPE=image/jpeg:https://772foryou.org/wp-content/uploads/2022/09/Laboring-Breathing-Pushing.jpeg
END:VEVENT
BEGIN:VEVENT
DTSTART;TZID=America/New_York:20240814T103000
DTEND;TZID=America/New_York:20240814T113000
DTSTAMP:20260419T175146
CREATED:20240716T222027Z
LAST-MODIFIED:20240722T180911Z
UID:10006195-1723631400-1723635000@772foryou.org
SUMMARY:Llanto
DESCRIPTION:Amamos a nuestros bebés\, pero ODIAMOS su llanto. ¡En especial el llanto inconsolable que no puedes solucionar! Es difícil escucharlo\, ¡y nos pone tan SENSIBLES! ¡Evoca sentimientos muy profundos! Quizás se pregunte: “¿Esto es normal?”\, “¿Estoy haciendo algo mal?” O peor\, “¿Le pasa algo malo a mi bebé?” Incluso puede haber una moles-ta vocecita interior que se pregunta: “¿Soy un mal padre?” ¡Este video responde todas esas preguntas y habla sobre maneras en las que puede calmar a su bebé y qué hacer si no puede detener el llanto!
URL:https://772foryou.org/classes/llanto-2/
ATTACH;FMTTYPE=image/jpeg:https://772foryou.org/wp-content/uploads/2024/07/Llanto.jpg
END:VEVENT
BEGIN:VEVENT
DTSTART;TZID=America/New_York:20240814T123000
DTEND;TZID=America/New_York:20240814T133000
DTSTAMP:20260419T175146
CREATED:20240716T222317Z
LAST-MODIFIED:20240722T180940Z
UID:10006196-1723638600-1723642200@772foryou.org
SUMMARY:Crying
DESCRIPTION:We love our babies\, but we HATE their crying. Especially the inconsolable crying that you can’t fix! It’s hard to listen to\, and it makes us so EMOTIONAL! It evokes feelings from deep within! You may be wondering\, “Is this normal?” “Am I doing something wrong?” Or worse\, “Is there something wrong with my baby?” There may even be a niggling little voice inside wondering\, “Am I a bad parent?” This video answers all those questions and talks about ways you can soothe your baby and what to do if you can’t stop the crying!
URL:https://772foryou.org/classes/crying-2/
ATTACH;FMTTYPE=image/jpeg:https://772foryou.org/wp-content/uploads/2024/07/Crying.jpg
END:VEVENT
BEGIN:VEVENT
DTSTART;TZID=America/New_York:20240814T140000
DTEND;TZID=America/New_York:20240814T150000
DTSTAMP:20260419T175146
CREATED:20240716T222711Z
LAST-MODIFIED:20240722T181036Z
UID:10006197-1723644000-1723647600@772foryou.org
SUMMARY:L & D: Natural Comfort  Measures
DESCRIPTION:Pain in childbirth can feel pretty scary. You might wonder\, “can I handle it?! What if I can’t?” In this video we talk all about managing pain the natural way. That’s right\, without any pain medication. You can do this! You’ll learn about the three Rs: relaxation\, ritual\, and rhythm to help you manage pain. Then we discuss various natural comfort techniques to help you lessen the sensation pain. We also discuss the benefits to a more natural birth\, and why learning them is helpful\, even if you’re planning on the epidural.
URL:https://772foryou.org/classes/l-d-natural-comfort-measures-2/
ATTACH;FMTTYPE=image/jpeg:https://772foryou.org/wp-content/uploads/2022/09/Natural-labor.jpg
END:VEVENT
BEGIN:VEVENT
DTSTART;TZID=America/New_York:20240815T100000
DTEND;TZID=America/New_York:20240815T120000
DTSTAMP:20260419T175146
CREATED:20240716T222821Z
LAST-MODIFIED:20240716T222821Z
UID:10006198-1723716000-1723723200@772foryou.org
SUMMARY:Sewing Class/ Clase de Costura
DESCRIPTION:Call the center to save your spot as this is a popular workshop and there are 6 sewing stations available. Come and enjoy two hours of learning how to sew and have fun. Materials will be provided. \nCome and enjoy a different day. Limited spots\, call the center at 772-257-5390 and reserve yours. \nVenga y disfrute de dos horas de aprendizaje de costura y pasar un buen rato agradable. Proveeremos los materiales. \nVenga y tenga un dia diferente. Cupo limitado\, llame al 772-257-5390 para reservar el suyo.
URL:https://772foryou.org/classes/sewing-class-clase-de-costura-31/
ATTACH;FMTTYPE=image/jpeg:https://772foryou.org/wp-content/uploads/2022/09/Sewing-Class.jpg
END:VEVENT
BEGIN:VEVENT
DTSTART;TZID=America/New_York:20240815T130000
DTEND;TZID=America/New_York:20240815T143000
DTSTAMP:20260419T175146
CREATED:20240716T203321Z
LAST-MODIFIED:20240722T181127Z
UID:10006178-1723726800-1723732200@772foryou.org
SUMMARY:Healthy Start Moms Group - Village Of Support
DESCRIPTION:Free support group for expectant and current mothers every Thursday of the month from 1:00-2:00 pm. Takes place at A Caring Center For Women
URL:https://772foryou.org/classes/healthy-start-moms-group-village-of-support-42/
ATTACH;FMTTYPE=image/jpeg:https://772foryou.org/wp-content/uploads/2024/04/two-moms-with-daughters.jpeg
END:VEVENT
BEGIN:VEVENT
DTSTART;TZID=UTC:20240815T173000
DTEND;TZID=UTC:20240815T183000
DTSTAMP:20260419T175146
CREATED:20240716T223008Z
LAST-MODIFIED:20240722T181201Z
UID:10006199-1723743000-1723746600@772foryou.org
SUMMARY:Childhood Nutrition (Babies)
DESCRIPTION:Childhood Nutrition (Babies)
URL:https://772foryou.org/classes/childhood-nutrition-babies-3/
ATTACH;FMTTYPE=image/jpeg:https://772foryou.org/wp-content/uploads/2022/11/infant-nutrition.jpg
END:VEVENT
BEGIN:VEVENT
DTSTART;TZID=UTC:20240816T103000
DTEND;TZID=UTC:20240816T113000
DTSTAMP:20260419T175146
CREATED:20240716T223257Z
LAST-MODIFIED:20240722T181300Z
UID:10006200-1723804200-1723807800@772foryou.org
SUMMARY:Successful Family Living
DESCRIPTION:Successful Family Living \nIn this video\, we talk about what it takes to create a successful family life for your children\, how you can build rich experiences that shape their character\, and the most important things a child needs to build good life skills. Topics include: • family • family living • love • constant love • consistent love • listening • communication • routines • security • eating together • family fun time • setting limits • shared workloads • chores • social connections • serving together • spiritual connections • game nights.
URL:https://772foryou.org/classes/successful-family-living-3/
ATTACH;FMTTYPE=image/jpeg:https://772foryou.org/wp-content/uploads/2024/07/Successful-Family-Living.jpg
END:VEVENT
BEGIN:VEVENT
DTSTART;TZID=America/New_York:20240816T130000
DTEND;TZID=America/New_York:20240816T140000
DTSTAMP:20260419T175146
CREATED:20240716T210644Z
LAST-MODIFIED:20240816T144921Z
UID:10006184-1723813200-1723816800@772foryou.org
SUMMARY:First Time Moms (Pregnant)
DESCRIPTION:Led by Karina\, this support group combines the best of the two worlds of education and emotional wellness. Participants will be journaling on prompts together\, working through a pregnancy milestone log book and learning together as a first time moms. This is a support group with an educational emphasis on self-care\, Karina will be making healthy snacks that are easy to make and tolerable for expectant moms! All supplies will be provided.
URL:https://772foryou.org/classes/first-time-moms-pregnant-25/
ATTACH;FMTTYPE=image/png:https://772foryou.org/wp-content/uploads/2022/08/Ultrasound-Copy-5.png
END:VEVENT
BEGIN:VEVENT
DTSTART;TZID=America/New_York:20240819T110000
DTEND;TZID=America/New_York:20240819T120000
DTSTAMP:20260419T175146
CREATED:20240716T223427Z
LAST-MODIFIED:20240820T220619Z
UID:10006201-1724065200-1724068800@772foryou.org
SUMMARY:Moonshot Families/Familias de Moonshot
DESCRIPTION:Join the moonshot families team for a read\, talk\, play\, sing and create engagement. Engage with your child through music and movement in a fun engaging environment. \nUnase al equipo de familias Moonshot para leer\, hablar\, jugar\, cantar y generar participación. Interactúe con su hijo a través de la música y el movimiento en un ambiente divertido y atractivo.
URL:https://772foryou.org/classes/moonshot-families-familias-de-moonshot-5/
ATTACH;FMTTYPE=image/png:https://772foryou.org/wp-content/uploads/2024/08/Moonshot-Families.png
END:VEVENT
BEGIN:VEVENT
DTSTART;TZID=America/New_York:20240819T150000
DTEND;TZID=America/New_York:20240819T160000
DTSTAMP:20260419T175146
CREATED:20240716T223717Z
LAST-MODIFIED:20240722T181853Z
UID:10006203-1724079600-1724083200@772foryou.org
SUMMARY:Your Third Trimester
DESCRIPTION:In this video\, we’ll talk about your changing body\, what you might be feeling\, your baby’s journey in development\, and what you can expect in your third trimester. Topics include: shortness of breath • heartburn • swelling • hemorrhoids • constipation • leg cramps • stretch marks • tender breasts • belly button • insomnia • baby dropping • Braxton-Hicks • emotions • exercise • fever and chills • bleeding • labor • mucus plug • ruptured amniotic sac • signs of labor • fetal movement.
URL:https://772foryou.org/classes/your-third-trimester-14/
ATTACH;FMTTYPE=image/jpeg:https://772foryou.org/wp-content/uploads/2022/08/3rd-Trimester.jpeg
END:VEVENT
BEGIN:VEVENT
DTSTART;TZID=America/New_York:20240820T110000
DTEND;TZID=America/New_York:20240820T120000
DTSTAMP:20260419T175146
CREATED:20240718T144238Z
LAST-MODIFIED:20240722T181926Z
UID:10006204-1724151600-1724155200@772foryou.org
SUMMARY:Síndrome De Muerte Súbita Infantil
DESCRIPTION:El síndrome de muerte súbita infantil\, o SMS\, es un tema escalofriante y confuso para la mayoría de los padres. Por años algunas investigaciones han arrojado distintas recomendaciones que han reducido enormemente las posibilidades de que un infante muera inesperadamente. ¿Deberías estar razonablemente preocupado acerca del SMS? ¿Qué puedes hacer para reducir el riesgo de que a tu bebé le suceda el SMS? ¿Y qué tan importante es seguir estas recomendaciones? Este video responderá estas preguntas y ayudará a los padres a estar un poco más tranquilos acerca del SMS\, así como tener un plan para reducir dramáticamente el riesgo de que a sus bebés les suceda el SMS. Los temas incluyen sueño seguro
URL:https://772foryou.org/classes/sindrome-de-muerte-subita-infantil-2/
ATTACH;FMTTYPE=image/jpeg:https://772foryou.org/wp-content/uploads/2024/07/Sindrome-De-Muerte-Subita-Infantil.jpg
END:VEVENT
BEGIN:VEVENT
DTSTART;TZID=America/New_York:20240820T130000
DTEND;TZID=America/New_York:20240820T150000
DTSTAMP:20260419T175146
CREATED:20240718T144420Z
LAST-MODIFIED:20240722T182608Z
UID:10006205-1724158800-1724166000@772foryou.org
SUMMARY:Anything Breastfeeding Mary Becker-IBCLC
DESCRIPTION:Led by lactation consultant\, Mary Becker\, this is your chance to get unfiltered answers to all the questions you have about breastfeeding. Mary is well known in our community for her work empowering women to breastfeed with confidence. Our staff always loves when she is in the center\, you can expect lots of laughter and fun in this group center.
URL:https://772foryou.org/classes/anything-breastfeeding-mary-becker-ibclc-9/
ATTACH;FMTTYPE=image/jpeg:https://772foryou.org/wp-content/uploads/2022/11/mum-breastfeeding-her-baby-with-lactation-clonsultant.jpg
END:VEVENT
END:VCALENDAR