BEGIN:VCALENDAR
VERSION:2.0
PRODID:-//A Caring Center For Women - ECPv6.15.20//NONSGML v1.0//EN
CALSCALE:GREGORIAN
METHOD:PUBLISH
X-WR-CALNAME:A Caring Center For Women
X-ORIGINAL-URL:https://772foryou.org
X-WR-CALDESC:Events for A Caring Center For Women
REFRESH-INTERVAL;VALUE=DURATION:PT1H
X-Robots-Tag:noindex
X-PUBLISHED-TTL:PT1H
BEGIN:VTIMEZONE
TZID:America/New_York
BEGIN:DAYLIGHT
TZOFFSETFROM:-0500
TZOFFSETTO:-0400
TZNAME:EDT
DTSTART:20230312T070000
END:DAYLIGHT
BEGIN:STANDARD
TZOFFSETFROM:-0400
TZOFFSETTO:-0500
TZNAME:EST
DTSTART:20231105T060000
END:STANDARD
BEGIN:DAYLIGHT
TZOFFSETFROM:-0500
TZOFFSETTO:-0400
TZNAME:EDT
DTSTART:20240310T070000
END:DAYLIGHT
BEGIN:STANDARD
TZOFFSETFROM:-0400
TZOFFSETTO:-0500
TZNAME:EST
DTSTART:20241103T060000
END:STANDARD
BEGIN:DAYLIGHT
TZOFFSETFROM:-0500
TZOFFSETTO:-0400
TZNAME:EDT
DTSTART:20250309T070000
END:DAYLIGHT
BEGIN:STANDARD
TZOFFSETFROM:-0400
TZOFFSETTO:-0500
TZNAME:EST
DTSTART:20251102T060000
END:STANDARD
END:VTIMEZONE
BEGIN:VEVENT
DTSTART;TZID=America/New_York:20240603T110000
DTEND;TZID=America/New_York:20240603T120000
DTSTAMP:20260419T211734
CREATED:20240522T155228Z
LAST-MODIFIED:20240522T155228Z
UID:10006057-1717412400-1717416000@772foryou.org
SUMMARY:Su Primer Trimestre
DESCRIPTION:Ya estás embarazada y te preguntas\, ¿y ahora qué? Hay mucho por saber acerca del embarazo\, los cambios que se producen en el cuerpo y el bebé en crecimiento. ¡Pasan muchas cosas durante el primer trimestre! Sentirás cambios en el cuerpo\, en tus emociones y estilo de vida. ¡Tu bebé también empieza a crecer y se convertirá en el pequeño que tendrás en menos de nueve meses! Este video desarrolla el primer trimestre del embarazo y también habla sobre los cambios del bebé durante su desarrollo.
URL:https://772foryou.org/classes/su-primer-trimestre-16/
ATTACH;FMTTYPE=image/jpeg:https://772foryou.org/wp-content/uploads/2022/09/1st-Trimester-1.jpg
END:VEVENT
BEGIN:VEVENT
DTSTART;TZID=America/New_York:20240603T133000
DTEND;TZID=America/New_York:20240603T143000
DTSTAMP:20260419T211734
CREATED:20240522T155610Z
LAST-MODIFIED:20240522T155610Z
UID:10006058-1717421400-1717425000@772foryou.org
SUMMARY:Your First Trimester
DESCRIPTION:You’re pregnant\, and you’re wondering\, now what? There is a lot to know about pregnancy\, your changing body\, and your developing baby. So much happens in that first trimester! You will experience changes in your body\, your emotions\, and your lifestyle. Your baby also goes through a lot of growth\, developing into the little person you soon will see in less than nine months! This video takes a look at pregnancy in the first trimester and also talks about your baby’s journey in development.
URL:https://772foryou.org/classes/your-first-trimester-16/
ATTACH;FMTTYPE=image/jpeg:https://772foryou.org/wp-content/uploads/2022/09/1st-Trimester-1.jpg
END:VEVENT
BEGIN:VEVENT
DTSTART;TZID=America/New_York:20240603T150000
DTEND;TZID=America/New_York:20240603T160000
DTSTAMP:20260419T211734
CREATED:20240522T153914Z
LAST-MODIFIED:20240522T153914Z
UID:10006053-1717426800-1717430400@772foryou.org
SUMMARY:Plagiocephaly (Flattening Of Head Prevention)
DESCRIPTION:Flat head Syndrome describes an atypical head shape that develops during baby’s first year of life. The medical terms ‘positional plagiocephaly’ and ‘brachycephaly’ describes the location of the flatness. \nLearn about Plagiocephaly (Flathead) prevention and all the information.
URL:https://772foryou.org/classes/plagiocephaly-flattening-of-head-prevention-3/
ATTACH;FMTTYPE=image/webp:https://772foryou.org/wp-content/uploads/2024/04/Plagiocephaly-picture.webp
END:VEVENT
BEGIN:VEVENT
DTSTART;TZID=America/New_York:20240604T110000
DTEND;TZID=America/New_York:20240604T120000
DTSTAMP:20260419T211734
CREATED:20240523T194037Z
LAST-MODIFIED:20240602T022902Z
UID:10006081-1717498800-1717502400@772foryou.org
SUMMARY:Nutrición Para Mujeres Embarazadas Taller #1/Nutrition For Pregnant Women Workshop #1
DESCRIPTION:
URL:https://772foryou.org/classes/nutricion-para-mujeres-embarazadas-taller-1-nutrition-for-pregnant-women-workshop-1/
ATTACH;FMTTYPE=image/jpeg:https://772foryou.org/wp-content/uploads/2024/06/Nutrition-For-Pregnant-Women.jpg
END:VEVENT
BEGIN:VEVENT
DTSTART;TZID=America/New_York:20240604T173000
DTEND;TZID=America/New_York:20240604T190000
DTSTAMP:20260419T211734
CREATED:20240523T145826Z
LAST-MODIFIED:20240602T023211Z
UID:10006060-1717522200-1717527600@772foryou.org
SUMMARY:Healthy Start-Labor Signs & Is It Time?
DESCRIPTION:Let’s discuss signs of labor and birthing your baby! Planning and preparation for the big day will alleviate anxiety and contribute to a a more positive birth experience. We will highlight the important role of a support person\, practice breathing and more
URL:https://772foryou.org/classes/healthy-start-labor-signs-is-it-time-8/
ATTACH;FMTTYPE=image/jpeg:https://772foryou.org/wp-content/uploads/2024/06/Healthy-Start-Labor-Signs-Is-It-Time.jpg
END:VEVENT
BEGIN:VEVENT
DTSTART;TZID=America/New_York:20240605T140000
DTEND;TZID=America/New_York:20240605T150000
DTSTAMP:20260419T211734
CREATED:20240523T151005Z
LAST-MODIFIED:20240602T023732Z
UID:10006062-1717596000-1717599600@772foryou.org
SUMMARY:Parenting without Shame Ch. 5
DESCRIPTION:R E S P E C T respect. It’s the theme of songs\, but it’s also important in raising children too. Learn how to discern between fear and respect\, and how you can show respect to your child and earn it back. You will also learn why predictability is important to your child’s security\, and how to achieve all of this in this final lesson in the Parenting Without Shame series. Topics include: •Parenting•Shame•Respect•Respect Body Boundaries•Respect Opinions•Respect Things•Predictability•Consistency •Routines•Apologies
URL:https://772foryou.org/classes/parenting-without-shame-ch-5-2/
ATTACH;FMTTYPE=image/jpeg:https://772foryou.org/wp-content/uploads/2024/06/Parenting-Without-Shame-Ch.5.jpg
END:VEVENT
BEGIN:VEVENT
DTSTART;TZID=America/New_York:20240606T100000
DTEND;TZID=America/New_York:20240606T120000
DTSTAMP:20260419T211734
CREATED:20240523T151140Z
LAST-MODIFIED:20240523T151140Z
UID:10006063-1717668000-1717675200@772foryou.org
SUMMARY:Sewing Class
DESCRIPTION:Call the center to save your spot as this is a popular workshop and there are 6 sewing stations available. Come and enjoy two hours of learning how to sew and have fun. Materials will be provided. Come and enjoy a different day. limited spots\, call and reserve yours. \n 
URL:https://772foryou.org/classes/sewing-class/
ATTACH;FMTTYPE=image/jpeg:https://772foryou.org/wp-content/uploads/2022/09/Sewing-Class.jpg
END:VEVENT
BEGIN:VEVENT
DTSTART;TZID=America/New_York:20240606T130000
DTEND;TZID=America/New_York:20240606T143000
DTSTAMP:20260419T211734
CREATED:20240522T154143Z
LAST-MODIFIED:20240531T030617Z
UID:10006054-1717678800-1717684200@772foryou.org
SUMMARY:Healthy Start Moms Group-Village Of Support
DESCRIPTION:Free support group for expectant and current mothers every Thursday of the month from 1:00-2:00 pm. Takes place at A Caring Center For Women
URL:https://772foryou.org/classes/healthy-start-moms-group-village-of-support-36/
ATTACH;FMTTYPE=image/jpeg:https://772foryou.org/wp-content/uploads/2024/04/two-moms-with-daughters.jpeg
END:VEVENT
BEGIN:VEVENT
DTSTART;TZID=America/New_York:20240607T103000
DTEND;TZID=America/New_York:20240607T113000
DTSTAMP:20260419T211734
CREATED:20240523T151710Z
LAST-MODIFIED:20240523T203424Z
UID:10006065-1717756200-1717759800@772foryou.org
SUMMARY:First Time Moms (After Pregnancy)
DESCRIPTION:Led by Karina\, this support group combines the best of the two worlds of education and emotional wellness. Participants will be journaling on prompts together\, working through infants and toddlers milestones and learning together as a first time moms! \nPlease call the center to RSVP at 772-257-5390
URL:https://772foryou.org/classes/first-time-moms-after-pregnancy-21/
ATTACH;FMTTYPE=image/jpeg:https://772foryou.org/wp-content/uploads/2022/08/sling.jpeg
END:VEVENT
BEGIN:VEVENT
DTSTART;TZID=America/New_York:20240607T130000
DTEND;TZID=America/New_York:20240607T140000
DTSTAMP:20260419T211734
CREATED:20240523T152722Z
LAST-MODIFIED:20240602T023801Z
UID:10006066-1717765200-1717768800@772foryou.org
SUMMARY:Baby Sign Language
DESCRIPTION:
URL:https://772foryou.org/classes/baby-sign-language/
ATTACH;FMTTYPE=image/jpeg:https://772foryou.org/wp-content/uploads/2024/06/Baby-Sign-Language.jpg
END:VEVENT
BEGIN:VEVENT
DTSTART;TZID=America/New_York:20240610T110000
DTEND;TZID=America/New_York:20240610T120000
DTSTAMP:20260419T211734
CREATED:20240523T154102Z
LAST-MODIFIED:20240523T154102Z
UID:10006067-1718017200-1718020800@772foryou.org
SUMMARY:Su Segundo Trimestre
DESCRIPTION:El primer trimestre quedó atrás y ahora seguramente ya te sientes mejor. Puede que las náuseas matutinas hayan disminuido y que ahora pienses que ya tienes todo bajo control. El bebé está creciendo rápidamente y es probable que ya tengas una incipiente pancita de embarazada. ¡El segundo trimestre suele ser el periodo más cómodo del embarazo! A pesar de que todavía no sientes ni ves mucho de lo que sucede en tu vientre\, hay bastantes procesos que se están llevando a cabo. En este video\, hablaremos sobre los cambios en tu cuerpo\, el camino del desarrollo del bebé y lo que sucederá en el segundo trimestre.
URL:https://772foryou.org/classes/su-segundo-trimestre-17/
ATTACH;FMTTYPE=image/jpeg:https://772foryou.org/wp-content/uploads/2022/11/second-trimester.jpg
END:VEVENT
BEGIN:VEVENT
DTSTART;TZID=America/New_York:20240610T133000
DTEND;TZID=America/New_York:20240610T143000
DTSTAMP:20260419T211734
CREATED:20240523T154247Z
LAST-MODIFIED:20240523T154247Z
UID:10006068-1718026200-1718029800@772foryou.org
SUMMARY:Your Second Trimester
DESCRIPTION:Your first trimester is now behind you and you are likely feeling better. Morning sickness may have eased up and you may be thinking\, “I’ve got this!” Your baby is growing rapidly\, and you might even be starting to sport a cute little baby bump. The second trimester is often the most comfortable time for a pregnant mom! While you still may not be feeling or seeing much yet\, there is a lot going on in your womb. In this video we’ll talk about how your body is changing\, your baby’s journey in development\, and what you can expect in your second trimester.
URL:https://772foryou.org/classes/your-second-trimester-17/
ATTACH;FMTTYPE=image/jpeg:https://772foryou.org/wp-content/uploads/2022/11/second-trimester.jpg
END:VEVENT
BEGIN:VEVENT
DTSTART;TZID=America/New_York:20240610T150000
DTEND;TZID=America/New_York:20240610T160000
DTSTAMP:20260419T211734
CREATED:20240523T161209Z
LAST-MODIFIED:20240523T224257Z
UID:10006069-1718031600-1718035200@772foryou.org
SUMMARY:Sindrome Del Bebe Sacudido
DESCRIPTION:Has visto historias en las noticias de bebés que los han sacudido y luego han muerto por las lesiones. Muchas pensamos\, ¡”Yo nunca haría eso!”. Muy pocas personas lastimarían a un bebé a propósito\, pero cuando llegas al límite\, las acciones se tornan caóticas y extremas y\, desafortunadamente\, algunos bebés terminan siendo sacudidos de manera violenta.­ Aprende los tres factores de protección necesarios para ti y tu bebé y qué hacer si la situación llega demasiado lejos.
URL:https://772foryou.org/classes/sindrome-del-bebe-sacudido-2/
ATTACH;FMTTYPE=image/jpeg:https://772foryou.org/wp-content/uploads/2022/09/shaken-baby-syndrome.jpg
END:VEVENT
BEGIN:VEVENT
DTSTART;TZID=America/New_York:20240611T173000
DTEND;TZID=America/New_York:20240611T190000
DTSTAMP:20260419T211734
CREATED:20240523T171121Z
LAST-MODIFIED:20240523T171121Z
UID:10006071-1718127000-1718132400@772foryou.org
SUMMARY:Healthy Start-Laboring\, Breathing\, Positioning\, Pushing & Birth
DESCRIPTION:From informed  decision making\, interventions and pain management options and breathing practice…This workshop will help you prepare!
URL:https://772foryou.org/classes/healthy-start-laboring-breathing-positioning-pushing-birth-9/
ATTACH;FMTTYPE=image/jpeg:https://772foryou.org/wp-content/uploads/2022/09/Laboring-Breathing-Pushing.jpeg
END:VEVENT
BEGIN:VEVENT
DTSTART;TZID=America/New_York:20240612T103000
DTEND;TZID=America/New_York:20240612T113000
DTSTAMP:20260419T211734
CREATED:20240523T191306Z
LAST-MODIFIED:20240602T023913Z
UID:10006073-1718188200-1718191800@772foryou.org
SUMMARY:Holidays\, Special Occasions & School-Single Mother
DESCRIPTION:Finding ways to make the holidays and special events about your kids’ experience and not about the schedule is challenging\, but possible. Practical advice and creative alternatives are suggested to help ease the stress for everyone. Kids don’t have a big enough voice to speak up when they are hurting. A school counselor gives us insights regarding the challenges\, troubles\, and concerns that children face after divorce in the context of school. What do kids think about growing up in a divided family? Here are some of the greatest concerns\, challenges\, and authentic responses to “What do you wish you could say to your parents?” Topics include: • coparenting • holidays • special occasions • school • single mother.
URL:https://772foryou.org/classes/holidays-special-occasions-school-single-mother/
ATTACH;FMTTYPE=image/jpeg:https://772foryou.org/wp-content/uploads/2024/06/Holidays-Special-Occasions-School-Single-Mother.jpg
END:VEVENT
BEGIN:VEVENT
DTSTART;TZID=America/New_York:20240612T140000
DTEND;TZID=America/New_York:20240612T150000
DTSTAMP:20260419T211734
CREATED:20240523T191714Z
LAST-MODIFIED:20240602T023939Z
UID:10006074-1718200800-1718204400@772foryou.org
SUMMARY:Parenting Without Shame Ch.3
DESCRIPTION:Do you want to raise your child in shame? Prevent them from having healthy relationships as adults? No\, you don’t! No parent wants this! But before you can break the cycle of shame and change how you parent\, you need to evaluate your responses and reactions to your child’s behavior. Children watch everything we do\, and what we do without realizing they’re watching is powerful! In this lesson\, learn to recognize the shaming response or reaction\, and then learn some great strategies for raising your child without shame. Topics include: • Parenting•Shame •Response and Reaction•Life Lessons•Character•Relationship of Trust •Modeling Behavior•Emotional Intelligence
URL:https://772foryou.org/classes/parenting-without-shame-ch-3/
ATTACH;FMTTYPE=image/jpeg:https://772foryou.org/wp-content/uploads/2024/06/Parenting-without-Shame-Ch.3.jpg
END:VEVENT
BEGIN:VEVENT
DTSTART;TZID=America/New_York:20240613T130000
DTEND;TZID=America/New_York:20240613T143000
DTSTAMP:20260419T211734
CREATED:20240522T153051Z
LAST-MODIFIED:20240613T165253Z
UID:10006052-1718283600-1718289000@772foryou.org
SUMMARY:Healthy Start Moms Group-Village Of Support
DESCRIPTION:Free support group for expectant and current mothers every Thursday of the month from 1:00-2:00 pm. Takes place at A Caring Center For Women
URL:https://772foryou.org/classes/healthy-start-moms-group-village-of-support-31/
ATTACH;FMTTYPE=image/jpeg:https://772foryou.org/wp-content/uploads/2024/04/two-moms-with-daughters.jpeg
END:VEVENT
BEGIN:VEVENT
DTSTART;TZID=America/New_York:20240613T173000
DTEND;TZID=America/New_York:20240613T183000
DTSTAMP:20260419T211734
CREATED:20240523T192011Z
LAST-MODIFIED:20240613T165301Z
UID:10006075-1718299800-1718303400@772foryou.org
SUMMARY:Sexual Behavior & Children
DESCRIPTION:In this video\, we talk about the common sexual behaviors in childhood\, from preschool children up to twelve-year-old kids\, how you should respond to them\, and your important role in shaping your child’s healthy attitudes and behaviors toward sex. Topics include: • parenting • sexual behavior • common sexual behavior • response to sexual behavior • teaching limits • age-appropriate discussion • appropriate terminology • protecting your child.
URL:https://772foryou.org/classes/sexual-behavior-children-2/
ATTACH;FMTTYPE=image/jpeg:https://772foryou.org/wp-content/uploads/2024/06/Sexual-Behavior-Children.jpg
END:VEVENT
BEGIN:VEVENT
DTSTART;TZID=America/New_York:20240614T103000
DTEND;TZID=America/New_York:20240614T113000
DTSTAMP:20260419T211734
CREATED:20240523T192529Z
LAST-MODIFIED:20240613T165310Z
UID:10006076-1718361000-1718364600@772foryou.org
SUMMARY:Meeting & Handling The Handoffs-Single Mother
DESCRIPTION:A well-planned coparenting meeting can be the foundation for healthy communication and provide freedom through compartmentalizing the process of raising kids in two homes. Everything from suggested topics to tone of voice are addressed in this thorough examination of meetings with your child’s other parent. One of the most frequent experiences in coparenting is how mom and dad do transitions between homes. Handling the handoff in an intentional and positive way will protect children from the possible “flashpoint” these moments can become. This creative vignette is set to music and represents the internal pain children can experience when their parents are in conflict. Topics include: • coparenting • single mother • coparent meetings • set boundaries • agree on discipline • setting schedules • finances in divorce • handoffs.
URL:https://772foryou.org/classes/meeting-handling-the-handoffs-single-mother/
ATTACH;FMTTYPE=image/jpeg:https://772foryou.org/wp-content/uploads/2024/06/Meeting-Handling-The-Handoffs-Single-Mother.jpg
END:VEVENT
BEGIN:VEVENT
DTSTART;TZID=America/New_York:20240614T130000
DTEND;TZID=America/New_York:20240614T140000
DTSTAMP:20260419T211734
CREATED:20240523T192803Z
LAST-MODIFIED:20240613T165315Z
UID:10006077-1718370000-1718373600@772foryou.org
SUMMARY:First Time Moms (Pregnant)
DESCRIPTION:Led by Karina\, this support group combines the best of the two worlds of education and emotional wellness. Participants will be journaling on prompts together\, working through a pregnancy milestone log book and learning together as a first time moms. This is a support group with an educational emphasis on self-care\, Karina will be making healthy snacks that are easy to make and tolerable for expectant moms! All supplies will be provided. \n***Please call the center at 772-257-5390 to RSVP\, limited seating***
URL:https://772foryou.org/classes/first-time-moms-pregnant-21/
ATTACH;FMTTYPE=image/png:https://772foryou.org/wp-content/uploads/2022/08/Ultrasound-Copy-5.png
END:VEVENT
BEGIN:VEVENT
DTSTART;TZID=America/New_York:20240617T110000
DTEND;TZID=America/New_York:20240617T120000
DTSTAMP:20260419T211734
CREATED:20240523T193035Z
LAST-MODIFIED:20240617T022312Z
UID:10006078-1718622000-1718625600@772foryou.org
SUMMARY:Su Tercer Trimestre
DESCRIPTION:Te estás aproximando al tercer trimestre y te sientes MUY embarazada. El bebé se agranda y puedes sentir cómo se mueve y patea. ¿Qué sucede ahí adentro? A medida que tu cuerpo cambia para acomodarse al bebé en crecimiento\, tienes más probabilidades de sentirte más cansada\, pero a la vez\, sorpresivamente\, más enérgica.­ ¡¡Tu bebé nacerá pronto!! En este video\, hablaremos sobre los cambios en tu cuerpo\, lo que puede que estés sintiendo\, el camino del desarrollo del bebé y lo que sucederá en el tercer trimestre.
URL:https://772foryou.org/classes/su-tercer-trimestre-17/
ATTACH;FMTTYPE=image/jpeg:https://772foryou.org/wp-content/uploads/2022/08/3rd-Trimester.jpeg
END:VEVENT
BEGIN:VEVENT
DTSTART;TZID=America/New_York:20240617T133000
DTEND;TZID=America/New_York:20240617T143000
DTSTAMP:20260419T211734
CREATED:20240523T193256Z
LAST-MODIFIED:20240613T165324Z
UID:10006079-1718631000-1718634600@772foryou.org
SUMMARY:Your Third Trimester
DESCRIPTION:In this video\, we’ll talk about your changing body\, what you might be feeling\, your baby’s journey in development\, and what you can expect in your third trimester. Topics include: shortness of breath • heartburn • swelling • hemorrhoids • constipation • leg cramps • stretch marks • tender breasts • belly button • insomnia • baby dropping • Braxton-Hicks • emotions • exercise • fever and chills • bleeding • labor • mucus plug • ruptured amniotic sac • signs of labor • fetal movement.
URL:https://772foryou.org/classes/your-third-trimester-12/
ATTACH;FMTTYPE=image/jpeg:https://772foryou.org/wp-content/uploads/2022/08/3rd-Trimester.jpeg
END:VEVENT
BEGIN:VEVENT
DTSTART;TZID=America/New_York:20240617T150000
DTEND;TZID=America/New_York:20240617T160000
DTSTAMP:20260419T211734
CREATED:20240523T193605Z
LAST-MODIFIED:20240613T165329Z
UID:10006080-1718636400-1718640000@772foryou.org
SUMMARY:Second Trimester Expectations
DESCRIPTION:Pregnancy is a unique nine-month experience. Second-Trimester Expectations continues with the stories of Mariah and Tyler\, Laila and Joseph\, and Mikayla and Kyle as they experience their pregnancies in their own unique life situations. You are invited to be a part of their stories as you journey with them and gain new insight about pregnancy from these real-life perspectives. Topics Include: Mariah • Tyler • Laila • Joseph • Mikayla • Kyle • worries • symptoms • medical concerns • moods • worries.
URL:https://772foryou.org/classes/second-trimester-expectations-2/
ATTACH;FMTTYPE=image/jpeg:https://772foryou.org/wp-content/uploads/2024/06/Second-Trimester-Expectations.jpg
END:VEVENT
BEGIN:VEVENT
DTSTART;TZID=America/New_York:20240618T173000
DTEND;TZID=America/New_York:20240618T190000
DTSTAMP:20260419T211734
CREATED:20240523T195515Z
LAST-MODIFIED:20240613T165339Z
UID:10006084-1718731800-1718737200@772foryou.org
SUMMARY:Healthy Start-Baby's Here! What's Normal & What's Not? Basics Of Infant CPR
DESCRIPTION:Practice and learn the basics of CPR. Then\, let’s talk about what’s normal for newborns and mamas in the immediate postpartum period. Know what to expect\, warnings signs\, infant cues and review basic infant  and self care.
URL:https://772foryou.org/classes/healthy-start-babys-here-whats-normal-whats-not-basics-of-infant-cpr-14/
ATTACH;FMTTYPE=image/jpeg:https://772foryou.org/wp-content/uploads/2024/06/Healthy-Start-Babys-Here-Whats-Normal-Whats-Not-Basics-Of-Infant-CPR.jpg
END:VEVENT
BEGIN:VEVENT
DTSTART;TZID=America/New_York:20240619T103000
DTEND;TZID=America/New_York:20240619T113000
DTSTAMP:20260419T211734
CREATED:20240523T200206Z
LAST-MODIFIED:20240613T165345Z
UID:10006085-1718793000-1718796600@772foryou.org
SUMMARY:Lactancia Materna: Destete
DESCRIPTION:breaEn la naturaleza\, las cosas saludables tienden a crecer. Y\, aunque la lactancia materna es una etapa increíble de la vida\, llega el momento de que su hijo dé el siguiente paso en su desarrollo. El destete es el proceso de transición de su hijo de la leche materna a alimentos sólidos. Examinaremos los dos métodos principales de destete: con cuchara y con bebé. Aprenderá los beneficios y desafíos de ambas perspectivas\, junto con consejos útiles de expertos sobre nutrición y experiencias de la vida real de las madres. Los temas incluyen: destete\, cuidado del bebé\, cuchara\, alimentos sólidos\, leche materna\, nutrición\, sensibilidad a los alimentos\, alergias alimentarias\, heces del bebé\, náuseas\, asfixia y hierro
URL:https://772foryou.org/classes/lactancia-materna-destete/
ATTACH;FMTTYPE=image/jpeg:https://772foryou.org/wp-content/uploads/2024/06/Breastfeeding-Weaning.jpg
END:VEVENT
BEGIN:VEVENT
DTSTART;TZID=America/New_York:20240620T100000
DTEND;TZID=America/New_York:20240620T120000
DTSTAMP:20260419T211734
CREATED:20240523T202053Z
LAST-MODIFIED:20240613T165401Z
UID:10006088-1718877600-1718884800@772foryou.org
SUMMARY:Sewing Class/ Clase de Costura
DESCRIPTION:Call the center to save your spot as this is a popular workshop and there are 6 sewing stations available. Come and enjoy two hours of learning how to sew and have fun. Materials will be provided. \nCome and enjoy a different day. Limited spots\, call the center at 772-257-5390 and reserve yours. \nVenga y disfrute de dos horas de aprendizaje de costura y pasar un buen rato agradable. Proveeremos los materiales. \nVenga y tenga un dia diferente. Cupo limitado\, llame al 772-257-5390 para reservar el suyo.
URL:https://772foryou.org/classes/sewing-class-clase-de-costura-28/
ATTACH;FMTTYPE=image/jpeg:https://772foryou.org/wp-content/uploads/2022/09/Sewing-Class.jpg
END:VEVENT
BEGIN:VEVENT
DTSTART;TZID=America/New_York:20240620T130000
DTEND;TZID=America/New_York:20240620T143000
DTSTAMP:20260419T211734
CREATED:20240522T154344Z
LAST-MODIFIED:20240613T165405Z
UID:10006055-1718888400-1718893800@772foryou.org
SUMMARY:Healthy Start Moms Group-Village Of Support
DESCRIPTION:Free support group for expectant and current mothers every Thursday of the month from 1:00-2:00 pm. Takes place at A Caring Center For Women
URL:https://772foryou.org/classes/healthy-start-moms-group-village-of-support-34/
ATTACH;FMTTYPE=image/jpeg:https://772foryou.org/wp-content/uploads/2024/04/two-moms-with-daughters.jpeg
END:VEVENT
BEGIN:VEVENT
DTSTART;TZID=America/New_York:20240621T103000
DTEND;TZID=America/New_York:20240621T113000
DTSTAMP:20260419T211734
CREATED:20240523T203401Z
LAST-MODIFIED:20240613T165415Z
UID:10006090-1718965800-1718969400@772foryou.org
SUMMARY:First Time Moms (After Pregnancy)
DESCRIPTION:Led by Karina\, this support group combines the best of the two worlds of education and emotional wellness. Participants will be journaling on prompts together\, working through infants and toddlers milestones and learning together as a first time moms! \nPlease call the center to RSVP at 772-257-5390
URL:https://772foryou.org/classes/first-time-moms-after-pregnancy-22/
ATTACH;FMTTYPE=image/jpeg:https://772foryou.org/wp-content/uploads/2022/08/sling.jpeg
END:VEVENT
BEGIN:VEVENT
DTSTART;TZID=America/New_York:20240621T130000
DTEND;TZID=America/New_York:20240621T140000
DTSTAMP:20260419T211734
CREATED:20240523T205031Z
LAST-MODIFIED:20240613T165419Z
UID:10006091-1718974800-1718978400@772foryou.org
SUMMARY:Parenting Without Shame Ch. 7
DESCRIPTION:Our emotions are important and valuable to us. And being allowed to own our emotions and express them in a healthy way is one way we feel respected and valued. Children have BIG emotions and can go from excited to sobbing within seconds! Managing those big emotions is something they have to learn. But how do you teach this? Learn why emotional safety is important for kids and the six things you can do to develop that in your child. Topics include: •Parenting•Shame•Emotional Safety•Healthy Discipline•Harsh Discipline•Emotional Intelligence •Listening Skills
URL:https://772foryou.org/classes/parenting-without-shame-ch-7/
ATTACH;FMTTYPE=image/jpeg:https://772foryou.org/wp-content/uploads/2024/06/Parenting-Without-Shame-Ch.-7.jpg
END:VEVENT
BEGIN:VEVENT
DTSTART;TZID=America/New_York:20240624T110000
DTEND;TZID=America/New_York:20240624T120000
DTSTAMP:20260419T211734
CREATED:20240523T205726Z
LAST-MODIFIED:20240613T165424Z
UID:10006092-1719226800-1719230400@772foryou.org
SUMMARY:Moonshot Families/Familias de Moonshot
DESCRIPTION:Join the moonshot families team for a read\, talk\, play\, sing and create engagement. Engage with your child through music and movement in a fun engaging environment. \nUnase al equipo de familias Moonshot para leer\, hablar\, jugar\, cantar y generar participación. Interactúe con su hijo a través de la música y el movimiento en un ambiente divertido y atractivo.
URL:https://772foryou.org/classes/moonshot-families-familias-de-moonshot-3/
ATTACH;FMTTYPE=image/jpeg:https://772foryou.org/wp-content/uploads/2022/08/Parenting-with-Respect.jpeg
END:VEVENT
END:VCALENDAR