BEGIN:VCALENDAR
VERSION:2.0
PRODID:-//A Caring Center For Women - ECPv6.15.20//NONSGML v1.0//EN
CALSCALE:GREGORIAN
METHOD:PUBLISH
X-ORIGINAL-URL:https://772foryou.org
X-WR-CALDESC:Events for A Caring Center For Women
REFRESH-INTERVAL;VALUE=DURATION:PT1H
X-Robots-Tag:noindex
X-PUBLISHED-TTL:PT1H
BEGIN:VTIMEZONE
TZID:America/New_York
BEGIN:DAYLIGHT
TZOFFSETFROM:-0500
TZOFFSETTO:-0400
TZNAME:EDT
DTSTART:20230312T070000
END:DAYLIGHT
BEGIN:STANDARD
TZOFFSETFROM:-0400
TZOFFSETTO:-0500
TZNAME:EST
DTSTART:20231105T060000
END:STANDARD
BEGIN:DAYLIGHT
TZOFFSETFROM:-0500
TZOFFSETTO:-0400
TZNAME:EDT
DTSTART:20240310T070000
END:DAYLIGHT
BEGIN:STANDARD
TZOFFSETFROM:-0400
TZOFFSETTO:-0500
TZNAME:EST
DTSTART:20241103T060000
END:STANDARD
BEGIN:DAYLIGHT
TZOFFSETFROM:-0500
TZOFFSETTO:-0400
TZNAME:EDT
DTSTART:20250309T070000
END:DAYLIGHT
BEGIN:STANDARD
TZOFFSETFROM:-0400
TZOFFSETTO:-0500
TZNAME:EST
DTSTART:20251102T060000
END:STANDARD
END:VTIMEZONE
BEGIN:VEVENT
DTSTART;TZID=America/New_York:20240301T103000
DTEND;TZID=America/New_York:20240301T113000
DTSTAMP:20260420T022626
CREATED:20240215T210311Z
LAST-MODIFIED:20240215T210311Z
UID:10005631-1709289000-1709292600@772foryou.org
SUMMARY:Words Matter-No Words
DESCRIPTION:Parenting is a delicate art\, where actions resonate louder than words. Children are like sponges\, absorbing life’s lessons by watching the adults around them. When a parent’s words align harmoniously with their actions\, it creates a powerful and lasting impact. Consistency and authenticity in behavior build trust\, making it easier for kids to follow the path set before them. Conversely\, when words contradict actions\, confusion reigns\, and the intended lessons lose their potency. Effective parenting blends role modeling\, open communication\, and positive reinforcement to instill values and behaviors that shape children into responsible and empathetic individuals\, poised for a bright future. Topics include: •No words •words •perception •vision •hearing •brain •daily word count •image processor •respect •actions •honesty •social learning theory •Bobo Doll Experiment
URL:https://772foryou.org/classes/words-matter-no-words/
END:VEVENT
BEGIN:VEVENT
DTSTART;TZID=America/New_York:20240301T130000
DTEND;TZID=America/New_York:20240301T140000
DTSTAMP:20260420T022626
CREATED:20240215T214607Z
LAST-MODIFIED:20240215T214607Z
UID:10005839-1709298000-1709301600@772foryou.org
SUMMARY:First Time Moms (Pregnant)
DESCRIPTION:Led by Karina\, this support group combines the best of both worlds of education and emotional wellness. Participants will be journaling on prompts together\, working through a pregnancy milestone log book and learning together as a First Time Moms. This is a support group with an educational emphasis on self care\, Karina will be making healthy snacks that are easy to make and tolerable for expectant moms! All supplies will be provided. \n***Please call the center at 772-257-5390 to RSVP\, limited seating.***
URL:https://772foryou.org/classes/first-time-moms-pregnant-15/
END:VEVENT
BEGIN:VEVENT
DTSTART;TZID=America/New_York:20240304T110000
DTEND;TZID=America/New_York:20240304T120000
DTSTAMP:20260420T022626
CREATED:20240215T225250Z
LAST-MODIFIED:20240215T225250Z
UID:10005841-1709550000-1709553600@772foryou.org
SUMMARY:Su Primer Trimestre
DESCRIPTION:Ya estás embarazada y te preguntas\, ¿y ahora qué? Hay mucho por saber acerca del embarazo\, los cambios que se producen en el cuerpo y el bebé en crecimiento. ¡Pasan muchas cosas durante el primer trimestre! Sentirás cambios en el cuerpo\, en tus emociones y estilo de vida. ¡Tu bebé también empieza a crecer y se convertirá en el pequeño que tendrás en menos de nueve meses! Este video desarrolla el primer trimestre del embarazo y también habla sobre los cambios del bebé durante su desarrollo.
URL:https://772foryou.org/classes/su-primer-trimestre-13/
END:VEVENT
BEGIN:VEVENT
DTSTART;TZID=America/New_York:20240304T133000
DTEND;TZID=America/New_York:20240304T143000
DTSTAMP:20260420T022626
CREATED:20240219T163705Z
LAST-MODIFIED:20240219T163705Z
UID:10005842-1709559000-1709562600@772foryou.org
SUMMARY:Your First Trimester
DESCRIPTION:This video looks at pregnancy in the first trimester and discusses your baby’s journey in development. Topics include: • physical symptoms • pregnancy • symptoms • morning sickness • tiredness • breast tenderness • headaches • constipation • weight gain • back pain • emotional symptoms • moodiness • stress • heavy cramping • dehydration • bleeding • diet • caffeine • prenatal vitamins • exercise • sex • smoking • alcohol • fetal development.
URL:https://772foryou.org/classes/your-first-trimester-13/
END:VEVENT
BEGIN:VEVENT
DTSTART;TZID=America/New_York:20240304T150000
DTEND;TZID=America/New_York:20240304T160000
DTSTAMP:20260420T022626
CREATED:20240219T164026Z
LAST-MODIFIED:20240219T164026Z
UID:10005843-1709564400-1709568000@772foryou.org
SUMMARY:Time With Your Toddler
DESCRIPTION:The time you spend with your toddler is so important\, and it is over so fast. Blink\, and they’ll be in preschool! It may feel like you spend most of your time taking care of their needs\, cleaning up their messes\, and kissing their boo-boos. But the time you spend with them\, even if you work outside the home\, gives them exactly what they need! In this video\, we talk about four important areas to develop in your parenting that will give you the most impact with the time you have. Topics include: • toddler • time • personality • emotional intensity • sensory reactivity • activity level • adaptability • persistence • independence • teaching • limits • new emotions.
URL:https://772foryou.org/classes/time-with-your-toddler/
END:VEVENT
BEGIN:VEVENT
DTSTART;TZID=America/New_York:20240305T110000
DTEND;TZID=America/New_York:20240305T120000
DTSTAMP:20260420T022626
CREATED:20240219T164700Z
LAST-MODIFIED:20240219T164700Z
UID:10005844-1709636400-1709640000@772foryou.org
SUMMARY:Cuidado Infantil Simple
DESCRIPTION:Este video le proporcionará a las madres la información correspondiente a una variedad de asuntos poco habituales que son relevantes para el bienestar del niño. Algunos de estos incluyen cómo sostener a un recién nacido\, técnicas para calmar al bebé cuando llora\, colecho\, sacar eructos\, andadores\, chupones y más. Cada sección se basa en investigaciones y recomendaciones profesionales realizadas por destacadas organizaciones médicas. Luego de observar este video\, los padres primerizos serán capaces de tomar decisiones informadas con conocimiento de causa respecto a cada asunto relacionado al cuidado de sus recién nacidos.
URL:https://772foryou.org/classes/cuidado-infantil-simple-4/
END:VEVENT
BEGIN:VEVENT
DTSTART;TZID=America/New_York:20240305T173000
DTEND;TZID=America/New_York:20240305T183000
DTSTAMP:20260420T022626
CREATED:20240219T165440Z
LAST-MODIFIED:20240219T170118Z
UID:10005845-1709659800-1709663400@772foryou.org
SUMMARY:Healthy Start-Labor Signs & Is It Time?
DESCRIPTION:Let’s discuss signs of labor and birthing your baby! Planning and preparing for the big day will alleviate anxiety and contribute to a more positive birth experience. We will highlight the important role of a support person\, practice breathing and more.
URL:https://772foryou.org/classes/healthy-start-labor-signs-is-it-time-3/
END:VEVENT
BEGIN:VEVENT
DTSTART;TZID=America/New_York:20240306T103000
DTEND;TZID=America/New_York:20240306T113000
DTSTAMP:20260420T022626
CREATED:20240219T170434Z
LAST-MODIFIED:20240219T170434Z
UID:10005846-1709721000-1709724600@772foryou.org
SUMMARY:Expectativas  Del Niño De 6-9 Meses
DESCRIPTION:“Tienes cerebro en la cabeza\, tienes pies en los zapatos. Puedes encaminarte hacia cualquier dirección que elijas”. Y tal como indica Dr. Seuss\, ¡su bebé está descubriendo su movilidad! Está comenzando a moverse por sí mismo y a interactuar con su familia y otras personas conocidas de su entorno. ¡Su cerebro crece muy rápido y aprenden mucho! ¡En este video hablaremos sobre el desarrollo del cerebro de su bebé y los logros que lo verá alcanzar a los seis meses!
URL:https://772foryou.org/classes/expectativas-del-nino-de-6-9-meses/
END:VEVENT
BEGIN:VEVENT
DTSTART;TZID=America/New_York:20240306T123000
DTEND;TZID=America/New_York:20240306T133000
DTSTAMP:20260420T022626
CREATED:20240219T170652Z
LAST-MODIFIED:20240219T170652Z
UID:10005847-1709728200-1709731800@772foryou.org
SUMMARY:Infant Expectations: 6-9  Months
DESCRIPTION:You have brains in your head and feet in your shoes. You can steer yourself in any direction you choose. And just as Dr. Seuss suggests\, your baby is discovering their mobility! They’re beginning to move around on their own and interact with their family and other familiar people in their lives. Their brains are developing so quickly\, and they’re learning so much! In this video\, we talk about your baby’s brain development and the milestones you’ll see them hitting by nine months!
URL:https://772foryou.org/classes/infant-expectations-6-9-months-2/
END:VEVENT
BEGIN:VEVENT
DTSTART;TZID=America/New_York:20240306T140000
DTEND;TZID=America/New_York:20240306T150000
DTSTAMP:20260420T022626
CREATED:20240219T170941Z
LAST-MODIFIED:20240219T170941Z
UID:10005848-1709733600-1709737200@772foryou.org
SUMMARY:Simple Infant Care
DESCRIPTION:This video will provide mothers with information on a variety of less-common subjects that are important to the well-being of their children. Some of these include how to hold a newborn\, techniques for soothing a crying baby\, bed sharing\, burping\, infant walkers\, pacifiers\, and more. Each section is based on research and professional recommendations by leading medical organizations. After watching this video\, new parents will be able to make informed and study-based choices in each subject for the care of their newborns. Topics include: newborn • bed-sharing • co-sleeping • SIDS • sudden infant death syndrome • room-sharing • crying • crying checklist • crying spells • soothing • swaddling • skin-to-skin • pacifier • burping • spit up • vomiting • holding • supporting neck • infant carriers • check carrier • back carrier • car seat carriers • infant walkers • dressing infant.
URL:https://772foryou.org/classes/simple-infant-care-5/
END:VEVENT
BEGIN:VEVENT
DTSTART;TZID=America/New_York:20240307T100000
DTEND;TZID=America/New_York:20240307T120000
DTSTAMP:20260420T022626
CREATED:20240219T171720Z
LAST-MODIFIED:20240219T171720Z
UID:10005849-1709805600-1709812800@772foryou.org
SUMMARY:Sewing Class/ Clase de Costura
DESCRIPTION:Call the center to save your spot as this is a popular workshop and there are 6 sewing stations available. Come and enjoy two hours of learning how to sew and have fun. Materials will be provided. \nCome and enjoy a different day. Limited spots call and reserve yours at 772-257-5390 \nVenga y disfrute de dos horas de aprendizaje de costura y pasar un buen rato agradable. Proveeremos todos los materiales. \nVenga y tenga un dia diferente. Cupo limitado\, llame para reservar el suyo al 772-257-5390
URL:https://772foryou.org/classes/sewing-class-clase-de-costura-22/
END:VEVENT
BEGIN:VEVENT
DTSTART;TZID=America/New_York:20240307T130000
DTEND;TZID=America/New_York:20240307T143000
DTSTAMP:20260420T022626
CREATED:20240219T172239Z
LAST-MODIFIED:20240417T175757Z
UID:10005850-1709816400-1709821800@772foryou.org
SUMMARY:Healthy Start Moms Group-Village Of Support
DESCRIPTION:Free support group for expectant and current mothers every Thursday of the Month from 1:00 to 2:30 pm. Takes place at A Caring Center for Women.
URL:https://772foryou.org/classes/healthy-start-moms-group-village-of-support-26/
END:VEVENT
BEGIN:VEVENT
DTSTART;TZID=America/New_York:20240307T173000
DTEND;TZID=America/New_York:20240307T183000
DTSTAMP:20260420T022626
CREATED:20240219T200141Z
LAST-MODIFIED:20240219T200141Z
UID:10005851-1709832600-1709836200@772foryou.org
SUMMARY:Teething Time
DESCRIPTION:Most babies will develop teeth between six and twelve months of age. Teeth are an important part of a child’s health and development. In this lesson\, you will learn the physical effects of teething. We will discuss teething and breastfeeding and the do’s and don’ts of soothing a child during this phase. Topics include: • teething • teething necklaces • teething bracelets • teething beads • teething rings • benzocaine • belladonna • breastfeeding • soothing teething pain • drooling • fussiness • fever • loss of appetite.
URL:https://772foryou.org/classes/teething-time-2/
END:VEVENT
BEGIN:VEVENT
DTSTART;TZID=America/New_York:20240308T103000
DTEND;TZID=America/New_York:20240308T113000
DTSTAMP:20260420T022626
CREATED:20240219T201012Z
LAST-MODIFIED:20240219T201012Z
UID:10005852-1709893800-1709897400@772foryou.org
SUMMARY:Mommy & Me Workout
DESCRIPTION:Join us for a small group 40 minutes full body workout session where you can bring your mini & me connect with other moms. No equipment is needed! Just bring a water bottle and your good vibes! Modification will be provided for each exercise to accommodate every mom.
URL:https://772foryou.org/classes/mommy-me-workout/
END:VEVENT
BEGIN:VEVENT
DTSTART;TZID=America/New_York:20240308T130000
DTEND;TZID=America/New_York:20240308T140000
DTSTAMP:20260420T022626
CREATED:20240219T204400Z
LAST-MODIFIED:20240219T204400Z
UID:10005853-1709902800-1709906400@772foryou.org
SUMMARY:First Time Moms (After Pregnancy)
DESCRIPTION:Led by Karina\, this support group combines the best of both worlds of education and emotional wellness. Participants will be journaling on prompts together\, working through a pregnancy milestone log book and learning together as a First Time Moms. This is a support group with an educational emphasis on self care\, Karina will be making healthy snacks that are easy to make and tolerable for expectant moms! All supplies will be provided. \n***Please call the center at 772-257-5390 to RSVP\, limited seating***
URL:https://772foryou.org/classes/first-time-moms-after-pregnancy-15/
END:VEVENT
BEGIN:VEVENT
DTSTART;TZID=America/New_York:20240311T110000
DTEND;TZID=America/New_York:20240311T120000
DTSTAMP:20260420T022626
CREATED:20240219T204917Z
LAST-MODIFIED:20240219T204917Z
UID:10005854-1710154800-1710158400@772foryou.org
SUMMARY:Su Segundo Trimestre
DESCRIPTION:El primer trimestre quedó atrás y ahora seguramente ya te sientes mejor. Puede que las náuseas matutinas hayan disminuido y que ahora pienses que ya tienes todo bajo control. El bebé está creciendo rápidamente y es probable que ya tengas una incipiente pancita de embarazada. ¡El segundo trimestre suele ser el periodo más cómodo del embarazo! A pesar de que todavía no sientes ni ves mucho de lo que sucede en tu vientre\, hay bastantes procesos que se están llevando a cabo. En este video\, hablaremos sobre los cambios en tu cuerpo\, el camino del desarrollo del bebé y lo que sucederá en el segundo trimestre.
URL:https://772foryou.org/classes/su-segundo-trimestre-14/
END:VEVENT
BEGIN:VEVENT
DTSTART;TZID=America/New_York:20240311T133000
DTEND;TZID=America/New_York:20240311T143000
DTSTAMP:20260420T022626
CREATED:20240219T205329Z
LAST-MODIFIED:20240219T205329Z
UID:10005855-1710163800-1710167400@772foryou.org
SUMMARY:Your Second  Trimester
DESCRIPTION:Your first trimester is now behind you and you are likely feeling better. Morning sickness may have eased up and you may be thinking\, “I’ve got this!” Your baby is growing rapidly\, and you might even be starting to sport a cute little baby bump. The second trimester is often the most comfortable time for a pregnant mom! While you still may not be feeling or seeing much yet\, there is a lot going on in your womb. In this video we’ll talk about how your body is changing\, your baby’s journey in development\, and what you can expect in your second trimester.
URL:https://772foryou.org/classes/your-second-trimester-14/
END:VEVENT
BEGIN:VEVENT
DTSTART;TZID=America/New_York:20240311T150000
DTEND;TZID=America/New_York:20240311T160000
DTSTAMP:20260420T022626
CREATED:20240219T205701Z
LAST-MODIFIED:20240219T205701Z
UID:10005856-1710169200-1710172800@772foryou.org
SUMMARY:Bonding With Your Toddler
DESCRIPTION:Raising confident and happy kids is really hard work! And even though parents don’t always do everything right\, at the core is the bond they forge with their children. It begins early in infancy and grows throughout their lives. But how do you do it? In this video\, we’ll talk about what it means to bond with your toddler and why it’s crucial for every parent to work at this relationship. We’ll also show you four simple ways to help develop this relationship and some fun things every parent can do to get closer to their toddler. Topics include: • bonding • toddler • three-minute rule • safe haven • available • consistent • empathetic • team • attachment • play • sing • read.
URL:https://772foryou.org/classes/bonding-with-your-toddler-6/
END:VEVENT
BEGIN:VEVENT
DTSTART;TZID=America/New_York:20240312T110000
DTEND;TZID=America/New_York:20240312T120000
DTSTAMP:20260420T022626
CREATED:20240219T205958Z
LAST-MODIFIED:20240219T205958Z
UID:10005857-1710241200-1710244800@772foryou.org
SUMMARY:Tiempo con Tu Niño Pequeño
DESCRIPTION:El tiempo que pasa con su niño pequeño es muy importante y se acaba muy rápido. ¡Parpadea y estarán en preescolar! Puede parecer que pasa la mayor parte de su tiempo ocupándose de sus necesidades\, limpiando su desorden y besando sus búhos. Pero el tiempo que pasa con ellos\, incluso si trabaja fuera de casa\, les da exactamente lo que necesitan. En este video\, hablamos de cuatro áreas importantes a desarrollar en su crianza para poder darle el mayor impacto con el tiempo que tiene.
URL:https://772foryou.org/classes/tiempo-con-tu-nino-pequeno/
END:VEVENT
BEGIN:VEVENT
DTSTART;TZID=America/New_York:20240312T143000
DTEND;TZID=America/New_York:20240312T153000
DTSTAMP:20260420T022626
CREATED:20240219T210242Z
LAST-MODIFIED:20240219T210242Z
UID:10005858-1710253800-1710257400@772foryou.org
SUMMARY:L & D: Getting Ready
DESCRIPTION:In this video\, we’ll talk about three important things you need to know as you approach your baby’s birth: 1. How childbirth works\, including why you have pain in labor; 2. The five clues that tell you labor is here; 3. The four stages of labor and what to expect in each. You can do this\, and we’re going to help you! And when it’s all over\, you’ll be so proud of what you’ve accomplished in giving birth. Topics include: • pain • childbirth • signs of labor • lightening • lose mucus plug • water breaking • lower back and belly pain • labor contractions • timing contractions • preterm labor • stages of labor • early or latent phase • crowning • active phase • transition phase • pushing and delivery • expelling the placenta • postpartum period • Braxton-Hicks.
URL:https://772foryou.org/classes/l-d-getting-ready-2/
END:VEVENT
BEGIN:VEVENT
DTSTART;TZID=America/New_York:20240312T173000
DTEND;TZID=America/New_York:20240312T183000
DTSTAMP:20260420T022626
CREATED:20240219T211324Z
LAST-MODIFIED:20240219T211324Z
UID:10005859-1710264600-1710268200@772foryou.org
SUMMARY:After  Abortion Support Group
DESCRIPTION:Led by Tiffany\, experienced advocate and ultrasound tech\, this group will walk you through the 6 “Keys Healing” after abortion experiences. Whether it has been less than a few weeks or it has been decades since you experienced abortion\, Tiffany understands how you feel and is here to confidentially offer you a path towards healing.
URL:https://772foryou.org/classes/after-abortion-support-group-13/
END:VEVENT
BEGIN:VEVENT
DTSTART;TZID=America/New_York:20240313T103000
DTEND;TZID=America/New_York:20240313T113000
DTSTAMP:20260420T022626
CREATED:20240220T165023Z
LAST-MODIFIED:20240307T211744Z
UID:10005861-1710325800-1710329400@772foryou.org
SUMMARY:Preparándose Para El Parto
DESCRIPTION:Perdonen la inconveniencia pero la clase ha sido cancelada. Gracias por su comprensión
URL:https://772foryou.org/classes/preparandose-para-el-parto/
END:VEVENT
BEGIN:VEVENT
DTSTART;TZID=America/New_York:20240313T123000
DTEND;TZID=America/New_York:20240313T133000
DTSTAMP:20260420T022626
CREATED:20240220T170141Z
LAST-MODIFIED:20240220T171031Z
UID:10005862-1710333000-1710336600@772foryou.org
SUMMARY:Plagiocephaly (Flattening  Of Head  prevention)
DESCRIPTION:Flat head syndrome describes an atypical head shape that develops during baby’s first year of life. The medical terms ‘ positional plagiocephaly’ and ‘brachycephaly’ describe the location of the flatness. \nCome and learn about Plagiocephaly (Flat head) prevention and all the information.
URL:https://772foryou.org/classes/plagiocephaly-flattening-of-head-prevention/
END:VEVENT
BEGIN:VEVENT
DTSTART;TZID=America/New_York:20240313T140000
DTEND;TZID=America/New_York:20240313T150000
DTSTAMP:20260420T022626
CREATED:20240220T172228Z
LAST-MODIFIED:20240220T172228Z
UID:10005863-1710338400-1710342000@772foryou.org
SUMMARY:Preventing Child Sexual Abuse
DESCRIPTION:This video answers these questions and takes a close look at what child sexual abuse is\, how to teach your children to be safe\, how parents can spot potentially unsafe situations for their children\, and what you should do if you suspect your child was abused. Topics include: • third trimester • any time after birth • laws • sexual fondling • oral sex • intercourse • peeping • flashing • pornography • ”stranger danger” • risks • dating • red flags • behavioral signs • grooming • communication • boundaries • secrets • sleepovers • reporting.
URL:https://772foryou.org/classes/preventing-child-sexual-abuse-4/
END:VEVENT
BEGIN:VEVENT
DTSTART;TZID=America/New_York:20240314T110000
DTEND;TZID=America/New_York:20240314T120000
DTSTAMP:20260420T022626
CREATED:20240220T175842Z
LAST-MODIFIED:20240220T175842Z
UID:10005864-1710414000-1710417600@772foryou.org
SUMMARY:How To Set Healthy Boundaries-CILO
DESCRIPTION:
URL:https://772foryou.org/classes/how-to-set-healthy-boundaries-cilo-2/
END:VEVENT
BEGIN:VEVENT
DTSTART;TZID=America/New_York:20240314T160000
DTEND;TZID=America/New_York:20240314T170000
DTSTAMP:20260420T022626
CREATED:20240220T180202Z
LAST-MODIFIED:20240220T180202Z
UID:10005865-1710432000-1710435600@772foryou.org
SUMMARY:Dormir\, Hora De Acostarse Y Dormir
DESCRIPTION:Los coloca en la cama y vuelven a levantarse. Hambriento\, sediento\, solo\, sin estar cansado… ¿cómo los mantiene en la cama? Los niños pequeños no quieren perderse nada y\, a menudo\, las siestas y la hora de dormir se convierten en un conflicto de voluntades. Puede llevar a un niño pequeño a la cama\, pero ¿cómo hacer para que se quede allí? ¿Cuánto sueño necesitan y cuántas siestas deben tomar? ¿Cuál es un buen horario de sueño y cómo lo logra? Este video responde a estas preguntas y ofrece soluciones para algunos de los desafíos de sueño más comunes que tiene un niño pequeño para que todos tengan una noche de descanso placentera.
URL:https://772foryou.org/classes/dormir-hora-de-acostarse-y-dormir/
END:VEVENT
BEGIN:VEVENT
DTSTART;TZID=America/New_York:20240314T173000
DTEND;TZID=America/New_York:20240314T183000
DTSTAMP:20260420T022626
CREATED:20240220T180441Z
LAST-MODIFIED:20240220T180441Z
UID:10005866-1710437400-1710441000@772foryou.org
SUMMARY:Sleeping\, Bedtime & Mornings
DESCRIPTION:You put them to bed\, and they’re back up again. Hungry\, thirsty\, lonely\, not tired…how do you keep them in bed? Toddlers don’t want to miss out on anything and often naps and bedtimes become a class of wills. You can lead a toddler to bed\, but how do you make them stay there? How much sleep do they need\, and how many naps must they take? What does a good sleep schedule look like\, and how do you achieve it? This video answers these questions and offers solutions for some of the most common sleep challenges a toddler has so that everyone gets a blissful night’s rest! Topics include: •Toddler •Bedtime •Sleep Schedule •Nighttime Sleep • Daily Naps •Routines
URL:https://772foryou.org/classes/sleeping-bedtime-mornings-3/
END:VEVENT
BEGIN:VEVENT
DTSTART;TZID=America/New_York:20240315T103000
DTEND;TZID=America/New_York:20240315T113000
DTSTAMP:20260420T022626
CREATED:20240220T180726Z
LAST-MODIFIED:20240220T180726Z
UID:10005867-1710498600-1710502200@772foryou.org
SUMMARY:Preventing Child Sexual Abuse
DESCRIPTION:This video answers these questions and takes a close look at what child sexual abuse is\, how to teach your children to be safe\, how parents can spot potentially unsafe situations for their children\, and what you should do if you suspect your child was abused. Topics include: • third trimester • any time after birth • laws • sexual fondling • oral sex • intercourse • peeping • flashing • pornography • ”stranger danger” • risks • dating • red flags • behavioral signs • grooming • communication • boundaries • secrets • sleepovers • reporting.
URL:https://772foryou.org/classes/preventing-child-sexual-abuse-5/
END:VEVENT
BEGIN:VEVENT
DTSTART;TZID=America/New_York:20240315T130000
DTEND;TZID=America/New_York:20240315T140000
DTSTAMP:20260420T022626
CREATED:20240220T191229Z
LAST-MODIFIED:20240220T191229Z
UID:10005868-1710507600-1710511200@772foryou.org
SUMMARY:First Time Moms (Pregnant)
DESCRIPTION:Led by Karina\, this support group combines the best of both worlds of education and emotional wellness. Participants will be journaling on prompts together\, working through a pregnancy milestone log book and learning together as a First Time Moms. This is a support group with an educational emphasis on self care\, Karina will be making healthy snacks that are easy to make and tolerable for expectant moms! All supplies will be provided. \n***Please call the center at 772-257-5390 to RSVP\, limited seating***
URL:https://772foryou.org/classes/first-time-moms-pregnant-16/
END:VEVENT
BEGIN:VEVENT
DTSTART;TZID=America/New_York:20240318T110000
DTEND;TZID=America/New_York:20240318T120000
DTSTAMP:20260420T022626
CREATED:20240220T192146Z
LAST-MODIFIED:20240220T192146Z
UID:10005869-1710759600-1710763200@772foryou.org
SUMMARY:Su Tercer Trimestre
DESCRIPTION:Te estás aproximando al tercer trimestre y te sientes MUY embarazada. El bebé se agranda y puedes sentir cómo se mueve y patea. ¿Qué sucede ahí adentro? A medida que tu cuerpo cambia para acomodarse al bebé en crecimiento\, tienes más probabilidades de sentirte más cansada\, pero a la vez\, sorpresivamente\, más enérgica.­ ¡¡Tu bebé nacerá pronto!! En este video\, hablaremos sobre los cambios en tu cuerpo\, lo que puede que estés sintiendo\, el camino del desarrollo del bebé y lo que sucederá en el tercer trimestre.
URL:https://772foryou.org/classes/su-tercer-trimestre-14/
END:VEVENT
END:VCALENDAR