BEGIN:VCALENDAR
VERSION:2.0
PRODID:-//A Caring Center For Women - ECPv6.15.20//NONSGML v1.0//EN
CALSCALE:GREGORIAN
METHOD:PUBLISH
X-ORIGINAL-URL:https://772foryou.org
X-WR-CALDESC:Events for A Caring Center For Women
REFRESH-INTERVAL;VALUE=DURATION:PT1H
X-Robots-Tag:noindex
X-PUBLISHED-TTL:PT1H
BEGIN:VTIMEZONE
TZID:America/New_York
BEGIN:DAYLIGHT
TZOFFSETFROM:-0500
TZOFFSETTO:-0400
TZNAME:EDT
DTSTART:20230312T070000
END:DAYLIGHT
BEGIN:STANDARD
TZOFFSETFROM:-0400
TZOFFSETTO:-0500
TZNAME:EST
DTSTART:20231105T060000
END:STANDARD
BEGIN:DAYLIGHT
TZOFFSETFROM:-0500
TZOFFSETTO:-0400
TZNAME:EDT
DTSTART:20240310T070000
END:DAYLIGHT
BEGIN:STANDARD
TZOFFSETFROM:-0400
TZOFFSETTO:-0500
TZNAME:EST
DTSTART:20241103T060000
END:STANDARD
BEGIN:DAYLIGHT
TZOFFSETFROM:-0500
TZOFFSETTO:-0400
TZNAME:EDT
DTSTART:20250309T070000
END:DAYLIGHT
BEGIN:STANDARD
TZOFFSETFROM:-0400
TZOFFSETTO:-0500
TZNAME:EST
DTSTART:20251102T060000
END:STANDARD
END:VTIMEZONE
BEGIN:VEVENT
DTSTART;TZID=America/New_York:20240102T110000
DTEND;TZID=America/New_York:20240102T120000
DTSTAMP:20260420T054648
CREATED:20231205T203239Z
LAST-MODIFIED:20231205T203244Z
UID:10005731-1704193200-1704196800@772foryou.org
SUMMARY:15-18 Months Milestones
DESCRIPTION:These videos cover the milestones your child will be hitting between fifteen and eighteen months\, the abilities he will be acquiring as he moves toward independence\, and when to call your medical provider if problems occur. Topics include: • milestones • 15–18 months • cognitive development • language development • speech development • social development • emotional development • physical development • toddler • critical thinking • toddler’s personality • big movement skills • fine movements.
URL:https://772foryou.org/classes/15-18-months-milestones-5/
END:VEVENT
BEGIN:VEVENT
DTSTART;TZID=America/New_York:20240102T143000
DTEND;TZID=America/New_York:20240102T153000
DTSTAMP:20260420T054648
CREATED:20231205T204000Z
LAST-MODIFIED:20231205T204000Z
UID:10005732-1704205800-1704209400@772foryou.org
SUMMARY:Bonding with Your Toddler
DESCRIPTION:In this video\, we’ll talk about what it means to bond with your toddler and why it’s crucial for every parent to work at this relationship. We’ll also show you four simple ways to help develop this relationship and some fun things every parent can do to get closer to their toddler. Topics include: • bonding • toddler • three-minute rule • safe haven • available • consistent • empathetic • team • attachment • play • sing
URL:https://772foryou.org/classes/bonding-with-your-toddler-2/
END:VEVENT
BEGIN:VEVENT
DTSTART;TZID=America/New_York:20240102T173000
DTEND;TZID=America/New_York:20240102T183000
DTSTAMP:20260420T054648
CREATED:20231205T204709Z
LAST-MODIFIED:20231205T204709Z
UID:10005733-1704216600-1704220200@772foryou.org
SUMMARY:You Are In Control
DESCRIPTION:Taking a birth class is a great way to prepare for the labor and delivery you’ll soon be experiencing. When it comes to your child’s birth\, you are in control. It will affect your physical\, emotional\, mental\, and spiritual health. For this reason\, you’ll want to give careful thought to planning your birth. This first course will discuss the BrightBirth plan\, labor expectations\, and finish up by talking about your support team.
URL:https://772foryou.org/classes/you-are-in-control-4/
END:VEVENT
BEGIN:VEVENT
DTSTART;TZID=America/New_York:20240103T103000
DTEND;TZID=America/New_York:20240103T113000
DTSTAMP:20260420T054648
CREATED:20231205T205003Z
LAST-MODIFIED:20231205T205003Z
UID:10005734-1704277800-1704281400@772foryou.org
SUMMARY:Entendiendo el Embarazo-Version  Rapida
DESCRIPTION:
URL:https://772foryou.org/classes/entendiendo-el-embarazo-version-rapida/
END:VEVENT
BEGIN:VEVENT
DTSTART;TZID=America/New_York:20240103T123000
DTEND;TZID=America/New_York:20240103T133000
DTSTAMP:20260420T054648
CREATED:20231205T205256Z
LAST-MODIFIED:20231205T205256Z
UID:10005735-1704285000-1704288600@772foryou.org
SUMMARY:Understanding Pregnancy Express
DESCRIPTION:
URL:https://772foryou.org/classes/understanding-pregnancy-express/
END:VEVENT
BEGIN:VEVENT
DTSTART;TZID=America/New_York:20240103T140000
DTEND;TZID=America/New_York:20240103T150000
DTSTAMP:20260420T054648
CREATED:20231205T205849Z
LAST-MODIFIED:20231205T205849Z
UID:10005739-1704290400-1704294000@772foryou.org
SUMMARY:Creating Kindness
DESCRIPTION:We want our kids to help old ladies cross the street\, serve meals to the poor\, and befriend lonely kids at school. But how can we teach them to be kind? Where does kindness come from? This video gives tips on finding those teachable moments in everyday life where we can guide our children to choose kindness\, and how we can model this value from our own interactions with them to encourage their hearts. Topics include: • parenting • creating kindness • teaching • empathy • communication • random acts of kindness.
URL:https://772foryou.org/classes/creating-kindness/
END:VEVENT
BEGIN:VEVENT
DTSTART;TZID=America/New_York:20240104T100000
DTEND;TZID=America/New_York:20240104T120000
DTSTAMP:20260420T054648
CREATED:20231205T210120Z
LAST-MODIFIED:20231205T211314Z
UID:10005741-1704362400-1704369600@772foryou.org
SUMMARY:Sewing Class/  Clase de Costura
DESCRIPTION:Call the Center to save your spot as this is a popular workshop and there are 6 sewing stations available. Come and enjoy two hours of learning how to sew and have fun. Materials will be provided. \nVenga y disfrute de dos horas de aprendizaje de costura y pasar un buen rato agradable. Proveeremos todos los materiales. \nCome & Enjoy a different day. \nVenga y Disfrute un dia diferente. \n***Limited spots\, call and reserve yours at 772-257-5390*** \n***Cupo limitado\, llame para reservar el  suyo al 772-257-5390***
URL:https://772foryou.org/classes/sewing-class-clase-de-costura-18/
END:VEVENT
BEGIN:VEVENT
DTSTART;TZID=America/New_York:20240104T130000
DTEND;TZID=America/New_York:20240104T143000
DTSTAMP:20260420T054648
CREATED:20231205T211821Z
LAST-MODIFIED:20231219T220016Z
UID:10005742-1704373200-1704378600@772foryou.org
SUMMARY:Healthy Start Moms Group-Village Of Support
DESCRIPTION:Free support group for expectant and current mothers every Thursday of the month from 1:00 pm to 2:30 pm. Takes place at a Caring Center for Women.
URL:https://772foryou.org/classes/healthy-start-moms-group-village-of-support-24/
END:VEVENT
BEGIN:VEVENT
DTSTART;TZID=America/New_York:20240104T153000
DTEND;TZID=America/New_York:20240104T163000
DTSTAMP:20260420T054648
CREATED:20231207T192316Z
LAST-MODIFIED:20231221T221134Z
UID:10005561-1704382200-1704385800@772foryou.org
SUMMARY:Canceled-Healing & Empowerment  Workshop
DESCRIPTION:Sorry for the inconvenience but class has been cancelled per instructor. Thank you for the understanding.
URL:https://772foryou.org/classes/healing-empowerment-workshop/
END:VEVENT
BEGIN:VEVENT
DTSTART;TZID=America/New_York:20240104T170000
DTEND;TZID=America/New_York:20240104T190000
DTSTAMP:20260420T054648
CREATED:20231205T213103Z
LAST-MODIFIED:20240417T181902Z
UID:10005746-1704387600-1704394800@772foryou.org
SUMMARY:DadUp
DESCRIPTION:DadUp is a fatherhood initiative that empowers fathers/ father figures to establish\, re-establish or strengthen the relationship between their children & themselves. In addition to weekly group & 1 on 1 sessions\, DadUp offers the information\, resources & other support services to expectant & new dads. \nWeekly session group starts at 5:00pm-5:30pm refreshment served; 5:30pm-7:00pm group session. \nCall to reserve your spot for the Thursday group or to speak with the Fatherhood Program Director\, Shamus Gordon\, text or call at 772-282-8407.
URL:https://772foryou.org/classes/dadup-5/
END:VEVENT
BEGIN:VEVENT
DTSTART;TZID=America/New_York:20240105T103000
DTEND;TZID=America/New_York:20240105T113000
DTSTAMP:20260420T054648
CREATED:20231205T213552Z
LAST-MODIFIED:20231212T192510Z
UID:10005749-1704450600-1704454200@772foryou.org
SUMMARY:Mommy & Me
DESCRIPTION:Join us for a small group 40 minute full body workout session where you can bring your mini me & connect with other mom’s. No equipment is needed! Just bring a water bottle and your good vibes!\nModifications will be provided for each exercise to accommodate every mom.
URL:https://772foryou.org/classes/mommy-me-5/
END:VEVENT
BEGIN:VEVENT
DTSTART;TZID=America/New_York:20240105T130000
DTEND;TZID=America/New_York:20240105T140000
DTSTAMP:20260420T054648
CREATED:20231205T214338Z
LAST-MODIFIED:20231205T214338Z
UID:10005750-1704459600-1704463200@772foryou.org
SUMMARY:First Time Moms (Pregnant)
DESCRIPTION:Led by Karina\, this support group combines the best of both worlds of education & emotional wellness. Participants will be journaling on prompts together\, working through a pregnancy milestone log book & learning together as a First Time Moms. This is a support group with an educational emphasis on self care\, Karina will be making healthy snacks that are easy to make and tolerable for expectant moms! All supplies will be provided. \n***Please call the Center to RSVP\, limited seating 772-257-5390***
URL:https://772foryou.org/classes/first-time-moms-pregnant-11/
END:VEVENT
BEGIN:VEVENT
DTSTART;TZID=America/New_York:20240108T110000
DTEND;TZID=America/New_York:20240108T120000
DTSTAMP:20260420T054648
CREATED:20231205T215433Z
LAST-MODIFIED:20231205T215433Z
UID:10005751-1704711600-1704715200@772foryou.org
SUMMARY:Su Primer Trimestre
DESCRIPTION:Ya estás embarazada y te preguntas\, ¿y ahora qué? Hay mucho por saber acerca del embarazo\, los cambios que se producen en el cuerpo y el bebé en crecimiento. ¡Pasan muchas cosas durante el primer trimestre! Sentirás cambios en el cuerpo\, en tus emociones y estilo de vida. ¡Tu bebé también empieza a crecer y se convertirá en el pequeño que tendrás en menos de nueve meses! Este video desarrolla el primer trimestre del embarazo y también habla sobre los cambios del bebé durante su desarrollo.
URL:https://772foryou.org/classes/su-primer-trimestre-11/
END:VEVENT
BEGIN:VEVENT
DTSTART;TZID=America/New_York:20240108T133000
DTEND;TZID=America/New_York:20240108T143000
DTSTAMP:20260420T054648
CREATED:20231205T215755Z
LAST-MODIFIED:20231205T215755Z
UID:10005752-1704720600-1704724200@772foryou.org
SUMMARY:Your First Trimester
DESCRIPTION:You’re pregnant\, and you’re wondering\, now what? There is a lot to know about pregnancy\, your changing body\, and your developing baby. So much happens in that first trimester! You will experience changes in your body\, your emotions\, and your lifestyle. Your baby also goes through a lot of growth\, developing into the little person you soon will see in less than nine months! This video takes a look at pregnancy in the first trimester and also talks about your baby’s journey in development.
URL:https://772foryou.org/classes/your-first-trimester-11/
END:VEVENT
BEGIN:VEVENT
DTSTART;TZID=America/New_York:20240108T150000
DTEND;TZID=America/New_York:20240108T160000
DTSTAMP:20260420T054648
CREATED:20231205T221544Z
LAST-MODIFIED:20231205T221544Z
UID:10005753-1704726000-1704729600@772foryou.org
SUMMARY:1st Trimester Expectations
DESCRIPTION:Pregnancy is a unique nine-month experience. First-Trimester Expectations introduces three couples as they figure out how their unplanned pregnancies fit into their lives. You are invited to journey with Mariah and Tyler\, Laila and Joseph\, and Mikayla and Kyle as they share their first-trimester experiences in their own words. Topics include: Mariah • Tyler • Laila • Joseph • Mikayla • Kyle • worries • symptoms • medical concerns • moods • worries.
URL:https://772foryou.org/classes/1st-trimester-expectations-2/
END:VEVENT
BEGIN:VEVENT
DTSTART;TZID=America/New_York:20240109T110000
DTEND;TZID=America/New_York:20240109T120000
DTSTAMP:20260420T054648
CREATED:20231205T222605Z
LAST-MODIFIED:20231205T222605Z
UID:10005754-1704798000-1704801600@772foryou.org
SUMMARY:Reanimación  Cardiopulmonar  (RCP)
DESCRIPTION:Este video instruye a los padres o cualquier persona a cargo de un infante\, en cómo actuar en caso de asfixia y procedimientos de resucitación cardiopulmonar en bebés si tuvieran una emergencia respiratoria o cardíaca. Esto no reemplaza una clase acreditada de RCP\, este video familiarizará a las personas en estos importantes pasos para salvar la vida.
URL:https://772foryou.org/classes/reanimacion-cardiopulmonar-rcp/
END:VEVENT
BEGIN:VEVENT
DTSTART;TZID=America/New_York:20240109T173000
DTEND;TZID=America/New_York:20240109T183000
DTSTAMP:20260420T054648
CREATED:20231205T223246Z
LAST-MODIFIED:20231205T223246Z
UID:10005755-1704821400-1704825000@772foryou.org
SUMMARY:After Abortion-Support Group
DESCRIPTION:Led by Tiffany\, experienced client advocate and ultrasound tech\, this group will walk you through the “6 keys of healing” after abortion experiences.  Whether that has been less than a few weeks or it has been decades since you experienced abortion\, Tiffany understands how you feel and is here to confidentially offer you a path towards healing.
URL:https://772foryou.org/classes/after-abortion-support-group-11/
END:VEVENT
BEGIN:VEVENT
DTSTART;TZID=America/New_York:20240109T173000
DTEND;TZID=America/New_York:20240109T190000
DTSTAMP:20260420T054648
CREATED:20231205T224107Z
LAST-MODIFIED:20231218T170524Z
UID:10005756-1704821400-1704826800@772foryou.org
SUMMARY:Healthy Start-Señales de Parto y el Proceso de Nacimiento
DESCRIPTION:HAblemos de los signos del trabajo de parto y del nacimiento de su bebé! La planificación y preparación para el gran dia aliviaran la ansiedad y contribuirán que la experiencia del parto sea mas positiva. Destacaremos el importante papel de una persona de apoyo\, practicaremos la respiración y mas! Se anima a las personas de apoyo a asistir!
URL:https://772foryou.org/classes/healthy-start-senales-de-parto-y-el-proceso-de-nacimiento-6/
END:VEVENT
BEGIN:VEVENT
DTSTART;TZID=America/New_York:20240110T103000
DTEND;TZID=America/New_York:20240110T113000
DTSTAMP:20260420T054648
CREATED:20231205T224427Z
LAST-MODIFIED:20231205T224427Z
UID:10005757-1704882600-1704886200@772foryou.org
SUMMARY:Sindrome Del Bebe Sacudido
DESCRIPTION:Has visto historias en las noticias de bebés que los han sacudido y luego han muerto por las lesiones. Muchas pensamos\, ¡”Yo nunca haría eso!”. Muy pocas personas lastimarían a un bebé a propósito\, pero cuando llegas al límite\, las acciones se tornan caóticas y extremas y\, desafortunadamente\, algunos bebés terminan siendo sacudidos de manera violenta.­ Aprende los tres factores de protección necesarios para ti y tu bebé y qué hacer si la situación llega demasiado lejos.
URL:https://772foryou.org/classes/sindrome-del-bebe-sacudido/
END:VEVENT
BEGIN:VEVENT
DTSTART;TZID=America/New_York:20240110T123000
DTEND;TZID=America/New_York:20240110T133000
DTSTAMP:20260420T054648
CREATED:20231205T224722Z
LAST-MODIFIED:20231205T224722Z
UID:10005758-1704889800-1704893400@772foryou.org
SUMMARY:Shaken Baby Syndrome
DESCRIPTION:You’ve seen the stories in the news of babies who’ve been violently shaken and then died from their injuries. Most of us think\, “Not me! I would never do that!” There are very few people who set out to hurt a baby. But when you are at your wits end\, actions can become chaotic and extreme\, and sadly\, sometimes end with a baby being shaken violently. Learn the three things you need to do to protect your baby and yourself\, and what to do if things go too far.
URL:https://772foryou.org/classes/shaken-baby-syndrome/
END:VEVENT
BEGIN:VEVENT
DTSTART;TZID=America/New_York:20240110T140000
DTEND;TZID=America/New_York:20240110T150000
DTSTAMP:20260420T054648
CREATED:20231205T225243Z
LAST-MODIFIED:20231205T225243Z
UID:10005759-1704895200-1704898800@772foryou.org
SUMMARY:Your Ultrasound  Appointment
DESCRIPTION:Getting to see your unborn baby on an ultrasound is an exciting and special event for any parent. It’s like unwrapping a wonderful gift as the scanner zooms in on your baby moving and bouncing around in your womb. But\, as exciting as it is to see the baby\, there is more to an obstetric ultrasound than just a thrill for the parents. Medical providers are also able to track the development\, growth\, due date\, and overall health of an unborn baby. This video will discuss what to expect at an ultrasound appointment and give an incredible glimpse of your unborn baby’s world. Topics include: sound waves • transvaginal • transabdominal • 2D • 3D • gestational sac • ectopic • genetic disorder • nuchal translucency
URL:https://772foryou.org/classes/your-ultrasound-appointment/
END:VEVENT
BEGIN:VEVENT
DTSTART;TZID=America/New_York:20240111T130000
DTEND;TZID=America/New_York:20240111T143000
DTSTAMP:20260420T054648
CREATED:20231205T211821Z
LAST-MODIFIED:20240417T181747Z
UID:10005745-1704978000-1704983400@772foryou.org
SUMMARY:Healthy Start Moms Group-Village Of Support
DESCRIPTION:Free support group for expectant and current mothers every Thursday of the month from 1:00 pm to 2:30 pm. Takes place at a Caring Center for Women.
URL:https://772foryou.org/classes/healthy-start-moms-group-village-of-support-24-2024-01-11/
END:VEVENT
BEGIN:VEVENT
DTSTART;TZID=America/New_York:20240111T170000
DTEND;TZID=America/New_York:20240111T180000
DTSTAMP:20260420T054648
CREATED:20231205T232203Z
LAST-MODIFIED:20231205T232203Z
UID:10005761-1704992400-1704996000@772foryou.org
SUMMARY:The Five Love Languages
DESCRIPTION:The #1 job of parents is to meet their child’s need for Love. A child with full love tank = a healthy\, emotionally stable child.
URL:https://772foryou.org/classes/the-five-love-languages/
END:VEVENT
BEGIN:VEVENT
DTSTART;TZID=America/New_York:20240112T130000
DTEND;TZID=America/New_York:20240112T140000
DTSTAMP:20260420T054648
CREATED:20231206T150931Z
LAST-MODIFIED:20231206T152200Z
UID:10005763-1705064400-1705068000@772foryou.org
SUMMARY:First Time Moms (After Pregnancy)
DESCRIPTION:Led by Karina\, this support group combines the best of both worlds of education and emotional wellness. Participants will be journaling on prompts together\, working through a pregnancy milestone log book and learning together as a First Time Moms. This is a support group with an educational emphasis on self care\, Karina will be making healthy snacks that are easy to make and tolerable for expectant moms! All supplies will be provided. \n***Please call the center to RSVP\, limited seating-772-257-5390***
URL:https://772foryou.org/classes/first-time-moms-after-pregnancy-11/
END:VEVENT
BEGIN:VEVENT
DTSTART;TZID=America/New_York:20240115T110000
DTEND;TZID=America/New_York:20240115T120000
DTSTAMP:20260420T054648
CREATED:20231206T154614Z
LAST-MODIFIED:20231206T154614Z
UID:10005764-1705316400-1705320000@772foryou.org
SUMMARY:Su Segundo Trimestre
DESCRIPTION:El primer trimestre quedó atrás y ahora seguramente ya te sientes mejor. Puede que las náuseas matutinas hayan disminuido y que ahora pienses que ya tienes todo bajo control. El bebé está creciendo rápidamente y es probable que ya tengas una incipiente pancita de embarazada. ¡El segundo trimestre suele ser el periodo más cómodo del embarazo! A pesar de que todavía no sientes ni ves mucho de lo que sucede en tu vientre\, hay bastantes procesos que se están llevando a cabo. En este video\, hablaremos sobre los cambios en tu cuerpo\, el camino del desarrollo del bebé y lo que sucederá en el segundo trimestre.
URL:https://772foryou.org/classes/su-segundo-trimestre-12/
END:VEVENT
BEGIN:VEVENT
DTSTART;TZID=America/New_York:20240115T133000
DTEND;TZID=America/New_York:20240115T143000
DTSTAMP:20260420T054648
CREATED:20231206T154824Z
LAST-MODIFIED:20231206T154824Z
UID:10005765-1705325400-1705329000@772foryou.org
SUMMARY:Your Second Trimester
DESCRIPTION:Your first trimester is now behind you and you are likely feeling better. Morning sickness may have eased up and you may be thinking\, “I’ve got this!” Your baby is growing rapidly\, and you might even be starting to sport a cute little baby bump. The second trimester is often the most comfortable time for a pregnant mom! While you still may not be feeling or seeing much yet\, there is a lot going on in your womb. In this video we’ll talk about how your body is changing\, your baby’s journey in development\, and what you can expect in your second trimester. ©
URL:https://772foryou.org/classes/your-second-trimester-12/
END:VEVENT
BEGIN:VEVENT
DTSTART;TZID=America/New_York:20240115T150000
DTEND;TZID=America/New_York:20240115T160000
DTSTAMP:20260420T054648
CREATED:20231206T155041Z
LAST-MODIFIED:20231206T155041Z
UID:10005766-1705330800-1705334400@772foryou.org
SUMMARY:2nd Trimester Expectations
DESCRIPTION:Pregnancy is a unique nine-month experience. Second-Trimester Expectations continues with the stories of Mariah and Tyler\, Laila and Joseph\, and Mikayla and Kyle as they experience their pregnancies in their own unique life situations. You are invited to be a part of their stories as you journey with them and gain new insight about pregnancy from these real-life perspectives. Topics Include: Mariah • Tyler • Laila • Joseph • Mikayla • Kyle • worries • symptoms • medical concerns • moods • worries.
URL:https://772foryou.org/classes/2nd-trimester-expectations-3/
END:VEVENT
BEGIN:VEVENT
DTSTART;TZID=America/New_York:20240116T110000
DTEND;TZID=America/New_York:20240116T120000
DTSTAMP:20260420T054648
CREATED:20231206T155327Z
LAST-MODIFIED:20231206T155327Z
UID:10005767-1705402800-1705406400@772foryou.org
SUMMARY:I Can Do It Myself!
DESCRIPTION:Independent toddlers are sometimes talked about in a negative way. The truth\, however\, is that a spirit of independence is a good thing for them to have—but sometimes it comes out in difficult ways. In this video\, we talk about how you can create a home that allows your toddler to develop the four important qualities they’ll need for independence. And we’ll talk about how you can nurture a spirit of independence in your child. Topics include: • toddler • encouragement • confidence • motivation • resilience • courage • independence • “I can do it myself!”
URL:https://772foryou.org/classes/i-can-do-it-myself/
END:VEVENT
BEGIN:VEVENT
DTSTART;TZID=America/New_York:20240116T130000
DTEND;TZID=America/New_York:20240116T140000
DTSTAMP:20260420T054648
CREATED:20231206T155603Z
LAST-MODIFIED:20231206T155603Z
UID:10005768-1705410000-1705413600@772foryou.org
SUMMARY:Nutrition Food Bank
DESCRIPTION:
URL:https://772foryou.org/classes/nutrition-food-bank-3/
END:VEVENT
BEGIN:VEVENT
DTSTART;TZID=America/New_York:20240116T173000
DTEND;TZID=America/New_York:20240116T183000
DTSTAMP:20260420T054648
CREATED:20231206T160245Z
LAST-MODIFIED:20231206T160245Z
UID:10005769-1705426200-1705429800@772foryou.org
SUMMARY:Pregnancy Loss  Support Group
DESCRIPTION:The goal of this group is to provide a safe and supportive space for those who have experienced the loss of a pregnancy\, either though a miscarriage or stillbirth. Attendees are welcome to share their stories\, feelings and fears with other who have been through similar experiences and and in doing so\,can feel less alone and more understood as they move forward in their healing process. This group is led by client advocate\, Erin.
URL:https://772foryou.org/classes/pregnancy-loss-support-group-13/
END:VEVENT
END:VCALENDAR