BEGIN:VCALENDAR
VERSION:2.0
PRODID:-//A Caring Center For Women - ECPv6.15.20//NONSGML v1.0//EN
CALSCALE:GREGORIAN
METHOD:PUBLISH
X-ORIGINAL-URL:https://772foryou.org
X-WR-CALDESC:Events for A Caring Center For Women
REFRESH-INTERVAL;VALUE=DURATION:PT1H
X-Robots-Tag:noindex
X-PUBLISHED-TTL:PT1H
BEGIN:VTIMEZONE
TZID:America/New_York
BEGIN:DAYLIGHT
TZOFFSETFROM:-0500
TZOFFSETTO:-0400
TZNAME:EDT
DTSTART:20220313T070000
END:DAYLIGHT
BEGIN:STANDARD
TZOFFSETFROM:-0400
TZOFFSETTO:-0500
TZNAME:EST
DTSTART:20221106T060000
END:STANDARD
BEGIN:DAYLIGHT
TZOFFSETFROM:-0500
TZOFFSETTO:-0400
TZNAME:EDT
DTSTART:20230312T070000
END:DAYLIGHT
BEGIN:STANDARD
TZOFFSETFROM:-0400
TZOFFSETTO:-0500
TZNAME:EST
DTSTART:20231105T060000
END:STANDARD
BEGIN:DAYLIGHT
TZOFFSETFROM:-0500
TZOFFSETTO:-0400
TZNAME:EDT
DTSTART:20240310T070000
END:DAYLIGHT
BEGIN:STANDARD
TZOFFSETFROM:-0400
TZOFFSETTO:-0500
TZNAME:EST
DTSTART:20241103T060000
END:STANDARD
END:VTIMEZONE
BEGIN:VEVENT
DTSTART;TZID=America/New_York:20231129T140000
DTEND;TZID=America/New_York:20231129T150000
DTSTAMP:20260420T085834
CREATED:20231019T203818Z
LAST-MODIFIED:20231019T203818Z
UID:10005680-1701266400-1701270000@772foryou.org
SUMMARY:Dunstan Baby Language Lessons 1 & 3
DESCRIPTION:Lesson 1:Covering the first three sounds and Priscilla’s story\, this lesson will help your clients understand their baby and the cries and sounds they make. Included topics in this lesson are: Priscilla’s story; a welcome; “neh” means “feed me”; “owh” means “I’m tired”; “eh” means “burp me.” \nLesson 3:In lesson three\, you will learn what the sounds “eairh” and “heh” mean. Dunstan Baby Language comes from Priscilla Dunstan\, who was born with the unusual gift of a photographic memory for sounds. Topics include: • Dunstan Baby Language • Priscilla Dunstan • baby words • listen to baby • “eairh” • “heh” • gas bubble pain • baby massage • diaper change • baby body temperature • uncomfortable baby.
URL:https://772foryou.org/classes/dunstan-baby-language-lessons-1-3/
END:VEVENT
END:VCALENDAR