BEGIN:VCALENDAR
VERSION:2.0
PRODID:-//A Caring Center For Women - ECPv6.15.20//NONSGML v1.0//EN
CALSCALE:GREGORIAN
METHOD:PUBLISH
X-WR-CALNAME:A Caring Center For Women
X-ORIGINAL-URL:https://772foryou.org
X-WR-CALDESC:Events for A Caring Center For Women
REFRESH-INTERVAL;VALUE=DURATION:PT1H
X-Robots-Tag:noindex
X-PUBLISHED-TTL:PT1H
BEGIN:VTIMEZONE
TZID:UTC
BEGIN:STANDARD
TZOFFSETFROM:+0000
TZOFFSETTO:+0000
TZNAME:UTC
DTSTART:20220101T000000
END:STANDARD
END:VTIMEZONE
BEGIN:VEVENT
DTSTART;TZID=UTC:20230316T103000
DTEND;TZID=UTC:20230316T123000
DTSTAMP:20260420T223138
CREATED:20230217T060152Z
LAST-MODIFIED:20230310T015116Z
UID:10005132-1678962600-1678969800@772foryou.org
SUMMARY:Sewing class/Clase De Costura
DESCRIPTION:Sewing class/Clase De Costura \nCome and enjoy two hours of learning how to sew and have fun.  Ages from 2 to 12 years old. Materials will be provided. Venga y disfrute de dos horas de aprendizaje de costura y pasar un buen rato agradable. Edades desde 2 hasta 12 años. Proveeremos los materiales. \nCome and enjoy a different day. \nVenga y tenga un dia diferente. \n(Limited spots call and reserve yours.) Cupo limitado\, llame para reservar el suyo.
URL:https://772foryou.org/classes/sewing-class-clase-de-costura-7/
END:VEVENT
END:VCALENDAR