BEGIN:VCALENDAR
VERSION:2.0
PRODID:-//A Caring Center For Women - ECPv6.15.20//NONSGML v1.0//EN
CALSCALE:GREGORIAN
METHOD:PUBLISH
X-ORIGINAL-URL:https://772foryou.org
X-WR-CALDESC:Events for A Caring Center For Women
REFRESH-INTERVAL;VALUE=DURATION:PT1H
X-Robots-Tag:noindex
X-PUBLISHED-TTL:PT1H
BEGIN:VTIMEZONE
TZID:UTC
BEGIN:STANDARD
TZOFFSETFROM:+0000
TZOFFSETTO:+0000
TZNAME:UTC
DTSTART:20220101T000000
END:STANDARD
END:VTIMEZONE
BEGIN:VEVENT
DTSTART;TZID=UTC:20230203T103000
DTEND;TZID=UTC:20230203T113000
DTSTAMP:20260421T001444
CREATED:20230117T215443Z
LAST-MODIFIED:20230117T215621Z
UID:10005045-1675420200-1675423800@772foryou.org
SUMMARY:Mommy & Me
DESCRIPTION:Mommy & Me \nCome join us with your toddler\, we will have crafts and activities.
URL:https://772foryou.org/classes/mommy-me-6/
END:VEVENT
BEGIN:VEVENT
DTSTART;TZID=UTC:20230221T143000
DTEND;TZID=UTC:20230221T153000
DTSTAMP:20260421T001444
CREATED:20230124T001738Z
LAST-MODIFIED:20230124T001743Z
UID:10005077-1676989800-1676993400@772foryou.org
SUMMARY:Infant & Child CPR
DESCRIPTION:Infant & Child CPR \nThis video instructs parents or caregivers on how to perform choking and CPR procedures on a baby if they have a breathing or cardiac emergency. While this does not replace an accredited CPR class\, this video will familiarize a person on these important lifesaving steps. Topics include: • third trimester • after birth • cardiopulmonary resuscitation • breathing • choking • CPR • compressions • CAB • blood circulation • airway • emergency • unresponsive.
URL:https://772foryou.org/classes/infant-child-cpr/
END:VEVENT
END:VCALENDAR