BEGIN:VCALENDAR
VERSION:2.0
PRODID:-//A Caring Center For Women - ECPv6.15.20//NONSGML v1.0//EN
CALSCALE:GREGORIAN
METHOD:PUBLISH
X-ORIGINAL-URL:https://772foryou.org
X-WR-CALDESC:Events for A Caring Center For Women
REFRESH-INTERVAL;VALUE=DURATION:PT1H
X-Robots-Tag:noindex
X-PUBLISHED-TTL:PT1H
BEGIN:VTIMEZONE
TZID:UTC
BEGIN:STANDARD
TZOFFSETFROM:+0000
TZOFFSETTO:+0000
TZNAME:UTC
DTSTART:20220101T000000
END:STANDARD
END:VTIMEZONE
BEGIN:VEVENT
DTSTART;TZID=UTC:20230106T103000
DTEND;TZID=UTC:20230106T113000
DTSTAMP:20260421T014949
CREATED:20221208T230537Z
LAST-MODIFIED:20251118T194918Z
UID:10004980-1673001000-1673004600@772foryou.org
SUMMARY:Mommy & Me-Kindermusik
DESCRIPTION:Mommy & Me-Kindermusik Ages 0-5/Edades 0-5 \nBoost Development & Movement with Music
URL:https://772foryou.org/classes/mommy-me-6-kindermusik/
END:VEVENT
END:VCALENDAR